Back to Multiple platform build/check report for BioC 3.22:   simplified   long
AB[C]DEFGHIJKLMNOPQRSTUVWXYZ

This page was generated on 2025-09-22 12:03 -0400 (Mon, 22 Sep 2025).

HostnameOSArch (*)R versionInstalled pkgs
nebbiolo2Linux (Ubuntu 24.04.3 LTS)x86_644.5.1 Patched (2025-08-23 r88802) -- "Great Square Root" 4814
lconwaymacOS 12.7.1 Montereyx86_644.5.1 Patched (2025-09-10 r88807) -- "Great Square Root" 4603
kjohnson3macOS 13.7.7 Venturaarm644.5.1 Patched (2025-09-10 r88807) -- "Great Square Root" 4547
taishanLinux (openEuler 24.03 LTS)aarch644.5.0 (2025-04-11) -- "How About a Twenty-Six" 4553
Click on any hostname to see more info about the system (e.g. compilers)      (*) as reported by 'uname -p', except on Windows and Mac OS X

Package 371/2333HostnameOS / ArchINSTALLBUILDCHECKBUILD BIN
clippda 1.59.0  (landing page)
Stephen Nyangoma
Snapshot Date: 2025-09-21 13:45 -0400 (Sun, 21 Sep 2025)
git_url: https://git.bioconductor.org/packages/clippda
git_branch: devel
git_last_commit: 67ae34e
git_last_commit_date: 2025-04-15 09:45:42 -0400 (Tue, 15 Apr 2025)
nebbiolo2Linux (Ubuntu 24.04.3 LTS) / x86_64  OK    OK    OK  UNNEEDED, same version is already published
lconwaymacOS 12.7.1 Monterey / x86_64  OK    OK    OK    OK  UNNEEDED, same version is already published
kjohnson3macOS 13.7.7 Ventura / arm64  OK    OK    OK    OK  UNNEEDED, same version is already published
taishanLinux (openEuler 24.03 LTS) / aarch64  OK    OK    OK  


CHECK results for clippda on nebbiolo2

To the developers/maintainers of the clippda package:
- Allow up to 24 hours (and sometimes 48 hours) for your latest push to git@git.bioconductor.org:packages/clippda.git to reflect on this report. See Troubleshooting Build Report for more information.
- Use the following Renviron settings to reproduce errors and warnings.
- If 'R CMD check' started to fail recently on the Linux builder(s) over a missing dependency, add the missing dependency to 'Suggests:' in your DESCRIPTION file. See Renviron.bioc for more information.

raw results


Summary

Package: clippda
Version: 1.59.0
Command: /home/biocbuild/bbs-3.22-bioc/R/bin/R CMD check --install=check:clippda.install-out.txt --library=/home/biocbuild/bbs-3.22-bioc/R/site-library --timings clippda_1.59.0.tar.gz
StartedAt: 2025-09-21 22:10:08 -0400 (Sun, 21 Sep 2025)
EndedAt: 2025-09-21 22:14:36 -0400 (Sun, 21 Sep 2025)
EllapsedTime: 268.3 seconds
RetCode: 0
Status:   OK  
CheckDir: clippda.Rcheck
Warnings: 0

Command output

##############################################################################
##############################################################################
###
### Running command:
###
###   /home/biocbuild/bbs-3.22-bioc/R/bin/R CMD check --install=check:clippda.install-out.txt --library=/home/biocbuild/bbs-3.22-bioc/R/site-library --timings clippda_1.59.0.tar.gz
###
##############################################################################
##############################################################################


* using log directory ‘/home/biocbuild/bbs-3.22-bioc/meat/clippda.Rcheck’
* using R version 4.5.1 Patched (2025-08-23 r88802)
* using platform: x86_64-pc-linux-gnu
* R was compiled by
    gcc (Ubuntu 13.3.0-6ubuntu2~24.04) 13.3.0
    GNU Fortran (Ubuntu 13.3.0-6ubuntu2~24.04) 13.3.0
* running under: Ubuntu 24.04.3 LTS
* using session charset: UTF-8
* checking for file ‘clippda/DESCRIPTION’ ... OK
* this is package ‘clippda’ version ‘1.59.0’
* checking package namespace information ... NOTE
  Namespaces with empty importFrom:
  ‘Biobase’ ‘tools’
* checking package dependencies ... INFO
Depends: includes the non-default packages:
  'limma', 'statmod', 'rgl', 'lattice', 'scatterplot3d', 'Biobase',
  'tools'
Adding so many packages to the search path is excessive and importing
selectively is preferable.
* checking if this is a source package ... OK
* checking if there is a namespace ... OK
* checking for hidden files and directories ... OK
* checking for portable file names ... OK
* checking for sufficient/correct file permissions ... OK
* checking whether package ‘clippda’ can be installed ... OK
* checking installed package size ... OK
* checking package directory ... OK
* checking ‘build’ directory ... OK
* checking DESCRIPTION meta-information ... OK
* checking top-level files ... OK
* checking for left-over files ... OK
* checking index information ... OK
* checking package subdirectories ... OK
* checking code files for non-ASCII characters ... OK
* checking R files for syntax errors ... OK
* checking whether the package can be loaded ... OK
* checking whether the package can be loaded with stated dependencies ... OK
* checking whether the package can be unloaded cleanly ... OK
* checking whether the namespace can be loaded with stated dependencies ... OK
* checking whether the namespace can be unloaded cleanly ... OK
* checking loading without being on the library search path ... OK
* checking dependencies in R code ... NOTE
'library' or 'require' calls to packages already attached by Depends:
  ‘lattice’ ‘limma’ ‘rgl’ ‘scatterplot3d’ ‘statmod’
  Please remove these calls from your code.
Packages in Depends field not imported from:
  ‘lattice’ ‘rgl’
  These packages need to be imported from (in the NAMESPACE file)
  for when this namespace is loaded but not attached.
* checking S3 generic/method consistency ... OK
* checking replacement functions ... OK
* checking foreign function calls ... OK
* checking R code for possible problems ... NOTE
ZvaluescasesVcontrolsPlots: no visible global function definition for
  ‘lines’
ZvaluescasesVcontrolsPlots: no visible global function definition for
  ‘legend’
ZvaluesfrommultinomPlots: no visible global function definition for
  ‘rmultinom’
ZvaluesfrommultinomPlots: no visible global function definition for
  ‘density’
ZvaluesfrommultinomPlots: no visible global function definition for
  ‘lines’
ZvaluesfrommultinomPlots: no visible global function definition for
  ‘legend’
ZvaluesfrommultinomPlots: no visible global function definition for
  ‘cloud’
ZvaluesfrommultinomPlots: no visible global function definition for
  ‘var’
Undefined global functions or variables:
  cloud density legend lines rmultinom var
Consider adding
  importFrom("graphics", "legend", "lines")
  importFrom("stats", "density", "rmultinom", "var")
to your NAMESPACE file.
* checking Rd files ... NOTE
checkRd: (-1) show-methods.Rd:11-18: Lost braces
    11 | {object = "aclinicalProteomicsData"}{
       |                                     ^
* checking Rd metadata ... OK
* checking Rd cross-references ... OK
* checking for missing documentation entries ... OK
* checking for code/documentation mismatches ... OK
* checking Rd \usage sections ... OK
* checking Rd contents ... OK
* checking for unstated dependencies in examples ... OK
* checking contents of ‘data’ directory ... OK
* checking data for non-ASCII characters ... OK
* checking data for ASCII and uncompressed saves ... OK
* checking files in ‘vignettes’ ... OK
* checking examples ... OK
Examples with CPU (user + system) or elapsed time > 5s
                           user system elapsed
clippda-package          73.165  0.363  73.531
sampleSize               44.592  0.093  44.739
sampleSizeParameters     22.039  0.038  22.077
sample_technicalVariance  6.301  0.007   6.308
* checking for unstated dependencies in vignettes ... OK
* checking package vignettes ... OK
* checking re-building of vignette outputs ... OK
* checking PDF version of manual ... OK
* DONE

Status: 4 NOTEs
See
  ‘/home/biocbuild/bbs-3.22-bioc/meat/clippda.Rcheck/00check.log’
for details.


Installation output

clippda.Rcheck/00install.out

##############################################################################
##############################################################################
###
### Running command:
###
###   /home/biocbuild/bbs-3.22-bioc/R/bin/R CMD INSTALL clippda
###
##############################################################################
##############################################################################


* installing to library ‘/home/biocbuild/bbs-3.22-bioc/R/site-library’
* installing *source* package ‘clippda’ ...
** this is package ‘clippda’ version ‘1.59.0’
** using staged installation
** R
** data
** inst
** byte-compile and prepare package for lazy loading
** help
*** installing help indices
** building package indices
** installing vignettes
** testing if installed package can be loaded from temporary location
** testing if installed package can be loaded from final location
** testing if installed package keeps a record of temporary installation path
* DONE (clippda)

Tests output


Example timings

clippda.Rcheck/clippda-Ex.timings

nameusersystemelapsed
ZvaluescasesVcontrolsPlots0.0090.0000.010
ZvaluesfrommultinomPlots1.0340.0381.071
aclinicalProteomicsData-class0.0410.0010.041
aclinicalProteomicsData-methods0.1360.0570.193
betweensampleVariance0.9430.0250.969
checkNo.replicates0.0620.0020.064
clippda-package73.165 0.36373.531
f0.0000.0000.001
fisherInformation0.0470.0010.048
liverRawData0.0040.0000.004
liver_pheno0.0020.0000.001
liverdata1.0800.0061.086
mostSimilarTwo0.0020.0000.001
negativeIntensitiesCorrection0.2180.0020.220
phenoDataFrame0.0420.0000.042
pheno_urine0.0010.0000.001
preProcRepeatedPeakData0.8670.0000.867
proteomicsExprsData0.0840.0020.086
proteomicspData0.0370.0010.038
replicateCorrelations3.9380.0043.941
sampleClusteredData0.2140.0000.214
sampleSize44.592 0.09344.739
sampleSize3DscatterPlots0.0150.0000.016
sampleSizeContourPlots0.0220.0000.022
sampleSizeParameters22.039 0.03822.077
sample_technicalVariance6.3010.0076.308
spectrumFilter0.9010.0030.904
ztwo000