Back to Multiple platform build/check report for BioC 3.22: simplified long |
|
This page was generated on 2025-10-18 12:04 -0400 (Sat, 18 Oct 2025).
Hostname | OS | Arch (*) | R version | Installed pkgs |
---|---|---|---|---|
nebbiolo2 | Linux (Ubuntu 24.04.3 LTS) | x86_64 | 4.5.1 Patched (2025-08-23 r88802) -- "Great Square Root" | 4887 |
lconway | macOS 12.7.6 Monterey | x86_64 | 4.5.1 Patched (2025-09-10 r88807) -- "Great Square Root" | 4677 |
kjohnson3 | macOS 13.7.7 Ventura | arm64 | 4.5.1 Patched (2025-09-10 r88807) -- "Great Square Root" | 4622 |
taishan | Linux (openEuler 24.03 LTS) | aarch64 | 4.5.0 (2025-04-11) -- "How About a Twenty-Six" | 4632 |
Click on any hostname to see more info about the system (e.g. compilers) (*) as reported by 'uname -p', except on Windows and Mac OS X |
Package 2041/2353 | Hostname | OS / Arch | INSTALL | BUILD | CHECK | BUILD BIN | ||||||||
SmartPhos 0.99.30 (landing page) Shubham Agrawal
| nebbiolo2 | Linux (Ubuntu 24.04.3 LTS) / x86_64 | OK | OK | OK | ![]() | ||||||||
lconway | macOS 12.7.6 Monterey / x86_64 | OK | OK | OK | OK | ![]() | ||||||||
kjohnson3 | macOS 13.7.7 Ventura / arm64 | OK | OK | OK | OK | ![]() | ||||||||
taishan | Linux (openEuler 24.03 LTS) / aarch64 | OK | OK | OK | ||||||||||
To the developers/maintainers of the SmartPhos package: - Allow up to 24 hours (and sometimes 48 hours) for your latest push to git@git.bioconductor.org:packages/SmartPhos.git to reflect on this report. See Troubleshooting Build Report for more information. - Use the following Renviron settings to reproduce errors and warnings. - If 'R CMD check' started to fail recently on the Linux builder(s) over a missing dependency, add the missing dependency to 'Suggests:' in your DESCRIPTION file. See Renviron.bioc for more information. |
Package: SmartPhos |
Version: 0.99.30 |
Command: /home/biocbuild/bbs-3.22-bioc/R/bin/R CMD check --install=check:SmartPhos.install-out.txt --library=/home/biocbuild/bbs-3.22-bioc/R/site-library --timings SmartPhos_0.99.30.tar.gz |
StartedAt: 2025-10-18 04:54:15 -0400 (Sat, 18 Oct 2025) |
EndedAt: 2025-10-18 05:00:20 -0400 (Sat, 18 Oct 2025) |
EllapsedTime: 365.3 seconds |
RetCode: 0 |
Status: OK |
CheckDir: SmartPhos.Rcheck |
Warnings: 0 |
############################################################################## ############################################################################## ### ### Running command: ### ### /home/biocbuild/bbs-3.22-bioc/R/bin/R CMD check --install=check:SmartPhos.install-out.txt --library=/home/biocbuild/bbs-3.22-bioc/R/site-library --timings SmartPhos_0.99.30.tar.gz ### ############################################################################## ############################################################################## * using log directory ‘/home/biocbuild/bbs-3.22-bioc/meat/SmartPhos.Rcheck’ * using R version 4.5.1 Patched (2025-08-23 r88802) * using platform: x86_64-pc-linux-gnu * R was compiled by gcc (Ubuntu 13.3.0-6ubuntu2~24.04) 13.3.0 GNU Fortran (Ubuntu 13.3.0-6ubuntu2~24.04) 13.3.0 * running under: Ubuntu 24.04.3 LTS * using session charset: UTF-8 * checking for file ‘SmartPhos/DESCRIPTION’ ... OK * checking extension type ... Package * this is package ‘SmartPhos’ version ‘0.99.30’ * package encoding: UTF-8 * checking package namespace information ... OK * checking package dependencies ... INFO Imports includes 36 non-default packages. Importing from so many packages makes the package vulnerable to any of them becoming unavailable. Move as many as possible to Suggests and use conditionally. * checking if this is a source package ... OK * checking if there is a namespace ... OK * checking for hidden files and directories ... OK * checking for portable file names ... OK * checking for sufficient/correct file permissions ... OK * checking whether package ‘SmartPhos’ can be installed ... OK * checking installed package size ... INFO installed size is 7.1Mb sub-directories of 1Mb or more: data 1.3Mb shiny-app 5.4Mb * checking package directory ... OK * checking ‘build’ directory ... OK * checking DESCRIPTION meta-information ... OK * checking top-level files ... OK * checking for left-over files ... OK * checking index information ... OK * checking package subdirectories ... OK * checking code files for non-ASCII characters ... OK * checking R files for syntax errors ... OK * checking whether the package can be loaded ... OK * checking whether the package can be loaded with stated dependencies ... OK * checking whether the package can be unloaded cleanly ... OK * checking whether the namespace can be loaded with stated dependencies ... OK * checking whether the namespace can be unloaded cleanly ... OK * checking loading without being on the library search path ... OK * checking dependencies in R code ... NOTE Namespaces in Imports field not imported from: ‘DT’ ‘XML’ ‘cowplot’ ‘factoextra’ ‘ggbeeswarm’ ‘grid’ ‘plotly’ ‘shinyBS’ ‘shinyWidgets’ ‘shinyjs’ ‘shinythemes’ ‘tools’ All declared Imports should be used. * checking S3 generic/method consistency ... OK * checking replacement functions ... OK * checking foreign function calls ... OK * checking R code for possible problems ... NOTE runFisher: no visible binding for global variable ‘signature’ runGSEAforPhospho: no visible binding for global variable ‘signature’ Undefined global functions or variables: signature Consider adding importFrom("methods", "signature") to your NAMESPACE file (and ensure that your DESCRIPTION Imports field contains 'methods'). * checking Rd files ... OK * checking Rd metadata ... OK * checking Rd cross-references ... OK * checking for missing documentation entries ... OK * checking for code/documentation mismatches ... OK * checking Rd \usage sections ... OK * checking Rd contents ... OK * checking for unstated dependencies in examples ... OK * checking contents of ‘data’ directory ... OK * checking data for non-ASCII characters ... OK * checking data for ASCII and uncompressed saves ... OK * checking files in ‘vignettes’ ... OK * checking examples ... OK * checking for unstated dependencies in ‘tests’ ... OK * checking tests ... Running ‘testthat.R’ OK * checking for unstated dependencies in vignettes ... OK * checking package vignettes ... OK * checking re-building of vignette outputs ... OK * checking PDF version of manual ... OK * DONE Status: 2 NOTEs See ‘/home/biocbuild/bbs-3.22-bioc/meat/SmartPhos.Rcheck/00check.log’ for details.
SmartPhos.Rcheck/00install.out
############################################################################## ############################################################################## ### ### Running command: ### ### /home/biocbuild/bbs-3.22-bioc/R/bin/R CMD INSTALL SmartPhos ### ############################################################################## ############################################################################## * installing to library ‘/home/biocbuild/bbs-3.22-bioc/R/site-library’ * installing *source* package ‘SmartPhos’ ... ** this is package ‘SmartPhos’ version ‘0.99.30’ ** using staged installation ** R ** data ** inst ** byte-compile and prepare package for lazy loading ** help *** installing help indices ** building package indices ** installing vignettes ** testing if installed package can be loaded from temporary location ** testing if installed package can be loaded from final location ** testing if installed package keeps a record of temporary installation path * DONE (SmartPhos)
SmartPhos.Rcheck/tests/testthat.Rout
R version 4.5.1 Patched (2025-08-23 r88802) -- "Great Square Root" Copyright (C) 2025 The R Foundation for Statistical Computing Platform: x86_64-pc-linux-gnu R is free software and comes with ABSOLUTELY NO WARRANTY. You are welcome to redistribute it under certain conditions. Type 'license()' or 'licence()' for distribution details. R is a collaborative project with many contributors. Type 'contributors()' for more information and 'citation()' on how to cite R or R packages in publications. Type 'demo()' for some demos, 'help()' for on-line help, or 'help.start()' for an HTML browser interface to help. Type 'q()' to quit R. > # This file is part of the standard setup for testthat. > # It is recommended that you do not modify it. > # > # Where should you do additional test configuration? > # Learn more about the roles of various files in: > # * https://r-pkgs.org/testing-design.html#sec-tests-files-overview > # * https://testthat.r-lib.org/articles/special-files.html > > library(testthat) > library(SmartPhos) > > test_check("SmartPhos") harmonizing input: removing 5 sampleMap rows not in names(experiments) harmonizing input: removing 5 sampleMap rows not in names(experiments) Running gene set analysis: Checking arguments...done! Final gene/gene-set association: 20 genes and 22 gene sets Details: Calculating gene set statistics from 20 out of 65 gene-level statistics Removed 4366 genes from GSC due to lack of matching gene statistics Removed 28 gene sets containing no genes after gene removal Removed additionally 0 gene sets not matching the size limits Loaded additional information for 22 gene sets Calculating gene set statistics...done! Calculating gene set significance...done! Adjusting for multiple testing...done! Running gene set analysis: Checking arguments...done! Final gene/gene-set association: 20 genes and 22 gene sets Details: Calculating gene set statistics from 20 out of 65 gene-level statistics Removed 4366 genes from GSC due to lack of matching gene statistics Removed 28 gene sets containing no genes after gene removal Removed additionally 0 gene sets not matching the size limits Loaded additional information for 22 gene sets Calculating gene set statistics...done! Calculating gene set significance...done! Adjusting for multiple testing...done! Imputing along margin 2 (samples/columns). Imputing along margin 2 (samples/columns). New names: * `` -> `...1` * `` -> `...2` * `` -> `...3` [ FAIL 0 | WARN 0 | SKIP 0 | PASS 309 ] > > proc.time() user system elapsed 59.834 4.310 63.680
SmartPhos.Rcheck/SmartPhos-Ex.timings
name | user | system | elapsed | |
Homo_sapien_kinase_substrate_network | 0.066 | 0.000 | 0.067 | |
Mus_musculus_kinase_substrate_network | 0.048 | 0.001 | 0.050 | |
addZeroTime | 0.298 | 0.003 | 0.303 | |
calcKinaseScore | 0.705 | 0.044 | 0.749 | |
clusterEnrich | 1.029 | 0.023 | 1.054 | |
clusterTS | 0.980 | 0.018 | 0.999 | |
dda_example | 0.004 | 0.000 | 0.003 | |
dia_example | 0.006 | 0.000 | 0.006 | |
enrichDifferential | 0.436 | 0.017 | 0.455 | |
getDecouplerNetwork | 0.409 | 0.141 | 0.551 | |
getRatioMatrix | 0.709 | 0.009 | 0.720 | |
intensityBoxPlot | 1.343 | 0.067 | 1.411 | |
makeSmartPhosDirectory | 0.003 | 0.007 | 0.021 | |
medianNorm | 0.001 | 0.000 | 0.000 | |
mscale | 0.001 | 0.000 | 0.001 | |
normByFullProteome | 0.244 | 0.001 | 0.245 | |
performCombinedNormalization | 0.128 | 0.019 | 0.147 | |
performDifferentialExp | 0.280 | 0.005 | 0.285 | |
plotHeatmap | 0.362 | 0.003 | 0.365 | |
plotIntensity | 0.965 | 0.006 | 0.970 | |
plotKinaseDE | 0.343 | 0.001 | 0.343 | |
plotKinaseTimeSeries | 0.315 | 0.001 | 0.316 | |
plotLogRatio | 1.038 | 0.063 | 1.101 | |
plotMissing | 0.329 | 0.004 | 0.334 | |
plotPCA | 0.253 | 0.000 | 0.253 | |
plotTimeSeries | 0.484 | 0.003 | 0.487 | |
plotVolcano | 0.546 | 0.001 | 0.547 | |
preprocessPhos | 0.319 | 0.004 | 0.323 | |
preprocessProteome | 0.289 | 0.010 | 0.299 | |
readExperiment | 0.161 | 0.005 | 0.166 | |
readExperimentDIA | 3.095 | 0.385 | 3.359 | |
readPhosphoExperiment | 0.022 | 0.001 | 0.024 | |
readPhosphoExperimentDIA | 1.404 | 0.167 | 1.599 | |
readProteomeExperiment | 0.020 | 0.004 | 0.025 | |
readProteomeExperimentDIA | 1.444 | 0.395 | 1.806 | |
runFisher | 0.411 | 0.087 | 0.431 | |
runSmartPhos | 0 | 0 | 0 | |
swissProt | 0.227 | 0.010 | 0.237 | |