Back to Multiple platform build/check report for BioC 3.22:   simplified   long
ABC[D]EFGHIJKLMNOPQRSTUVWXYZ

This page was generated on 2025-10-28 12:02 -0400 (Tue, 28 Oct 2025).

HostnameOSArch (*)R versionInstalled pkgs
nebbiolo2Linux (Ubuntu 24.04.3 LTS)x86_644.5.1 Patched (2025-08-23 r88802) -- "Great Square Root" 4901
lconwaymacOS 12.7.6 Montereyx86_644.5.1 Patched (2025-09-10 r88807) -- "Great Square Root" 4691
kjohnson3macOS 13.7.7 Venturaarm644.5.1 Patched (2025-09-10 r88807) -- "Great Square Root" 4637
Click on any hostname to see more info about the system (e.g. compilers)      (*) as reported by 'uname -p', except on Windows and Mac OS X

Package 568/2361HostnameOS / ArchINSTALLBUILDCHECKBUILD BIN
DEqMS 1.27.1  (landing page)
Yafeng Zhu
Snapshot Date: 2025-10-27 13:45 -0400 (Mon, 27 Oct 2025)
git_url: https://git.bioconductor.org/packages/DEqMS
git_branch: devel
git_last_commit: 664a95f
git_last_commit_date: 2025-05-10 02:53:09 -0400 (Sat, 10 May 2025)
nebbiolo2Linux (Ubuntu 24.04.3 LTS) / x86_64  OK    OK    OK  UNNEEDED, same version is already published
lconwaymacOS 12.7.6 Monterey / x86_64  OK    OK    OK    OK  UNNEEDED, same version is already published
kjohnson3macOS 13.7.7 Ventura / arm64  OK    OK    OK    OK  UNNEEDED, same version is already published


CHECK results for DEqMS on nebbiolo2

To the developers/maintainers of the DEqMS package:
- Allow up to 24 hours (and sometimes 48 hours) for your latest push to git@git.bioconductor.org:packages/DEqMS.git to reflect on this report. See Troubleshooting Build Report for more information.
- Use the following Renviron settings to reproduce errors and warnings.
- If 'R CMD check' started to fail recently on the Linux builder(s) over a missing dependency, add the missing dependency to 'Suggests:' in your DESCRIPTION file. See Renviron.bioc for more information.

raw results


Summary

Package: DEqMS
Version: 1.27.1
Command: /home/biocbuild/bbs-3.22-bioc/R/bin/R CMD check --install=check:DEqMS.install-out.txt --library=/home/biocbuild/bbs-3.22-bioc/R/site-library --timings DEqMS_1.27.1.tar.gz
StartedAt: 2025-10-27 22:54:50 -0400 (Mon, 27 Oct 2025)
EndedAt: 2025-10-27 23:00:29 -0400 (Mon, 27 Oct 2025)
EllapsedTime: 339.2 seconds
RetCode: 0
Status:   OK  
CheckDir: DEqMS.Rcheck
Warnings: 0

Command output

##############################################################################
##############################################################################
###
### Running command:
###
###   /home/biocbuild/bbs-3.22-bioc/R/bin/R CMD check --install=check:DEqMS.install-out.txt --library=/home/biocbuild/bbs-3.22-bioc/R/site-library --timings DEqMS_1.27.1.tar.gz
###
##############################################################################
##############################################################################


* using log directory ‘/home/biocbuild/bbs-3.22-bioc/meat/DEqMS.Rcheck’
* using R version 4.5.1 Patched (2025-08-23 r88802)
* using platform: x86_64-pc-linux-gnu
* R was compiled by
    gcc (Ubuntu 13.3.0-6ubuntu2~24.04) 13.3.0
    GNU Fortran (Ubuntu 13.3.0-6ubuntu2~24.04) 13.3.0
* running under: Ubuntu 24.04.3 LTS
* using session charset: UTF-8
* checking for file ‘DEqMS/DESCRIPTION’ ... OK
* this is package ‘DEqMS’ version ‘1.27.1’
* checking package namespace information ... OK
* checking package dependencies ... OK
* checking if this is a source package ... OK
* checking if there is a namespace ... OK
* checking for hidden files and directories ... OK
* checking for portable file names ... OK
* checking for sufficient/correct file permissions ... OK
* checking whether package ‘DEqMS’ can be installed ... OK
* checking installed package size ... OK
* checking package directory ... OK
* checking ‘build’ directory ... OK
* checking DESCRIPTION meta-information ... NOTE
Malformed Title field: should not end in a period.
* checking top-level files ... OK
* checking for left-over files ... OK
* checking index information ... OK
* checking package subdirectories ... OK
* checking code files for non-ASCII characters ... OK
* checking R files for syntax errors ... OK
* checking whether the package can be loaded ... OK
* checking whether the package can be loaded with stated dependencies ... OK
* checking whether the package can be unloaded cleanly ... OK
* checking whether the namespace can be loaded with stated dependencies ... OK
* checking whether the namespace can be unloaded cleanly ... OK
* checking loading without being on the library search path ... OK
* checking dependencies in R code ... NOTE
Packages in Depends field not imported from:
  ‘dplyr’ ‘matrixStats’
  These packages need to be imported from (in the NAMESPACE file)
  for when this namespace is loaded but not attached.
* checking S3 generic/method consistency ... OK
* checking replacement functions ... OK
* checking foreign function calls ... OK
* checking R code for possible problems ... NOTE
Residualplot: no visible global function definition for ‘fitted’
Residualplot: no visible global function definition for ‘residuals’
VarianceScatterplot: no visible global function definition for ‘fitted’
peptideProfilePlot: no visible binding for global variable ‘variable’
peptideProfilePlot: no visible binding for global variable ‘value’
peptideProfilePlot: no visible binding for global variable ‘PSM_id’
peptideProfilePlot: no visible binding for global variable ‘Peptide’
spectraCounteBayes: no visible global function definition for ‘fitted’
Undefined global functions or variables:
  PSM_id Peptide fitted residuals value variable
Consider adding
  importFrom("stats", "fitted", "residuals")
to your NAMESPACE file.
* checking Rd files ... OK
* checking Rd metadata ... OK
* checking Rd cross-references ... OK
* checking for missing documentation entries ... OK
* checking for code/documentation mismatches ... OK
* checking Rd \usage sections ... OK
* checking Rd contents ... OK
* checking for unstated dependencies in examples ... OK
* checking files in ‘vignettes’ ... OK
* checking examples ... OK
Examples with CPU (user + system) or elapsed time > 5s
                      user system elapsed
medpolishSummary    50.843  0.268  51.114
Residualplot        11.140  1.130  12.273
spectraCounteBayes   6.394  0.062   6.456
VarianceBoxplot      5.836  0.227   6.063
VarianceScatterplot  5.757  0.148   5.906
outputResult         5.654  0.115   5.769
* checking for unstated dependencies in vignettes ... OK
* checking package vignettes ... OK
* checking re-building of vignette outputs ... OK
* checking PDF version of manual ... OK
* DONE

Status: 3 NOTEs
See
  ‘/home/biocbuild/bbs-3.22-bioc/meat/DEqMS.Rcheck/00check.log’
for details.


Installation output

DEqMS.Rcheck/00install.out

##############################################################################
##############################################################################
###
### Running command:
###
###   /home/biocbuild/bbs-3.22-bioc/R/bin/R CMD INSTALL DEqMS
###
##############################################################################
##############################################################################


* installing to library ‘/home/biocbuild/bbs-3.22-bioc/R/site-library’
* installing *source* package ‘DEqMS’ ...
** this is package ‘DEqMS’ version ‘1.27.1’
** using staged installation
** R
** inst
** byte-compile and prepare package for lazy loading
** help
*** installing help indices
** building package indices
** installing vignettes
** testing if installed package can be loaded from temporary location
** testing if installed package can be loaded from final location
** testing if installed package keeps a record of temporary installation path
* DONE (DEqMS)

Tests output


Example timings

DEqMS.Rcheck/DEqMS-Ex.timings

nameusersystemelapsed
Residualplot11.140 1.13012.273
VarianceBoxplot5.8360.2276.063
VarianceScatterplot5.7570.1485.906
equalMedianNormalization4.4800.0694.548
medianSummary4.5800.0884.668
medianSweeping4.8600.0894.949
medpolishSummary50.843 0.26851.114
outputResult5.6540.1155.769
peptideProfilePlot2.7910.0372.828
spectraCounteBayes6.3940.0626.456