| Back to Multiple platform build/check report for BioC 3.22: simplified long |
|
This page was generated on 2025-10-25 12:03 -0400 (Sat, 25 Oct 2025).
| Hostname | OS | Arch (*) | R version | Installed pkgs |
|---|---|---|---|---|
| nebbiolo2 | Linux (Ubuntu 24.04.3 LTS) | x86_64 | 4.5.1 Patched (2025-08-23 r88802) -- "Great Square Root" | 4901 |
| lconway | macOS 12.7.6 Monterey | x86_64 | 4.5.1 Patched (2025-09-10 r88807) -- "Great Square Root" | 4691 |
| kjohnson3 | macOS 13.7.7 Ventura | arm64 | 4.5.1 Patched (2025-09-10 r88807) -- "Great Square Root" | 4637 |
| taishan | Linux (openEuler 24.03 LTS) | aarch64 | 4.5.0 (2025-04-11) -- "How About a Twenty-Six" | 4658 |
| Click on any hostname to see more info about the system (e.g. compilers) (*) as reported by 'uname -p', except on Windows and Mac OS X | ||||
| Package 632/2361 | Hostname | OS / Arch | INSTALL | BUILD | CHECK | BUILD BIN | ||||||||
| DspikeIn 0.99.29 (landing page) Mitra Ghotbi
| nebbiolo2 | Linux (Ubuntu 24.04.3 LTS) / x86_64 | OK | OK | OK | |||||||||
| lconway | macOS 12.7.6 Monterey / x86_64 | OK | OK | OK | OK | |||||||||
| kjohnson3 | macOS 13.7.7 Ventura / arm64 | OK | OK | OK | OK | |||||||||
| taishan | Linux (openEuler 24.03 LTS) / aarch64 | OK | NA | NA | ||||||||||
|
To the developers/maintainers of the DspikeIn package: - Allow up to 24 hours (and sometimes 48 hours) for your latest push to git@git.bioconductor.org:packages/DspikeIn.git to reflect on this report. See Troubleshooting Build Report for more information. - Use the following Renviron settings to reproduce errors and warnings. - If 'R CMD check' started to fail recently on the Linux builder(s) over a missing dependency, add the missing dependency to 'Suggests:' in your DESCRIPTION file. See Renviron.bioc for more information. |
| Package: DspikeIn |
| Version: 0.99.29 |
| Command: /home/biocbuild/bbs-3.22-bioc/R/bin/R CMD check --install=check:DspikeIn.install-out.txt --library=/home/biocbuild/bbs-3.22-bioc/R/site-library --timings DspikeIn_0.99.29.tar.gz |
| StartedAt: 2025-10-24 23:19:02 -0400 (Fri, 24 Oct 2025) |
| EndedAt: 2025-10-24 23:31:23 -0400 (Fri, 24 Oct 2025) |
| EllapsedTime: 740.7 seconds |
| RetCode: 0 |
| Status: OK |
| CheckDir: DspikeIn.Rcheck |
| Warnings: 0 |
##############################################################################
##############################################################################
###
### Running command:
###
### /home/biocbuild/bbs-3.22-bioc/R/bin/R CMD check --install=check:DspikeIn.install-out.txt --library=/home/biocbuild/bbs-3.22-bioc/R/site-library --timings DspikeIn_0.99.29.tar.gz
###
##############################################################################
##############################################################################
* using log directory ‘/home/biocbuild/bbs-3.22-bioc/meat/DspikeIn.Rcheck’
* using R version 4.5.1 Patched (2025-08-23 r88802)
* using platform: x86_64-pc-linux-gnu
* R was compiled by
gcc (Ubuntu 13.3.0-6ubuntu2~24.04) 13.3.0
GNU Fortran (Ubuntu 13.3.0-6ubuntu2~24.04) 13.3.0
* running under: Ubuntu 24.04.3 LTS
* using session charset: UTF-8
* checking for file ‘DspikeIn/DESCRIPTION’ ... OK
* checking extension type ... Package
* this is package ‘DspikeIn’ version ‘0.99.29’
* package encoding: UTF-8
* checking package namespace information ... OK
* checking package dependencies ... INFO
Imports includes 38 non-default packages.
Importing from so many packages makes the package vulnerable to any of
them becoming unavailable. Move as many as possible to Suggests and
use conditionally.
* checking if this is a source package ... OK
* checking if there is a namespace ... OK
* checking for hidden files and directories ... OK
* checking for portable file names ... OK
* checking for sufficient/correct file permissions ... OK
* checking whether package ‘DspikeIn’ can be installed ... OK
* checking installed package size ... OK
* checking package directory ... OK
* checking ‘build’ directory ... OK
* checking DESCRIPTION meta-information ... OK
* checking top-level files ... OK
* checking for left-over files ... OK
* checking index information ... OK
* checking package subdirectories ... OK
* checking code files for non-ASCII characters ... OK
* checking R files for syntax errors ... OK
* checking whether the package can be loaded ... OK
* checking whether the package can be loaded with stated dependencies ... OK
* checking whether the package can be unloaded cleanly ... OK
* checking whether the namespace can be loaded with stated dependencies ... OK
* checking whether the namespace can be unloaded cleanly ... OK
* checking loading without being on the library search path ... OK
* checking whether startup messages can be suppressed ... OK
* checking dependencies in R code ... OK
* checking S3 generic/method consistency ... OK
* checking replacement functions ... OK
* checking foreign function calls ... OK
* checking R code for possible problems ... OK
* checking Rd files ... OK
* checking Rd metadata ... OK
* checking Rd cross-references ... NOTE
Non-topic package-anchored link(s) in Rd file 'label.Rd':
‘[phyloseq:tax_table-methods]{phyloseq::tax_table()}’
See section 'Cross-references' in the 'Writing R Extensions' manual.
* checking for missing documentation entries ... OK
* checking for code/documentation mismatches ... OK
* checking Rd \usage sections ... OK
* checking Rd contents ... OK
* checking for unstated dependencies in examples ... OK
* checking contents of ‘data’ directory ... OK
* checking data for non-ASCII characters ... OK
* checking LazyData ... OK
* checking data for ASCII and uncompressed saves ... OK
* checking files in ‘vignettes’ ... OK
* checking examples ... OK
Examples with CPU (user + system) or elapsed time > 5s
user system elapsed
taxa_barplot 36.957 0.177 37.135
plot_core_microbiome_custom 22.610 0.061 22.671
RandomForest_selected 18.536 0.224 18.759
summ_ASV_OTUID 16.148 0.053 16.202
node_level_metrics 10.405 0.042 10.360
convert_to_absolute_counts 9.917 0.160 10.095
calculate_spike_percentage 8.377 0.140 8.283
Pre_processing_hashcodes 7.194 0.390 7.590
quadrant_plot 6.808 0.027 6.764
ridge_plot_it 5.664 0.058 5.723
* checking for unstated dependencies in ‘tests’ ... OK
* checking tests ...
Running ‘testthat.R’
OK
* checking for unstated dependencies in vignettes ... OK
* checking package vignettes ... OK
* checking re-building of vignette outputs ... OK
* checking PDF version of manual ... OK
* DONE
Status: 1 NOTE
See
‘/home/biocbuild/bbs-3.22-bioc/meat/DspikeIn.Rcheck/00check.log’
for details.
DspikeIn.Rcheck/00install.out
############################################################################## ############################################################################## ### ### Running command: ### ### /home/biocbuild/bbs-3.22-bioc/R/bin/R CMD INSTALL DspikeIn ### ############################################################################## ############################################################################## * installing to library ‘/home/biocbuild/bbs-3.22-bioc/R/site-library’ * installing *source* package ‘DspikeIn’ ... ** this is package ‘DspikeIn’ version ‘0.99.29’ ** using staged installation ** R ** data *** moving datasets to lazyload DB ** inst ** byte-compile and prepare package for lazy loading ** help *** installing help indices ** building package indices ** installing vignettes ** testing if installed package can be loaded from temporary location ** testing if installed package can be loaded from final location ** testing if installed package keeps a record of temporary installation path * DONE (DspikeIn)
DspikeIn.Rcheck/tests/testthat.Rout
R version 4.5.1 Patched (2025-08-23 r88802) -- "Great Square Root"
Copyright (C) 2025 The R Foundation for Statistical Computing
Platform: x86_64-pc-linux-gnu
R is free software and comes with ABSOLUTELY NO WARRANTY.
You are welcome to redistribute it under certain conditions.
Type 'license()' or 'licence()' for distribution details.
R is a collaborative project with many contributors.
Type 'contributors()' for more information and
'citation()' on how to cite R or R packages in publications.
Type 'demo()' for some demos, 'help()' for on-line help, or
'help.start()' for an HTML browser interface to help.
Type 'q()' to quit R.
> # This file is part of the standard setup for testthat.
> # It is recommended that you do not modify it.
> #
> # Where should you do additional test configuration?
> # Learn more about the roles of various files in:
> # * https://r-pkgs.org/testing-design.html#sec-tests-files-overview
> # * https://testthat.r-lib.org/articles/special-files.html
>
> library(testthat)
> library(DspikeIn)
Thank you for using DspikeIn! 🎉
For support, 📧 contact: Mitra Ghotbi (mitra.ghotbi@gmail.com)
GitHub Repository: https://github.com/mghotbi/DspikeIn
🐛 Found a bug or have a suggestion? Open an issue:
https://github.com/mghotbi/DspikeIn/issues
>
> test_check("DspikeIn")
[ FAIL 0 | WARN 0 | SKIP 13 | PASS 0 ]
══ Skipped tests (13) ══════════════════════════════════════════════════════════
• On Bioconductor (13): 'test-Pre_processing_species.R:1:1',
'test-RandomForest_selected.R:1:1', 'test-calculate_spikeIn_factors.R:1:1',
'test-calculate_spike_percentage.R:1:1',
'test-calculate_summary_stats_table.R:1:1', 'test-conclusion.R:1:1',
'test-convert_to_absolute_counts.R:1:1',
'test-imbalance_calculate_list_average_scaling_factors.R:1:1',
'test-node_level_metrics.R:1:1', 'test-perform_and_visualize_DA.R:1:1',
'test-quadrant_plot.R:1:1', 'test-remove_zero_negative_count_samples.R:1:1',
'test-simulate_robustness.R:1:1'
[ FAIL 0 | WARN 0 | SKIP 13 | PASS 0 ]
>
> proc.time()
user system elapsed
12.261 0.613 12.861
DspikeIn.Rcheck/DspikeIn-Ex.timings
| name | user | system | elapsed | |
| AcceptableRange | 0.982 | 0.019 | 1.001 | |
| MG_shapes | 0.495 | 0.019 | 0.514 | |
| Pre_processing_hashcodes | 7.194 | 0.390 | 7.590 | |
| Pre_processing_species | 3.472 | 0.065 | 3.540 | |
| Pre_processing_species_list | 0.306 | 0.002 | 0.308 | |
| RandomForest_selected | 18.536 | 0.224 | 18.759 | |
| adjust_abundance_one_third | 1.711 | 0.127 | 1.838 | |
| adjusted_prevalence | 1.671 | 0.052 | 1.722 | |
| alluvial_plot | 4.334 | 0.033 | 4.367 | |
| calculate_list_average_scaling_factors | 0.037 | 0.000 | 0.037 | |
| calculate_spikeIn_factors | 3.188 | 0.029 | 3.217 | |
| calculate_spike_percentage | 8.377 | 0.140 | 8.283 | |
| calculate_spike_percentage_list | 0.623 | 0.011 | 0.638 | |
| calculate_summary_stats_table | 0.127 | 0.001 | 0.127 | |
| color_palette | 0.415 | 0.001 | 0.416 | |
| conclusion | 1.637 | 0.079 | 1.716 | |
| convert_categorical_to_factors | 0.267 | 0.000 | 0.268 | |
| convert_phyloseq_to_tse | 0.576 | 0.001 | 0.578 | |
| convert_to_absolute_counts | 9.917 | 0.160 | 10.095 | |
| convert_tse_to_phyloseq | 0.850 | 0.020 | 0.871 | |
| create_directory | 0 | 0 | 0 | |
| degree_network | 2.402 | 0.004 | 2.408 | |
| detect_common_asvs_taxa | 0 | 0 | 0 | |
| extract_neighbors | 0.019 | 0.001 | 0.020 | |
| filter_and_split_abundance | 2.420 | 0.005 | 2.425 | |
| get_long_format_data | 1.417 | 0.002 | 1.420 | |
| gm_mean | 0 | 0 | 0 | |
| imbalance_calculate_list_average_scaling_factors | 0.120 | 0.000 | 0.121 | |
| label | 0.029 | 0.000 | 0.029 | |
| metadata_full | 0.018 | 0.000 | 0.018 | |
| my_custom_theme | 0.423 | 0.002 | 0.425 | |
| node_level_metrics | 10.405 | 0.042 | 10.360 | |
| norm.DESeq | 2.746 | 0.012 | 2.758 | |
| normalization_set | 4.405 | 0.171 | 4.576 | |
| perform_and_visualize_DA | 0.001 | 0.000 | 0.000 | |
| physeq | 0.029 | 0.002 | 0.031 | |
| physeq_16SOTU | 0.220 | 0.007 | 0.227 | |
| physeq_ITSOTU | 0.197 | 0.019 | 0.216 | |
| plot_core_microbiome_custom | 22.610 | 0.061 | 22.671 | |
| plot_spikein_tree_diagnostic | 0 | 0 | 0 | |
| plotbar_abundance | 0 | 0 | 0 | |
| proportion_adj | 3.924 | 0.127 | 4.050 | |
| quadrant_plot | 6.808 | 0.027 | 6.764 | |
| random_subsample_WithReductionFactor | 4.629 | 0.066 | 4.695 | |
| randomsubsample_Trimmed_evenDepth | 2.897 | 0.077 | 2.974 | |
| regression_plot | 1.050 | 0.009 | 1.061 | |
| relativized_filtered_taxa | 0.375 | 0.000 | 0.376 | |
| remove_zero_negative_count_samples | 0.404 | 0.044 | 0.449 | |
| ridge_plot_it | 5.664 | 0.058 | 5.723 | |
| set_nf | 0.265 | 0.001 | 0.266 | |
| simulate_network_robustness | 2.923 | 0.004 | 2.927 | |
| summ_ASV_OTUID | 16.148 | 0.053 | 16.202 | |
| summ_count_phyloseq | 1.056 | 0.001 | 1.056 | |
| summ_phyloseq_sampleID | 2.810 | 0.030 | 2.839 | |
| taxa_barplot | 36.957 | 0.177 | 37.135 | |
| tidy_phyloseq_tse | 2.132 | 0.061 | 2.192 | |
| tse | 0.04 | 0.00 | 0.04 | |
| validate_spikein_clade | 0.499 | 0.007 | 0.510 | |
| weight_Network | 2.641 | 0.028 | 2.670 | |