Back to Build/check report for BioC 3.23:   simplified   long
ABCDEFGHIJK[L]MNOPQRSTUVWXYZ

This page was generated on 2025-11-10 11:32 -0500 (Mon, 10 Nov 2025).

HostnameOSArch (*)R versionInstalled pkgs
nebbiolo1Linux (Ubuntu 24.04.3 LTS)x86_64R Under development (unstable) (2025-10-20 r88955) -- "Unsuffered Consequences" 4821
Click on any hostname to see more info about the system (e.g. compilers)      (*) as reported by 'uname -p', except on Windows and Mac OS X

All results for package limma


To the developers/maintainers of the limma package:
- Allow up to 24 hours (and sometimes 48 hours) for your latest push to git@git.bioconductor.org:packages/limma.git to reflect on this report. See Troubleshooting Build Report for more information.
- Use the following Renviron settings to reproduce errors and warnings.
- If 'R CMD check' started to fail recently on the Linux builder(s) over a missing dependency, add the missing dependency to 'Suggests:' in your DESCRIPTION file. See Renviron.bioc for more information.

raw results

Package 1118/2323HostnameOS / ArchINSTALLBUILDCHECKBUILD BIN
limma 3.67.0  (landing page)
Gordon Smyth
Snapshot Date: 2025-11-09 13:40 -0500 (Sun, 09 Nov 2025)
git_url: https://git.bioconductor.org/packages/limma
git_branch: devel
git_last_commit: 325438a
git_last_commit_date: 2025-10-29 09:42:28 -0500 (Wed, 29 Oct 2025)
nebbiolo1Linux (Ubuntu 24.04.3 LTS) / x86_64  OK    OK    OK  UNNEEDED, same version is already published



Results for Bioconductor software packages that depend directly on package limma

QUICK STATSOS / ArchINSTALLBUILDCHECKBUILD BIN
nebbiolo1Linux (Ubuntu 24.04.3 LTS) / x86_64
07236
014229
0739183
Package 1/243HostnameOS / ArchINSTALLBUILDCHECKBUILD BIN
a4Base 1.59.0  (landing page)
Laure Cougnaud
git_last_commit: 2ae8314
git_last_commit_date: 2025-10-29 10:07:20 -0500
nebbiolo1Linux (Ubuntu 24.04.3 LTS) / x86_64  OK    OK    OK  UNNEEDED, same version is already published
Package 2/243HostnameOS / ArchINSTALLBUILDCHECKBUILD BIN
ABSSeq 1.65.0  (landing page)
Wentao Yang
git_last_commit: 3e159b8
git_last_commit_date: 2025-10-29 10:18:51 -0500
nebbiolo1Linux (Ubuntu 24.04.3 LTS) / x86_64  OK    OK    OK  UNNEEDED, same version is already published
Package 3/243HostnameOS / ArchINSTALLBUILDCHECKBUILD BIN
affycoretools 1.83.0  (landing page)
James W. MacDonald
git_last_commit: c6a0b37
git_last_commit_date: 2025-10-29 09:57:11 -0500
nebbiolo1Linux (Ubuntu 24.04.3 LTS) / x86_64  OK    OK    OK  UNNEEDED, same version is already published
Package 4/243HostnameOS / ArchINSTALLBUILDCHECKBUILD BIN
affylmGUI 1.85.0  (landing page)
Gordon Smyth
git_last_commit: 6df4f72
git_last_commit_date: 2025-10-29 09:54:46 -0500
nebbiolo1Linux (Ubuntu 24.04.3 LTS) / x86_64  OK    OK    OK  UNNEEDED, same version is already published
Package 5/243HostnameOS / ArchINSTALLBUILDCHECKBUILD BIN
AgiMicroRna 2.61.0  (landing page)
Pedro Lopez-Romero
git_last_commit: 75a71a9
git_last_commit_date: 2025-10-29 10:03:34 -0500
nebbiolo1Linux (Ubuntu 24.04.3 LTS) / x86_64  OK    OK    WARNINGS  UNNEEDED, same version is already published
Package 6/243HostnameOS / ArchINSTALLBUILDCHECKBUILD BIN
AMARETTO 1.27.0  (landing page)
Olivier Gevaert
git_last_commit: 87c41a4
git_last_commit_date: 2025-10-29 10:50:47 -0500
nebbiolo1Linux (Ubuntu 24.04.3 LTS) / x86_64  OK    OK    WARNINGS  UNNEEDED, same version is already published
Package 7/243HostnameOS / ArchINSTALLBUILDCHECKBUILD BIN
animalcules 1.27.0  (landing page)
Jessica McClintock
git_last_commit: 30597c8
git_last_commit_date: 2025-10-29 10:52:04 -0500
nebbiolo1Linux (Ubuntu 24.04.3 LTS) / x86_64  OK    OK    OK  UNNEEDED, same version is already published
Package 8/243HostnameOS / ArchINSTALLBUILDCHECKBUILD BIN
anota2seq 1.33.0  (landing page)
Christian Oertlin , Ola Larsson
git_last_commit: 8d76555
git_last_commit_date: 2025-10-29 10:41:23 -0500
nebbiolo1Linux (Ubuntu 24.04.3 LTS) / x86_64  OK    OK    WARNINGS  UNNEEDED, same version is already published
Package 9/243HostnameOS / ArchINSTALLBUILDCHECKBUILD BIN
ArrayExpress 1.71.0  (landing page)
Jose Marugan
git_last_commit: 4a25159
git_last_commit_date: 2025-10-29 10:01:28 -0500
nebbiolo1Linux (Ubuntu 24.04.3 LTS) / x86_64  OK    OK    OK  UNNEEDED, same version is already published
Package 10/243HostnameOS / ArchINSTALLBUILDCHECKBUILD BIN
arrayQuality 1.89.0  (landing page)
Agnes Paquet
git_last_commit: 354cf88
git_last_commit_date: 2025-10-29 09:54:41 -0500
nebbiolo1Linux (Ubuntu 24.04.3 LTS) / x86_64  OK    OK    WARNINGS  UNNEEDED, same version is already published
Package 11/243HostnameOS / ArchINSTALLBUILDCHECKBUILD BIN
arrayQualityMetrics 3.67.0  (landing page)
Mike Smith
git_last_commit: 39eac6d
git_last_commit_date: 2025-10-29 09:59:44 -0500
nebbiolo1Linux (Ubuntu 24.04.3 LTS) / x86_64  OK    OK    OK  NO, package depends on 'beadarray' which is not available
Package 12/243HostnameOS / ArchINSTALLBUILDCHECKBUILD BIN
artMS 1.29.0  (landing page)
David Jimenez-Morales
git_last_commit: cf1f330
git_last_commit_date: 2025-10-29 10:48:43 -0500
nebbiolo1Linux (Ubuntu 24.04.3 LTS) / x86_64  OK    OK    OK  UNNEEDED, same version is already published
Package 13/243HostnameOS / ArchINSTALLBUILDCHECKBUILD BIN
ASpli 2.21.0  (landing page)
Ariel Chernomoretz
git_last_commit: 6fd6add
git_last_commit_date: 2025-10-29 10:33:32 -0500
nebbiolo1Linux (Ubuntu 24.04.3 LTS) / x86_64  OK    OK    WARNINGS  UNNEEDED, same version is already published
Package 14/243HostnameOS / ArchINSTALLBUILDCHECKBUILD BIN
ATACseqQC 1.35.0  (landing page)
Jianhong Ou
git_last_commit: 938226b
git_last_commit_date: 2025-10-29 10:38:34 -0500
nebbiolo1Linux (Ubuntu 24.04.3 LTS) / x86_64  ERROR    ERROR  skipped
Package 15/243HostnameOS / ArchINSTALLBUILDCHECKBUILD BIN
ATACseqTFEA 1.13.0  (landing page)
Jianhong Ou
git_last_commit: e0054ea
git_last_commit_date: 2025-10-29 11:18:13 -0500
nebbiolo1Linux (Ubuntu 24.04.3 LTS) / x86_64  OK    ERROR  skipped
Package 16/243HostnameOS / ArchINSTALLBUILDCHECKBUILD BIN
attract 1.63.0  (landing page)
Samuel Zimmerman
git_last_commit: e4f7452
git_last_commit_date: 2025-10-29 10:05:14 -0500
nebbiolo1Linux (Ubuntu 24.04.3 LTS) / x86_64  OK    OK    OK  UNNEEDED, same version is already published
Package 17/243HostnameOS / ArchINSTALLBUILDCHECKBUILD BIN
autonomics 1.19.0  (landing page)
Aditya Bhagwat
git_last_commit: 9fc1276
git_last_commit_date: 2025-10-29 11:06:51 -0500
nebbiolo1Linux (Ubuntu 24.04.3 LTS) / x86_64  OK    OK    OK  UNNEEDED, same version is already published
Package 18/243HostnameOS / ArchINSTALLBUILDCHECKBUILD BIN
AWFisher 1.25.0  (landing page)
Zhiguang Huo
git_last_commit: 4a1aa4a
git_last_commit_date: 2025-10-29 10:53:01 -0500
nebbiolo1Linux (Ubuntu 24.04.3 LTS) / x86_64  OK    OK    OK  UNNEEDED, same version is already published
Package 19/243HostnameOS / ArchINSTALLBUILDCHECKBUILD BIN
ballgown 2.43.0  (landing page)
Jack Fu
git_last_commit: dae077a
git_last_commit_date: 2025-10-29 10:20:34 -0500
nebbiolo1Linux (Ubuntu 24.04.3 LTS) / x86_64  OK    OK    OK  UNNEEDED, same version is already published
Package 20/243HostnameOS / ArchINSTALLBUILDCHECKBUILD BIN
barbieQ 1.3.0  (landing page)
Liyang Fei
git_last_commit: 7a0202b
git_last_commit_date: 2025-10-29 11:36:03 -0500
nebbiolo1Linux (Ubuntu 24.04.3 LTS) / x86_64  OK    OK    OK  UNNEEDED, same version is already published
Package 21/243HostnameOS / ArchINSTALLBUILDCHECKBUILD BIN
BatchQC 2.7.0  (landing page)
Jessica Anderson
git_last_commit: bfa8664
git_last_commit_date: 2025-10-29 10:31:36 -0500
nebbiolo1Linux (Ubuntu 24.04.3 LTS) / x86_64  OK    OK    OK  UNNEEDED, same version is already published
Package 22/243HostnameOS / ArchINSTALLBUILDCHECKBUILD BIN
beadarray 2.61.0  (landing page)
Mark Dunning
git_last_commit: 0cd2969
git_last_commit_date: 2025-10-29 09:57:32 -0500
nebbiolo1Linux (Ubuntu 24.04.3 LTS) / x86_64  OK    OK    ERROR  
Package 23/243HostnameOS / ArchINSTALLBUILDCHECKBUILD BIN
benchdamic 1.17.0  (landing page)
Matteo Calgaro
git_last_commit: 316209e
git_last_commit_date: 2025-10-29 11:13:17 -0500
nebbiolo1Linux (Ubuntu 24.04.3 LTS) / x86_64  OK    OK    OK  NO, package depends on 'Maaslin2' which is not available
Package 24/243HostnameOS / ArchINSTALLBUILDCHECKBUILD BIN
BERT 1.7.0  (landing page)
Yannis Schumann
git_last_commit: 2e49878
git_last_commit_date: 2025-10-29 11:26:54 -0500
nebbiolo1Linux (Ubuntu 24.04.3 LTS) / x86_64  OK    OK    OK  UNNEEDED, same version is already published
Package 25/243HostnameOS / ArchINSTALLBUILDCHECKBUILD BIN
biotmle 1.35.0  (landing page)
Nima Hejazi
git_last_commit: 5690334
git_last_commit_date: 2025-10-29 10:38:19 -0500
nebbiolo1Linux (Ubuntu 24.04.3 LTS) / x86_64  OK    OK    OK  UNNEEDED, same version is already published
Package 26/243HostnameOS / ArchINSTALLBUILDCHECKBUILD BIN
BLMA 1.35.0  (landing page)
Van-Dung Pham
git_last_commit: 2a54068
git_last_commit_date: 2025-10-29 10:38:21 -0500
nebbiolo1Linux (Ubuntu 24.04.3 LTS) / x86_64  OK    OK    OK  UNNEEDED, same version is already published
Package 27/243HostnameOS / ArchINSTALLBUILDCHECKBUILD BIN
BloodGen3Module 1.19.0  (landing page)
Darawan Rinchai
git_last_commit: 825e116
git_last_commit_date: 2025-10-29 11:09:33 -0500
nebbiolo1Linux (Ubuntu 24.04.3 LTS) / x86_64  OK    OK    WARNINGS  UNNEEDED, same version is already published
Package 28/243HostnameOS / ArchINSTALLBUILDCHECKBUILD BIN
bnem 1.19.0  (landing page)
Martin Pirkl
git_last_commit: c656bcb
git_last_commit_date: 2025-10-29 11:04:57 -0500
nebbiolo1Linux (Ubuntu 24.04.3 LTS) / x86_64  OK    OK    OK  UNNEEDED, same version is already published
Package 29/243HostnameOS / ArchINSTALLBUILDCHECKBUILD BIN
bsseq 1.47.1  (landing page)
Kasper Daniel Hansen
git_last_commit: 46b4295
git_last_commit_date: 2025-10-31 11:03:21 -0500
nebbiolo1Linux (Ubuntu 24.04.3 LTS) / x86_64  OK    OK    WARNINGS  UNNEEDED, same version is already published
Package 30/243HostnameOS / ArchINSTALLBUILDCHECKBUILD BIN
BubbleTree 2.41.0  (landing page)
Todd Creasy , Wei Zhu
git_last_commit: ec3708e
git_last_commit_date: 2025-10-29 10:24:01 -0500
nebbiolo1Linux (Ubuntu 24.04.3 LTS) / x86_64  OK    ERROR  skipped
Package 31/243HostnameOS / ArchINSTALLBUILDCHECKBUILD BIN
bumphunter 1.53.0  (landing page)
Tamilselvi Guharaj
git_last_commit: 19ed02f
git_last_commit_date: 2025-10-29 10:13:01 -0500
nebbiolo1Linux (Ubuntu 24.04.3 LTS) / x86_64  OK    OK    OK  UNNEEDED, same version is already published
Package 32/243HostnameOS / ArchINSTALLBUILDCHECKBUILD BIN
casper 2.45.0  (landing page)
David Rossell
git_last_commit: 8f208d9
git_last_commit_date: 2025-10-29 10:13:21 -0500
nebbiolo1Linux (Ubuntu 24.04.3 LTS) / x86_64  ERROR    ERROR  skipped
Package 33/243HostnameOS / ArchINSTALLBUILDCHECKBUILD BIN
cghMCR 1.69.0  (landing page)
J. Zhang
git_last_commit: 310f992
git_last_commit_date: 2025-10-29 09:57:58 -0500
nebbiolo1Linux (Ubuntu 24.04.3 LTS) / x86_64  OK    OK    WARNINGS  UNNEEDED, same version is already published
Package 34/243HostnameOS / ArchINSTALLBUILDCHECKBUILD BIN
ChAMP 2.41.0  (landing page)
Yuan Tian
git_last_commit: 8bc9b68
git_last_commit_date: 2025-10-29 10:17:05 -0500
nebbiolo1Linux (Ubuntu 24.04.3 LTS) / x86_64  OK    OK    WARNINGS  UNNEEDED, same version is already published
Package 35/243HostnameOS / ArchINSTALLBUILDCHECKBUILD BIN
ChIPComp 1.41.0  (landing page)
Li Chen
git_last_commit: 6f90f75
git_last_commit_date: 2025-10-29 10:27:22 -0500
nebbiolo1Linux (Ubuntu 24.04.3 LTS) / x86_64  OK    OK    OK  UNNEEDED, same version is already published
Package 36/243HostnameOS / ArchINSTALLBUILDCHECKBUILD BIN
CleanUpRNAseq 1.5.0  (landing page)
Haibo Liu
git_last_commit: 4f653f6
git_last_commit_date: 2025-10-29 11:31:19 -0500
nebbiolo1Linux (Ubuntu 24.04.3 LTS) / x86_64  OK    OK    OK  UNNEEDED, same version is already published
Package 37/243HostnameOS / ArchINSTALLBUILDCHECKBUILD BIN
clippda 1.61.0  (landing page)
Stephen Nyangoma
git_last_commit: 28950e5
git_last_commit_date: 2025-10-29 10:03:30 -0500
nebbiolo1Linux (Ubuntu 24.04.3 LTS) / x86_64  OK    OK    OK  UNNEEDED, same version is already published
Package 38/243HostnameOS / ArchINSTALLBUILDCHECKBUILD BIN
clusterExperiment 2.31.0  (landing page)
Elizabeth Purdom
git_last_commit: dc97d45
git_last_commit_date: 2025-10-29 10:33:07 -0500
nebbiolo1Linux (Ubuntu 24.04.3 LTS) / x86_64  OK    OK    WARNINGS  UNNEEDED, same version is already published
Package 39/243HostnameOS / ArchINSTALLBUILDCHECKBUILD BIN
CNVRanger 1.27.0  (landing page)
Ludwig Geistlinger
git_last_commit: 16600ca
git_last_commit_date: 2025-10-29 10:49:57 -0500
nebbiolo1Linux (Ubuntu 24.04.3 LTS) / x86_64  OK    OK    OK  NO, package depends on 'GDSArray' which is not available
Package 40/243HostnameOS / ArchINSTALLBUILDCHECKBUILD BIN
codelink 1.79.0  (landing page)
Diego Diez
git_last_commit: 28ca5f2
git_last_commit_date: 2025-10-29 09:57:29 -0500
nebbiolo1Linux (Ubuntu 24.04.3 LTS) / x86_64  OK    OK    OK  UNNEEDED, same version is already published
Package 41/243HostnameOS / ArchINSTALLBUILDCHECKBUILD BIN
combi 1.23.0  (landing page)
Stijn Hawinkel
git_last_commit: 29ef8d9
git_last_commit_date: 2025-10-29 10:57:46 -0500
nebbiolo1Linux (Ubuntu 24.04.3 LTS) / x86_64  OK    OK    OK  UNNEEDED, same version is already published
Package 42/243HostnameOS / ArchINSTALLBUILDCHECKBUILD BIN
compcodeR 1.47.0  (landing page)
Charlotte Soneson
git_last_commit: 7aac3d1
git_last_commit_date: 2025-10-29 10:19:15 -0500
nebbiolo1Linux (Ubuntu 24.04.3 LTS) / x86_64  OK    OK    OK  UNNEEDED, same version is already published
Package 43/243HostnameOS / ArchINSTALLBUILDCHECKBUILD BIN
CONFESS 1.39.0  (landing page)
Diana LOW
git_last_commit: b97e3ac
git_last_commit_date: 2025-10-29 10:31:27 -0500
nebbiolo1Linux (Ubuntu 24.04.3 LTS) / x86_64  OK    OK    WARNINGS  UNNEEDED, same version is already published
Package 44/243HostnameOS / ArchINSTALLBUILDCHECKBUILD BIN
consensusDE 1.29.0  (landing page)
Ashley J. Waardenberg
git_last_commit: e69df52
git_last_commit_date: 2025-10-29 10:48:35 -0500
nebbiolo1Linux (Ubuntu 24.04.3 LTS) / x86_64  ERROR    ERROR  skipped
Package 45/243HostnameOS / ArchINSTALLBUILDCHECKBUILD BIN
consensusOV 1.33.0  (landing page)
Benjamin Haibe-Kains
git_last_commit: a478760
git_last_commit_date: 2025-10-29 10:39:32 -0500
nebbiolo1Linux (Ubuntu 24.04.3 LTS) / x86_64  OK    OK    OK  UNNEEDED, same version is already published
Package 46/243HostnameOS / ArchINSTALLBUILDCHECKBUILD BIN
convert 1.87.0  (landing page)
Yee Hwa (Jean) Yang
git_last_commit: 3e7aa0d
git_last_commit_date: 2025-10-29 09:54:55 -0500
nebbiolo1Linux (Ubuntu 24.04.3 LTS) / x86_64  OK    OK    OK  UNNEEDED, same version is already published
Package 47/243HostnameOS / ArchINSTALLBUILDCHECKBUILD BIN
Cormotif 1.57.0  (landing page)
Yingying Wei
git_last_commit: 3b9844b
git_last_commit_date: 2025-10-29 10:08:07 -0500
nebbiolo1Linux (Ubuntu 24.04.3 LTS) / x86_64  OK    OK    OK  UNNEEDED, same version is already published
Package 48/243HostnameOS / ArchINSTALLBUILDCHECKBUILD BIN
crlmm 1.69.0  (landing page)
Benilton S Carvalho
git_last_commit: 51993cf
git_last_commit_date: 2025-10-29 10:02:32 -0500
nebbiolo1Linux (Ubuntu 24.04.3 LTS) / x86_64  OK    OK    WARNINGS  UNNEEDED, same version is already published
Package 49/243HostnameOS / ArchINSTALLBUILDCHECKBUILD BIN
csaw 1.45.0  (landing page)
Aaron Lun
git_last_commit: 39b0f81
git_last_commit_date: 2025-10-29 10:22:22 -0500
nebbiolo1Linux (Ubuntu 24.04.3 LTS) / x86_64  OK    OK    OK  UNNEEDED, same version is already published
Package 50/243HostnameOS / ArchINSTALLBUILDCHECKBUILD BIN
cTRAP 1.29.0  (landing page)
Nuno Saraiva-Agostinho
git_last_commit: c19a6e4
git_last_commit_date: 2025-10-29 10:48:28 -0500
nebbiolo1Linux (Ubuntu 24.04.3 LTS) / x86_64  OK    OK    OK  UNNEEDED, same version is already published
Package 51/243HostnameOS / ArchINSTALLBUILDCHECKBUILD BIN
ctsGE 1.37.0  (landing page)
Michal Sharabi-Schwager
git_last_commit: 87924de
git_last_commit_date: 2025-10-29 10:33:30 -0500
nebbiolo1Linux (Ubuntu 24.04.3 LTS) / x86_64  OK    OK    OK  UNNEEDED, same version is already published
Package 52/243HostnameOS / ArchINSTALLBUILDCHECKBUILD BIN
DAMEfinder 1.23.0  (landing page)
Stephany Orjuela
git_last_commit: cb8c833
git_last_commit_date: 2025-10-29 10:56:31 -0500
nebbiolo1Linux (Ubuntu 24.04.3 LTS) / x86_64  OK    OK    OK  UNNEEDED, same version is already published
Package 53/243HostnameOS / ArchINSTALLBUILDCHECKBUILD BIN
DaMiRseq 2.23.0  (landing page)
Mattia Chiesa
git_last_commit: 48f9b25
git_last_commit_date: 2025-10-29 10:37:23 -0500
nebbiolo1Linux (Ubuntu 24.04.3 LTS) / x86_64  OK    OK    OK  UNNEEDED, same version is already published
Package 54/243HostnameOS / ArchINSTALLBUILDCHECKBUILD BIN
debrowser 1.39.0  (landing page)
Alper Kucukural
git_last_commit: 17795bc
git_last_commit_date: 2025-10-29 10:30:54 -0500
nebbiolo1Linux (Ubuntu 24.04.3 LTS) / x86_64  OK    OK    OK  UNNEEDED, same version is already published
Package 55/243HostnameOS / ArchINSTALLBUILDCHECKBUILD BIN
DeeDeeExperiment 1.1.0  (landing page)
Najla Abassi
git_last_commit: 482df35
git_last_commit_date: 2025-10-29 11:37:21 -0500
nebbiolo1Linux (Ubuntu 24.04.3 LTS) / x86_64  OK    OK    OK  UNNEEDED, same version is already published
Package 56/243HostnameOS / ArchINSTALLBUILDCHECKBUILD BIN
DELocal 1.11.0  (landing page)
Rishi Das Roy
git_last_commit: 4c4795e
git_last_commit_date: 2025-10-29 11:22:35 -0500
nebbiolo1Linux (Ubuntu 24.04.3 LTS) / x86_64  OK    ERROR  skipped
Package 57/243HostnameOS / ArchINSTALLBUILDCHECKBUILD BIN
DEqMS 1.29.0  (landing page)
Yafeng Zhu
git_last_commit: 4ec4f19
git_last_commit_date: 2025-10-29 10:47:27 -0500
nebbiolo1Linux (Ubuntu 24.04.3 LTS) / x86_64  OK    OK    OK  UNNEEDED, same version is already published
Package 58/243HostnameOS / ArchINSTALLBUILDCHECKBUILD BIN
derfinderPlot 1.45.0  (landing page)
Leonardo Collado-Torres
git_last_commit: a29c4b1
git_last_commit_date: 2025-10-29 10:21:51 -0500
nebbiolo1Linux (Ubuntu 24.04.3 LTS) / x86_64  OK    OK    OK  UNNEEDED, same version is already published
Package 59/243HostnameOS / ArchINSTALLBUILDCHECKBUILD BIN
DESpace 2.3.1  (landing page)
Peiying Cai
git_last_commit: 3dbd101
git_last_commit_date: 2025-10-31 08:13:38 -0500
nebbiolo1Linux (Ubuntu 24.04.3 LTS) / x86_64  OK    OK    OK  UNNEEDED, same version is already published
Package 60/243HostnameOS / ArchINSTALLBUILDCHECKBUILD BIN
DEsubs 1.37.0  (landing page)
Aristidis G. Vrahatis , Panos Balomenos
git_last_commit: 795ef9b
git_last_commit_date: 2025-10-29 10:34:42 -0500
nebbiolo1Linux (Ubuntu 24.04.3 LTS) / x86_64  OK    OK    WARNINGS  UNNEEDED, same version is already published
Package 61/243HostnameOS / ArchINSTALLBUILDCHECKBUILD BIN
DExMA 1.19.0  (landing page)
Juan Antonio Villatoro-GarcĂ­a
git_last_commit: f2e6f45
git_last_commit_date: 2025-10-29 11:09:00 -0500
nebbiolo1Linux (Ubuntu 24.04.3 LTS) / x86_64  OK    OK    OK  UNNEEDED, same version is already published
Package 62/243HostnameOS / ArchINSTALLBUILDCHECKBUILD BIN
DiffBind 3.21.0  (landing page)
Rory Stark
git_last_commit: f329968
git_last_commit_date: 2025-10-29 10:08:58 -0500
nebbiolo1Linux (Ubuntu 24.04.3 LTS) / x86_64  OK    OK    ERROR  
Package 63/243HostnameOS / ArchINSTALLBUILDCHECKBUILD BIN
diffcyt 1.31.0  (landing page)
Lukas M. Weber
git_last_commit: 5b52099
git_last_commit_date: 2025-10-29 10:44:30 -0500
nebbiolo1Linux (Ubuntu 24.04.3 LTS) / x86_64  OK    OK    OK  UNNEEDED, same version is already published
Package 64/243HostnameOS / ArchINSTALLBUILDCHECKBUILD BIN
diffHic 1.43.0  (landing page)
Aaron Lun , Gordon Smyth , Hannah Coughlin
git_last_commit: c909cdb
git_last_commit_date: 2025-10-29 10:25:47 -0500
nebbiolo1Linux (Ubuntu 24.04.3 LTS) / x86_64  OK    OK    OK  UNNEEDED, same version is already published
Package 65/243HostnameOS / ArchINSTALLBUILDCHECKBUILD BIN
diffUTR 1.19.0  (landing page)
Pierre-Luc Germain
git_last_commit: 2f86b30
git_last_commit_date: 2025-10-29 11:09:14 -0500
nebbiolo1Linux (Ubuntu 24.04.3 LTS) / x86_64  OK    OK    OK  UNNEEDED, same version is already published
Package 66/243HostnameOS / ArchINSTALLBUILDCHECKBUILD BIN
distinct 1.23.0  (landing page)
Simone Tiberi
git_last_commit: fecbaac
git_last_commit_date: 2025-10-29 10:58:17 -0500
nebbiolo1Linux (Ubuntu 24.04.3 LTS) / x86_64  OK    OK    OK  UNNEEDED, same version is already published
Package 67/243HostnameOS / ArchINSTALLBUILDCHECKBUILD BIN
DMRcate 3.7.0  (landing page)
Tim Peters
git_last_commit: c4e3304
git_last_commit_date: 2025-10-29 10:18:14 -0500
nebbiolo1Linux (Ubuntu 24.04.3 LTS) / x86_64  OK    OK    OK  UNNEEDED, same version is already published
Package 68/243HostnameOS / ArchINSTALLBUILDCHECKBUILD BIN
Doscheda 1.33.0  (landing page)
Bruno Contrino
git_last_commit: 3ce1c92
git_last_commit_date: 2025-10-29 10:40:19 -0500
nebbiolo1Linux (Ubuntu 24.04.3 LTS) / x86_64  OK    OK    OK  UNNEEDED, same version is already published
Package 69/243HostnameOS / ArchINSTALLBUILDCHECKBUILD BIN
dreamlet 1.9.0  (landing page)
Gabriel Hoffman
git_last_commit: dfc1aac
git_last_commit_date: 2025-10-29 11:25:03 -0500
nebbiolo1Linux (Ubuntu 24.04.3 LTS) / x86_64  OK    OK    OK  UNNEEDED, same version is already published
Package 70/243HostnameOS / ArchINSTALLBUILDCHECKBUILD BIN
DRIMSeq 1.39.0  (landing page)
Malgorzata Nowicka
git_last_commit: 9076908
git_last_commit_date: 2025-10-29 10:30:52 -0500
nebbiolo1Linux (Ubuntu 24.04.3 LTS) / x86_64  OK    OK    WARNINGS  UNNEEDED, same version is already published
Package 71/243HostnameOS / ArchINSTALLBUILDCHECKBUILD BIN
DrugVsDisease 2.53.0  (landing page)
j. Saez-Rodriguez
git_last_commit: 6483099
git_last_commit_date: 2025-10-29 10:13:26 -0500
nebbiolo1Linux (Ubuntu 24.04.3 LTS) / x86_64  OK    OK    OK  UNNEEDED, same version is already published
Package 72/243HostnameOS / ArchINSTALLBUILDCHECKBUILD BIN
DspikeIn 1.1.0  (landing page)
Mitra Ghotbi
git_last_commit: 18fc5b8
git_last_commit_date: 2025-10-29 11:39:12 -0500
nebbiolo1Linux (Ubuntu 24.04.3 LTS) / x86_64  OK    OK    OK  UNNEEDED, same version is already published
Package 73/243HostnameOS / ArchINSTALLBUILDCHECKBUILD BIN
edgeR 4.9.0  (landing page)
Yunshun Chen , Gordon Smyth
git_last_commit: e338260
git_last_commit_date: 2025-10-29 10:01:19 -0500
nebbiolo1Linux (Ubuntu 24.04.3 LTS) / x86_64  OK    OK    OK  UNNEEDED, same version is already published
Package 74/243HostnameOS / ArchINSTALLBUILDCHECKBUILD BIN
EGAD 1.39.0  (landing page)
Sara Ballouz
git_last_commit: 7ee1d10
git_last_commit_date: 2025-10-29 10:32:16 -0500
nebbiolo1Linux (Ubuntu 24.04.3 LTS) / x86_64  OK    OK    WARNINGS  UNNEEDED, same version is already published
Package 75/243HostnameOS / ArchINSTALLBUILDCHECKBUILD BIN
EGSEA 1.39.0  (landing page)
Monther Alhamdoosh
git_last_commit: ea1d07d
git_last_commit_date: 2025-10-29 10:32:11 -0500
nebbiolo1Linux (Ubuntu 24.04.3 LTS) / x86_64  OK    OK    OK  UNNEEDED, same version is already published
Package 76/243HostnameOS / ArchINSTALLBUILDCHECKBUILD BIN
eisaR 1.23.1  (landing page)
Michael Stadler
git_last_commit: 7a06cdb
git_last_commit_date: 2025-11-03 09:29:00 -0500
nebbiolo1Linux (Ubuntu 24.04.3 LTS) / x86_64  OK    OK    OK  UNNEEDED, same version is already published
Package 77/243HostnameOS / ArchINSTALLBUILDCHECKBUILD BIN
EnrichmentBrowser 2.41.0  (landing page)
Ludwig Geistlinger
git_last_commit: eb4505a
git_last_commit_date: 2025-10-29 10:21:30 -0500
nebbiolo1Linux (Ubuntu 24.04.3 LTS) / x86_64  OK    OK    OK  UNNEEDED, same version is already published
Package 78/243HostnameOS / ArchINSTALLBUILDCHECKBUILD BIN
epigraHMM 1.19.0  (landing page)
Pedro Baldoni
git_last_commit: af5be02
git_last_commit_date: 2025-10-29 11:09:46 -0500
nebbiolo1Linux (Ubuntu 24.04.3 LTS) / x86_64  OK    OK    WARNINGS  UNNEEDED, same version is already published
Package 79/243HostnameOS / ArchINSTALLBUILDCHECKBUILD BIN
EpiMix 1.13.0  (landing page)
Yuanning Zheng
git_last_commit: 5408436
git_last_commit_date: 2025-10-29 11:17:43 -0500
nebbiolo1Linux (Ubuntu 24.04.3 LTS) / x86_64  OK    OK    OK  UNNEEDED, same version is already published
Package 80/243HostnameOS / ArchINSTALLBUILDCHECKBUILD BIN
erccdashboard 1.45.0  (landing page)
Sarah Munro
git_last_commit: 44713e8
git_last_commit_date: 2025-10-29 10:21:01 -0500
nebbiolo1Linux (Ubuntu 24.04.3 LTS) / x86_64  OK    OK    OK  UNNEEDED, same version is already published
Package 81/243HostnameOS / ArchINSTALLBUILDCHECKBUILD BIN
EventPointer 3.19.0  (landing page)
Juan A. Ferrer-Bonsoms
git_last_commit: ab73f34
git_last_commit_date: 2025-10-29 10:37:08 -0500
nebbiolo1Linux (Ubuntu 24.04.3 LTS) / x86_64  ERROR    ERROR  skipped
Package 82/243HostnameOS / ArchINSTALLBUILDCHECKBUILD BIN
EWCE 1.19.0  (landing page)
Hiranyamaya Dash
git_last_commit: 5ede728
git_last_commit_date: 2025-10-29 11:08:07 -0500
nebbiolo1Linux (Ubuntu 24.04.3 LTS) / x86_64  OK    OK    OK  UNNEEDED, same version is already published
Package 83/243HostnameOS / ArchINSTALLBUILDCHECKBUILD BIN
ExiMiR 2.53.0  (landing page)
Sylvain Gubian
git_last_commit: 6d3b680
git_last_commit_date: 2025-10-29 10:06:33 -0500
nebbiolo1Linux (Ubuntu 24.04.3 LTS) / x86_64  OK    OK    OK  UNNEEDED, same version is already published
Package 84/243HostnameOS / ArchINSTALLBUILDCHECKBUILD BIN
ExploreModelMatrix 1.23.0  (landing page)
Charlotte Soneson
git_last_commit: e5a29c3
git_last_commit_date: 2025-10-29 10:58:12 -0500
nebbiolo1Linux (Ubuntu 24.04.3 LTS) / x86_64  OK    OK    OK  UNNEEDED, same version is already published
Package 85/243HostnameOS / ArchINSTALLBUILDCHECKBUILD BIN
ExpressionAtlas 2.3.0  (landing page)
Anil Thanki
git_last_commit: a94288f
git_last_commit_date: 2025-10-29 10:30:04 -0500
nebbiolo1Linux (Ubuntu 24.04.3 LTS) / x86_64  OK    OK    OK  UNNEEDED, same version is already published
Package 86/243HostnameOS / ArchINSTALLBUILDCHECKBUILD BIN
flowBin 1.47.0  (landing page)
Kieran O'Neill
git_last_commit: aafb320
git_last_commit_date: 2025-10-29 10:17:38 -0500
nebbiolo1Linux (Ubuntu 24.04.3 LTS) / x86_64  OK    OK    OK  UNNEEDED, same version is already published
Package 87/243HostnameOS / ArchINSTALLBUILDCHECKBUILD BIN
gCrisprTools 2.17.0  (landing page)
Russell Bainer
git_last_commit: d372d36
git_last_commit_date: 2025-10-29 10:34:14 -0500
nebbiolo1Linux (Ubuntu 24.04.3 LTS) / x86_64  OK    OK    OK  UNNEEDED, same version is already published
Package 88/243HostnameOS / ArchINSTALLBUILDCHECKBUILD BIN
GDCRNATools 1.31.0  (landing page)
Ruidong Li
git_last_commit: 0524945
git_last_commit_date: 2025-10-29 10:42:54 -0500
nebbiolo1Linux (Ubuntu 24.04.3 LTS) / x86_64  OK    OK    OK  UNNEEDED, same version is already published
Package 89/243HostnameOS / ArchINSTALLBUILDCHECKBUILD BIN
genefu 2.43.0  (landing page)
Benjamin Haibe-Kains
git_last_commit: d2e64e7
git_last_commit_date: 2025-10-29 10:07:12 -0500
nebbiolo1Linux (Ubuntu 24.04.3 LTS) / x86_64  OK    OK    WARNINGS  UNNEEDED, same version is already published
Package 90/243HostnameOS / ArchINSTALLBUILDCHECKBUILD BIN
GeneSelectMMD 2.55.0  (landing page)
Weiliang Qiu
git_last_commit: 6c8a3d6
git_last_commit_date: 2025-10-29 10:02:29 -0500
nebbiolo1Linux (Ubuntu 24.04.3 LTS) / x86_64  OK    OK    WARNINGS  UNNEEDED, same version is already published
Package 91/243HostnameOS / ArchINSTALLBUILDCHECKBUILD BIN
GEOexplorer 1.17.0  (landing page)
Guy Hunt
git_last_commit: d50a784
git_last_commit_date: 2025-10-29 11:11:17 -0500
nebbiolo1Linux (Ubuntu 24.04.3 LTS) / x86_64  OK    OK    ERROR  
Package 92/243HostnameOS / ArchINSTALLBUILDCHECKBUILD BIN
GEOquery 2.79.0  (landing page)
Sean Davis
git_last_commit: 05cec56
git_last_commit_date: 2025-10-29 09:57:26 -0500
nebbiolo1Linux (Ubuntu 24.04.3 LTS) / x86_64  OK    OK    WARNINGS  UNNEEDED, same version is already published
Package 93/243HostnameOS / ArchINSTALLBUILDCHECKBUILD BIN
gg4way 1.9.0  (landing page)
Benjamin I Laufer
git_last_commit: d0f2a7c
git_last_commit_date: 2025-10-29 11:25:41 -0500
nebbiolo1Linux (Ubuntu 24.04.3 LTS) / x86_64  OK    OK    OK  UNNEEDED, same version is already published
Package 94/243HostnameOS / ArchINSTALLBUILDCHECKBUILD BIN
gINTomics 1.7.0  (landing page)
Angelo Velle
git_last_commit: 4cacafe
git_last_commit_date: 2025-10-29 11:30:01 -0500
nebbiolo1Linux (Ubuntu 24.04.3 LTS) / x86_64  OK    OK    OK  NO, package depends on 'OmnipathR' which is not available
Package 95/243HostnameOS / ArchINSTALLBUILDCHECKBUILD BIN
Glimma 2.21.0  (landing page)
Shian Su
git_last_commit: c7699be
git_last_commit_date: 2025-10-29 10:31:31 -0500
nebbiolo1Linux (Ubuntu 24.04.3 LTS) / x86_64  OK    OK    OK  UNNEEDED, same version is already published
Package 96/243HostnameOS / ArchINSTALLBUILDCHECKBUILD BIN
GRaNIE 1.15.0  (landing page)
Christian Arnold
git_last_commit: 43246b6
git_last_commit_date: 2025-10-29 11:16:56 -0500
nebbiolo1Linux (Ubuntu 24.04.3 LTS) / x86_64  OK    OK    OK  UNNEEDED, same version is already published
Package 97/243HostnameOS / ArchINSTALLBUILDCHECKBUILD BIN
GUIDEseq 1.41.0  (landing page)
Lihua Julie Zhu
git_last_commit: 4a812cc
git_last_commit_date: 2025-10-29 10:28:16 -0500
nebbiolo1Linux (Ubuntu 24.04.3 LTS) / x86_64  ERROR    ERROR  skipped
Package 98/243HostnameOS / ArchINSTALLBUILDCHECKBUILD BIN
GWAS.BAYES 1.21.0  (landing page)
Jacob Williams
git_last_commit: 131b9a7
git_last_commit_date: 2025-10-29 11:04:22 -0500
nebbiolo1Linux (Ubuntu 24.04.3 LTS) / x86_64  OK    OK    OK  UNNEEDED, same version is already published
Package 99/243HostnameOS / ArchINSTALLBUILDCHECKBUILD BIN
HarmonizR 1.9.0  (landing page)
Simon Schlumbohm
git_last_commit: 17b1b32
git_last_commit_date: 2025-10-29 11:24:28 -0500
nebbiolo1Linux (Ubuntu 24.04.3 LTS) / x86_64  OK    OK    OK  UNNEEDED, same version is already published
Package 100/243HostnameOS / ArchINSTALLBUILDCHECKBUILD BIN
hermes 1.15.0  (landing page)
Daniel Sabanés Bové
git_last_commit: da21eaa
git_last_commit_date: 2025-10-29 11:14:07 -0500
nebbiolo1Linux (Ubuntu 24.04.3 LTS) / x86_64  OK    OK    OK  UNNEEDED, same version is already published
Package 101/243HostnameOS / ArchINSTALLBUILDCHECKBUILD BIN
HERON 1.9.0  (landing page)
Sean McIlwain
git_last_commit: 4b63635
git_last_commit_date: 2025-10-29 11:24:33 -0500
nebbiolo1Linux (Ubuntu 24.04.3 LTS) / x86_64  OK    OK    OK  UNNEEDED, same version is already published
Package 102/243HostnameOS / ArchINSTALLBUILDCHECKBUILD BIN
hipathia 3.11.0  (landing page)
Marta R. Hidalgo
git_last_commit: 14e5361
git_last_commit_date: 2025-10-29 10:44:56 -0500
nebbiolo1Linux (Ubuntu 24.04.3 LTS) / x86_64  OK    ERROR  skipped
Package 103/243HostnameOS / ArchINSTALLBUILDCHECKBUILD BIN
HTqPCR 1.65.0  (landing page)
Matthew N. McCall
git_last_commit: dad1902
git_last_commit_date: 2025-10-29 11:35:16 -0500
nebbiolo1Linux (Ubuntu 24.04.3 LTS) / x86_64  OK    OK    OK  UNNEEDED, same version is already published
Package 104/243HostnameOS / ArchINSTALLBUILDCHECKBUILD BIN
icetea 1.29.0  (landing page)
Vivek Bhardwaj
git_last_commit: 2bfbdfd
git_last_commit_date: 2025-10-29 10:45:57 -0500
nebbiolo1Linux (Ubuntu 24.04.3 LTS) / x86_64  OK    OK    WARNINGS  UNNEEDED, same version is already published
Package 105/243HostnameOS / ArchINSTALLBUILDCHECKBUILD BIN
iCheck 1.41.0  (landing page)
Weiliang Qiu
git_last_commit: da591b3
git_last_commit_date: 2025-10-29 10:28:02 -0500
nebbiolo1Linux (Ubuntu 24.04.3 LTS) / x86_64  OK    OK    OK  UNNEEDED, same version is already published
Package 106/243HostnameOS / ArchINSTALLBUILDCHECKBUILD BIN
iChip 1.65.0  (landing page)
Qianxing Mo
git_last_commit: 25217b9
git_last_commit_date: 2025-10-29 10:04:19 -0500
nebbiolo1Linux (Ubuntu 24.04.3 LTS) / x86_64  OK    OK    WARNINGS  UNNEEDED, same version is already published
Package 107/243HostnameOS / ArchINSTALLBUILDCHECKBUILD BIN
iCOBRA 1.39.0  (landing page)
Charlotte Soneson
git_last_commit: f117d5c
git_last_commit_date: 2025-10-29 10:28:52 -0500
nebbiolo1Linux (Ubuntu 24.04.3 LTS) / x86_64  OK    OK    OK  UNNEEDED, same version is already published
Package 108/243HostnameOS / ArchINSTALLBUILDCHECKBUILD BIN
ideal 2.5.0  (landing page)
Federico Marini
git_last_commit: 2ff36ae
git_last_commit_date: 2025-10-29 10:38:28 -0500
nebbiolo1Linux (Ubuntu 24.04.3 LTS) / x86_64  OK    OK    OK  UNNEEDED, same version is already published
Package 109/243HostnameOS / ArchINSTALLBUILDCHECKBUILD BIN
InPAS 2.19.0  (landing page)
Jianhong Ou
git_last_commit: 5b899e7
git_last_commit_date: 2025-10-29 10:24:45 -0500
nebbiolo1Linux (Ubuntu 24.04.3 LTS) / x86_64  ERROR    ERROR  skipped
Package 110/243HostnameOS / ArchINSTALLBUILDCHECKBUILD BIN
IsoformSwitchAnalyzeR 2.11.0  (landing page)
Kristoffer Vitting-Seerup
git_last_commit: dc055b6
git_last_commit_date: 2025-10-29 10:38:58 -0500
nebbiolo1Linux (Ubuntu 24.04.3 LTS) / x86_64  OK    OK    OK  UNNEEDED, same version is already published
Package 111/243HostnameOS / ArchINSTALLBUILDCHECKBUILD BIN
isomiRs 1.39.0  (landing page)
Lorena Pantano
git_last_commit: feed20d
git_last_commit_date: 2025-10-29 10:31:12 -0500
nebbiolo1Linux (Ubuntu 24.04.3 LTS) / x86_64  OK    OK    ERROR  
Package 112/243HostnameOS / ArchINSTALLBUILDCHECKBUILD BIN
KnowSeq 1.25.0  (landing page)
Daniel Castillo-Secilla
git_last_commit: dda9488
git_last_commit_date: 2025-10-29 10:52:51 -0500
nebbiolo1Linux (Ubuntu 24.04.3 LTS) / x86_64  OK    OK    OK  UNNEEDED, same version is already published
Package 113/243HostnameOS / ArchINSTALLBUILDCHECKBUILD BIN
lemur 1.9.0  (landing page)
Constantin Ahlmann-Eltze
git_last_commit: 2426da6
git_last_commit_date: 2025-10-29 11:26:19 -0500
nebbiolo1Linux (Ubuntu 24.04.3 LTS) / x86_64  OK    OK    WARNINGS  UNNEEDED, same version is already published
Package 114/243HostnameOS / ArchINSTALLBUILDCHECKBUILD BIN
limmaGUI 1.87.0  (landing page)
Gordon Smyth
git_last_commit: 5172739
git_last_commit_date: 2025-10-29 09:54:49 -0500
nebbiolo1Linux (Ubuntu 24.04.3 LTS) / x86_64  OK    OK    OK  UNNEEDED, same version is already published
Package 115/243HostnameOS / ArchINSTALLBUILDCHECKBUILD BIN
limpa 1.3.0  (landing page)
Gordon Smyth
git_last_commit: f6ddba8
git_last_commit_date: 2025-10-29 11:35:19 -0500
nebbiolo1Linux (Ubuntu 24.04.3 LTS) / x86_64  OK    OK    OK  UNNEEDED, same version is already published
Package 116/243HostnameOS / ArchINSTALLBUILDCHECKBUILD BIN
LimROTS 1.3.0  (landing page)
Ali Mostafa Anwar
git_last_commit: a82e83b
git_last_commit_date: 2025-10-29 11:33:21 -0500
nebbiolo1Linux (Ubuntu 24.04.3 LTS) / x86_64  OK    OK    OK  UNNEEDED, same version is already published
Package 117/243HostnameOS / ArchINSTALLBUILDCHECKBUILD BIN
Linnorm 2.35.0  (landing page)
Shun Hang Yip
git_last_commit: 85dd5e1
git_last_commit_date: 2025-10-29 10:31:24 -0500
nebbiolo1Linux (Ubuntu 24.04.3 LTS) / x86_64  OK    OK    OK  UNNEEDED, same version is already published
Package 118/243HostnameOS / ArchINSTALLBUILDCHECKBUILD BIN
lipidr 2.25.0  (landing page)
Ahmed Mohamed
git_last_commit: 364f6ac
git_last_commit_date: 2025-10-29 10:51:46 -0500
nebbiolo1Linux (Ubuntu 24.04.3 LTS) / x86_64  OK    OK    OK  UNNEEDED, same version is already published
Package 119/243HostnameOS / ArchINSTALLBUILDCHECKBUILD BIN
lmdme 1.53.0  (landing page)
Cristobal Fresno
git_last_commit: 885461c
git_last_commit_date: 2025-10-29 10:11:57 -0500
nebbiolo1Linux (Ubuntu 24.04.3 LTS) / x86_64  OK    OK    WARNINGS  UNNEEDED, same version is already published
Package 120/243HostnameOS / ArchINSTALLBUILDCHECKBUILD BIN
maPredictDSC 1.49.0  (landing page)
Adi Laurentiu Tarca
git_last_commit: befed4f
git_last_commit_date: 2025-10-29 10:15:22 -0500
nebbiolo1Linux (Ubuntu 24.04.3 LTS) / x86_64  OK    OK    OK  UNNEEDED, same version is already published
Package 121/243HostnameOS / ArchINSTALLBUILDCHECKBUILD BIN
markeR 1.1.0  (landing page)
Rita Martins-Silva
git_last_commit: 7a7e63f
git_last_commit_date: 2025-10-29 11:38:06 -0500
nebbiolo1Linux (Ubuntu 24.04.3 LTS) / x86_64  OK    OK    OK  UNNEEDED, same version is already published
Package 122/243HostnameOS / ArchINSTALLBUILDCHECKBUILD BIN
marray 1.89.0  (landing page)
Yee Hwa (Jean) Yang
git_last_commit: 7dc98b0
git_last_commit_date: 2025-10-29 09:54:52 -0500
nebbiolo1Linux (Ubuntu 24.04.3 LTS) / x86_64  OK    OK    OK  UNNEEDED, same version is already published
Package 123/243HostnameOS / ArchINSTALLBUILDCHECKBUILD BIN
mastR 1.11.0  (landing page)
Jinjin Chen
git_last_commit: 84f231b
git_last_commit_date: 2025-10-29 11:22:48 -0500
nebbiolo1Linux (Ubuntu 24.04.3 LTS) / x86_64  OK    OK    OK  UNNEEDED, same version is already published
Package 124/243HostnameOS / ArchINSTALLBUILDCHECKBUILD BIN
MatrixQCvis 1.19.0  (landing page)
Thomas Naake
git_last_commit: 0b99d49
git_last_commit_date: 2025-10-29 11:09:24 -0500
nebbiolo1Linux (Ubuntu 24.04.3 LTS) / x86_64  OK    OK    OK  NO, package depends on 'proDA' which is not available
Package 125/243HostnameOS / ArchINSTALLBUILDCHECKBUILD BIN
MBECS 1.15.0  (landing page)
Michael Olbrich
git_last_commit: 796859e
git_last_commit_date: 2025-10-29 11:15:19 -0500
nebbiolo1Linux (Ubuntu 24.04.3 LTS) / x86_64  OK    OK    OK  UNNEEDED, same version is already published
Package 126/243HostnameOS / ArchINSTALLBUILDCHECKBUILD BIN
MBQN 2.23.0  (landing page)
Eva Brombacher
git_last_commit: 6c11f8c
git_last_commit_date: 2025-10-29 10:55:13 -0500
nebbiolo1Linux (Ubuntu 24.04.3 LTS) / x86_64  OK    OK    OK  UNNEEDED, same version is already published
Package 127/243HostnameOS / ArchINSTALLBUILDCHECKBUILD BIN
mCSEA 1.31.0  (landing page)
Jordi Martorell-MarugĂ¡n
git_last_commit: ee727d5
git_last_commit_date: 2025-10-29 10:42:49 -0500
nebbiolo1Linux (Ubuntu 24.04.3 LTS) / x86_64  OK    ERROR  skipped
Package 128/243HostnameOS / ArchINSTALLBUILDCHECKBUILD BIN
MEAL 1.41.0  (landing page)
Xavier EscribĂ  Montagut
git_last_commit: 7b303c8
git_last_commit_date: 2025-10-29 10:28:05 -0500
nebbiolo1Linux (Ubuntu 24.04.3 LTS) / x86_64  OK    OK    WARNINGS  UNNEEDED, same version is already published
Package 129/243HostnameOS / ArchINSTALLBUILDCHECKBUILD BIN
metagenomeSeq 1.53.0  (landing page)
Joseph N. Paulson
git_last_commit: 48a74a4
git_last_commit_date: 2025-10-29 10:14:26 -0500
nebbiolo1Linux (Ubuntu 24.04.3 LTS) / x86_64  OK    OK    ERROR  
Package 130/243HostnameOS / ArchINSTALLBUILDCHECKBUILD BIN
metaseqR2 1.23.0  (landing page)
Panagiotis Moulos
git_last_commit: 25b9df1
git_last_commit_date: 2025-10-29 10:59:18 -0500
nebbiolo1Linux (Ubuntu 24.04.3 LTS) / x86_64  OK    OK    OK  UNNEEDED, same version is already published
Package 131/243HostnameOS / ArchINSTALLBUILDCHECKBUILD BIN
methylKit 1.37.0  (landing page)
Altuna Akalin , Alexander Blume
git_last_commit: 1192e2b
git_last_commit_date: 2025-10-29 10:33:14 -0500
nebbiolo1Linux (Ubuntu 24.04.3 LTS) / x86_64  OK    OK    OK  UNNEEDED, same version is already published
Package 132/243HostnameOS / ArchINSTALLBUILDCHECKBUILD BIN
MethylMix 2.41.0  (landing page)
Olivier Gevaert
git_last_commit: 4e0a470
git_last_commit_date: 2025-10-29 10:21:12 -0500
nebbiolo1Linux (Ubuntu 24.04.3 LTS) / x86_64  OK    OK    OK  UNNEEDED, same version is already published
Package 133/243HostnameOS / ArchINSTALLBUILDCHECKBUILD BIN
microbiomeExplorer 1.21.0  (landing page)
Janina Reeder
git_last_commit: 6045c09
git_last_commit_date: 2025-10-29 11:03:17 -0500
nebbiolo1Linux (Ubuntu 24.04.3 LTS) / x86_64  OK    OK    OK  NO, package depends on 'metagenomeSeq' which is not available
Package 134/243HostnameOS / ArchINSTALLBUILDCHECKBUILD BIN
miloR 2.7.0  (landing page)
Mike Morgan
git_last_commit: 6c5c6a3
git_last_commit_date: 2025-10-29 11:08:58 -0500
nebbiolo1Linux (Ubuntu 24.04.3 LTS) / x86_64  OK    OK    OK  UNNEEDED, same version is already published
Package 135/243HostnameOS / ArchINSTALLBUILDCHECKBUILD BIN
minfi 1.57.0  (landing page)
Kasper Daniel Hansen
git_last_commit: 36249fb
git_last_commit_date: 2025-10-29 10:09:18 -0500
nebbiolo1Linux (Ubuntu 24.04.3 LTS) / x86_64  OK    OK    OK  UNNEEDED, same version is already published
Package 136/243HostnameOS / ArchINSTALLBUILDCHECKBUILD BIN
MIRit 1.7.1  (landing page)
Jacopo Ronchi
git_last_commit: a0208d2
git_last_commit_date: 2025-11-05 08:05:07 -0500
nebbiolo1Linux (Ubuntu 24.04.3 LTS) / x86_64  OK    OK    OK  UNNEEDED, same version is already published
Package 137/243HostnameOS / ArchINSTALLBUILDCHECKBUILD BIN
miRLAB 1.41.0  (landing page)
Thuc Duy Le
git_last_commit: 4190086
git_last_commit_date: 2025-10-29 10:26:51 -0500
nebbiolo1Linux (Ubuntu 24.04.3 LTS) / x86_64  OK    OK    WARNINGS  UNNEEDED, same version is already published
Package 138/243HostnameOS / ArchINSTALLBUILDCHECKBUILD BIN
missMethyl 1.45.0  (landing page)
Belinda Phipson
git_last_commit: 886b656
git_last_commit_date: 2025-10-29 10:20:32 -0500
nebbiolo1Linux (Ubuntu 24.04.3 LTS) / x86_64  OK    OK    WARNINGS  UNNEEDED, same version is already published
Package 139/243HostnameOS / ArchINSTALLBUILDCHECKBUILD BIN
MLSeq 2.29.0  (landing page)
Gokmen Zararsiz
git_last_commit: b1aac87
git_last_commit_date: 2025-10-29 10:18:29 -0500
nebbiolo1Linux (Ubuntu 24.04.3 LTS) / x86_64  OK    OK    OK  UNNEEDED, same version is already published
Package 140/243HostnameOS / ArchINSTALLBUILDCHECKBUILD BIN
moanin 1.19.0  (landing page)
Nelle Varoquaux
git_last_commit: 9becdba
git_last_commit_date: 2025-10-29 11:04:42 -0500
nebbiolo1Linux (Ubuntu 24.04.3 LTS) / x86_64  OK    OK    OK  UNNEEDED, same version is already published
Package 141/243HostnameOS / ArchINSTALLBUILDCHECKBUILD BIN
monocle 2.39.0  (landing page)
Cole Trapnell
git_last_commit: 1349852
git_last_commit_date: 2025-10-29 10:19:37 -0500
nebbiolo1Linux (Ubuntu 24.04.3 LTS) / x86_64  OK    OK    OK  UNNEEDED, same version is already published
Package 142/243HostnameOS / ArchINSTALLBUILDCHECKBUILD BIN
MoonlightR 1.37.0  (landing page)
Matteo Tiberti
git_last_commit: 9303ed6
git_last_commit_date: 2025-10-29 10:35:02 -0500
nebbiolo1Linux (Ubuntu 24.04.3 LTS) / x86_64  OK    OK    OK  UNNEEDED, same version is already published
Package 143/243HostnameOS / ArchINSTALLBUILDCHECKBUILD BIN
mpra 1.33.0  (landing page)
Leslie Myint
git_last_commit: df59fd8
git_last_commit_date: 2025-10-29 10:42:02 -0500
nebbiolo1Linux (Ubuntu 24.04.3 LTS) / x86_64  OK    OK    OK  UNNEEDED, same version is already published
Package 144/243HostnameOS / ArchINSTALLBUILDCHECKBUILD BIN
msImpute 1.21.0  (landing page)
Soroor Hediyeh-zadeh
git_last_commit: 1f62ae8
git_last_commit_date: 2025-10-29 11:02:31 -0500
nebbiolo1Linux (Ubuntu 24.04.3 LTS) / x86_64  OK    OK    OK  UNNEEDED, same version is already published
Package 145/243HostnameOS / ArchINSTALLBUILDCHECKBUILD BIN
mspms 1.3.0  (landing page)
Charlie Bayne
git_last_commit: fa7b34d
git_last_commit_date: 2025-10-29 11:33:10 -0500
nebbiolo1Linux (Ubuntu 24.04.3 LTS) / x86_64  OK    OK    OK  UNNEEDED, same version is already published
Package 146/243HostnameOS / ArchINSTALLBUILDCHECKBUILD BIN
msqrob2 1.19.0  (landing page)
Lieven Clement
git_last_commit: 1fe284d
git_last_commit_date: 2025-10-29 11:09:38 -0500
nebbiolo1Linux (Ubuntu 24.04.3 LTS) / x86_64  OK    OK    OK  UNNEEDED, same version is already published
Package 147/243HostnameOS / ArchINSTALLBUILDCHECKBUILD BIN
MSstats 4.19.0  (landing page)
Meena Choi
git_last_commit: 5806648
git_last_commit_date: 2025-10-29 10:16:50 -0500
nebbiolo1Linux (Ubuntu 24.04.3 LTS) / x86_64  OK    OK    WARNINGS  UNNEEDED, same version is already published
Package 148/243HostnameOS / ArchINSTALLBUILDCHECKBUILD BIN
MSstatsTMT 2.19.0  (landing page)
Devon Kohler
git_last_commit: f287ad0
git_last_commit_date: 2025-10-29 10:48:02 -0500
nebbiolo1Linux (Ubuntu 24.04.3 LTS) / x86_64  OK    OK    OK  UNNEEDED, same version is already published
Package 149/243HostnameOS / ArchINSTALLBUILDCHECKBUILD BIN
MultiDataSet 1.39.0  (landing page)
Xavier EscribĂ  Montagut
git_last_commit: 5045884
git_last_commit_date: 2025-10-29 10:31:59 -0500
nebbiolo1Linux (Ubuntu 24.04.3 LTS) / x86_64  OK    OK    WARNINGS  UNNEEDED, same version is already published
Package 150/243HostnameOS / ArchINSTALLBUILDCHECKBUILD BIN
muscat 1.25.0  (landing page)
Helena L. Crowell
git_last_commit: 7a0ebff
git_last_commit_date: 2025-10-29 10:53:55 -0500
nebbiolo1Linux (Ubuntu 24.04.3 LTS) / x86_64  OK    OK    OK  UNNEEDED, same version is already published
Package 151/243HostnameOS / ArchINSTALLBUILDCHECKBUILD BIN
mutscan 1.1.0  (landing page)
Charlotte Soneson
git_last_commit: 30e3669
git_last_commit_date: 2025-10-29 11:37:32 -0500
nebbiolo1Linux (Ubuntu 24.04.3 LTS) / x86_64  OK    OK    OK  UNNEEDED, same version is already published
Package 152/243HostnameOS / ArchINSTALLBUILDCHECKBUILD BIN
NADfinder 1.35.0  (landing page)
Jianhong Ou
git_last_commit: 7e7a887
git_last_commit_date: 2025-10-29 10:37:48 -0500
nebbiolo1Linux (Ubuntu 24.04.3 LTS) / x86_64  ERROR    ERROR  skipped
Package 153/243HostnameOS / ArchINSTALLBUILDCHECKBUILD BIN
NanoMethViz 3.7.0  (landing page)
Shian Su
git_last_commit: 4349b36
git_last_commit_date: 2025-10-29 11:04:08 -0500
nebbiolo1Linux (Ubuntu 24.04.3 LTS) / x86_64  OK    OK    OK  UNNEEDED, same version is already published
Package 154/243HostnameOS / ArchINSTALLBUILDCHECKBUILD BIN
NanoTube 1.17.0  (landing page)
Caleb Class
git_last_commit: 6e52811
git_last_commit_date: 2025-10-29 11:10:19 -0500
nebbiolo1Linux (Ubuntu 24.04.3 LTS) / x86_64  OK    OK    OK  UNNEEDED, same version is already published
Package 155/243HostnameOS / ArchINSTALLBUILDCHECKBUILD BIN
nethet 1.43.0  (landing page)
Nicolas Staedler
git_last_commit: 603f933
git_last_commit_date: 2025-10-29 10:23:13 -0500
nebbiolo1Linux (Ubuntu 24.04.3 LTS) / x86_64  OK    OK    WARNINGS  UNNEEDED, same version is already published
Package 156/243HostnameOS / ArchINSTALLBUILDCHECKBUILD BIN
nondetects 2.41.0  (landing page)
Valeriia Sherina
git_last_commit: 9d43cbc
git_last_commit_date: 2025-10-29 10:18:46 -0500
nebbiolo1Linux (Ubuntu 24.04.3 LTS) / x86_64  OK    OK    OK  UNNEEDED, same version is already published
Package 157/243HostnameOS / ArchINSTALLBUILDCHECKBUILD BIN
NormalyzerDE 1.29.0  (landing page)
Jakob Willforss
git_last_commit: 1b37592
git_last_commit_date: 2025-10-29 10:47:24 -0500
nebbiolo1Linux (Ubuntu 24.04.3 LTS) / x86_64  OK    OK    WARNINGS  UNNEEDED, same version is already published
Package 158/243HostnameOS / ArchINSTALLBUILDCHECKBUILD BIN
octad 1.13.0  (landing page)
E. Chekalin
git_last_commit: 27dcaeb
git_last_commit_date: 2025-10-29 11:19:54 -0500
nebbiolo1Linux (Ubuntu 24.04.3 LTS) / x86_64  OK    OK    OK  UNNEEDED, same version is already published
Package 159/243HostnameOS / ArchINSTALLBUILDCHECKBUILD BIN
OLIN 1.89.0  (landing page)
Matthias Futschik
git_last_commit: e409e58
git_last_commit_date: 2025-10-29 09:55:15 -0500
nebbiolo1Linux (Ubuntu 24.04.3 LTS) / x86_64  OK    OK    OK  UNNEEDED, same version is already published
Package 160/243HostnameOS / ArchINSTALLBUILDCHECKBUILD BIN
omicRexposome 1.33.0  (landing page)
Xavier EscribĂ  Montagut
git_last_commit: 72cf7a2
git_last_commit_date: 2025-10-29 10:41:13 -0500
nebbiolo1Linux (Ubuntu 24.04.3 LTS) / x86_64  OK    OK    OK  UNNEEDED, same version is already published
Package 161/243HostnameOS / ArchINSTALLBUILDCHECKBUILD BIN
OVESEG 1.27.0  (landing page)
Lulu Chen
git_last_commit: 08399f1
git_last_commit_date: 2025-10-29 10:49:34 -0500
nebbiolo1Linux (Ubuntu 24.04.3 LTS) / x86_64  OK    OK    OK  UNNEEDED, same version is already published
Package 162/243HostnameOS / ArchINSTALLBUILDCHECKBUILD BIN
PAA 1.45.0  (landing page)
Michael Turewicz , Martin Eisenacher
git_last_commit: dfb636c
git_last_commit_date: 2025-10-29 10:22:06 -0500
nebbiolo1Linux (Ubuntu 24.04.3 LTS) / x86_64  OK    OK    OK  UNNEEDED, same version is already published
Package 163/243HostnameOS / ArchINSTALLBUILDCHECKBUILD BIN
PADOG 1.53.0  (landing page)
Adi L. Tarca
git_last_commit: 4e53350
git_last_commit_date: 2025-10-29 10:11:37 -0500
nebbiolo1Linux (Ubuntu 24.04.3 LTS) / x86_64  OK    OK    OK  UNNEEDED, same version is already published
Package 164/243HostnameOS / ArchINSTALLBUILDCHECKBUILD BIN
pairedGSEA 1.11.0  (landing page)
Søren Helweg Dam
git_last_commit: dcfda05
git_last_commit_date: 2025-10-29 11:22:53 -0500
nebbiolo1Linux (Ubuntu 24.04.3 LTS) / x86_64  OK    OK    OK  UNNEEDED, same version is already published
Package 165/243HostnameOS / ArchINSTALLBUILDCHECKBUILD BIN
PanomiR 1.15.0  (landing page)
Pourya Naderi
git_last_commit: eb18fe4
git_last_commit_date: 2025-10-29 11:14:47 -0500
nebbiolo1Linux (Ubuntu 24.04.3 LTS) / x86_64  OK    OK    OK  UNNEEDED, same version is already published
Package 166/243HostnameOS / ArchINSTALLBUILDCHECKBUILD BIN
PathoStat 1.37.0  (landing page)
Solaiappan Manimaran
git_last_commit: b2188f7
git_last_commit_date: 2025-10-29 10:34:57 -0500
nebbiolo1Linux (Ubuntu 24.04.3 LTS) / x86_64  OK    OK    OK  UNNEEDED, same version is already published
Package 167/243HostnameOS / ArchINSTALLBUILDCHECKBUILD BIN
pcaExplorer 3.5.0  (landing page)
Federico Marini
git_last_commit: 4e88ee9
git_last_commit_date: 2025-10-29 10:31:39 -0500
nebbiolo1Linux (Ubuntu 24.04.3 LTS) / x86_64  OK    OK    OK  UNNEEDED, same version is already published
Package 168/243HostnameOS / ArchINSTALLBUILDCHECKBUILD BIN
PECA 1.47.0  (landing page)
Tomi Suomi
git_last_commit: ef37402
git_last_commit_date: 2025-10-29 10:17:25 -0500
nebbiolo1Linux (Ubuntu 24.04.3 LTS) / x86_64  OK    OK    OK  UNNEEDED, same version is already published
Package 169/243HostnameOS / ArchINSTALLBUILDCHECKBUILD BIN
PepSetTest 1.5.0  (landing page)
Junmin Wang
git_last_commit: f2ac665
git_last_commit_date: 2025-10-29 11:30:58 -0500
nebbiolo1Linux (Ubuntu 24.04.3 LTS) / x86_64  OK    OK    OK  UNNEEDED, same version is already published
Package 170/243HostnameOS / ArchINSTALLBUILDCHECKBUILD BIN
pepStat 1.45.0  (landing page)
Gregory C Imholte
git_last_commit: d3092b9
git_last_commit_date: 2025-10-29 10:20:13 -0500
nebbiolo1Linux (Ubuntu 24.04.3 LTS) / x86_64  OK    OK    OK  UNNEEDED, same version is already published
Package 171/243HostnameOS / ArchINSTALLBUILDCHECKBUILD BIN
phantasus 1.31.0  (landing page)
Alexey Sergushichev
git_last_commit: 30cb2d9
git_last_commit_date: 2025-10-29 10:44:01 -0500
nebbiolo1Linux (Ubuntu 24.04.3 LTS) / x86_64  OK    OK    OK  UNNEEDED, same version is already published
Package 172/243HostnameOS / ArchINSTALLBUILDCHECKBUILD BIN
phenomis 1.13.0  (landing page)
Etienne A. Thevenot
git_last_commit: 2244e33
git_last_commit_date: 2025-10-29 11:18:33 -0500
nebbiolo1Linux (Ubuntu 24.04.3 LTS) / x86_64  OK    OK    OK  NO, package depends on 'biodbChebi' which is not available
Package 173/243HostnameOS / ArchINSTALLBUILDCHECKBUILD BIN
phenoTest 1.59.0  (landing page)
Evarist Planet
git_last_commit: 882e53c
git_last_commit_date: 2025-10-29 10:06:30 -0500
nebbiolo1Linux (Ubuntu 24.04.3 LTS) / x86_64  OK    OK    OK  UNNEEDED, same version is already published
Package 174/243HostnameOS / ArchINSTALLBUILDCHECKBUILD BIN
PhosR 1.21.0  (landing page)
Di Xiao
git_last_commit: 244f040
git_last_commit_date: 2025-10-29 11:02:33 -0500
nebbiolo1Linux (Ubuntu 24.04.3 LTS) / x86_64  OK    OK    OK  UNNEEDED, same version is already published
Package 175/243HostnameOS / ArchINSTALLBUILDCHECKBUILD BIN
PolySTest 1.5.0  (landing page)
Veit Schwämmle
git_last_commit: 98ded58
git_last_commit_date: 2025-10-29 11:31:01 -0500
nebbiolo1Linux (Ubuntu 24.04.3 LTS) / x86_64  OK    OK    OK  UNNEEDED, same version is already published
Package 176/243HostnameOS / ArchINSTALLBUILDCHECKBUILD BIN
POMA 1.21.0  (landing page)
Pol Castellano-Escuder
git_last_commit: e8ab1e6
git_last_commit_date: 2025-10-29 11:01:06 -0500
nebbiolo1Linux (Ubuntu 24.04.3 LTS) / x86_64  OK    OK    OK  UNNEEDED, same version is already published
Package 177/243HostnameOS / ArchINSTALLBUILDCHECKBUILD BIN
POWSC 1.19.0  (landing page)
Kenong Su
git_last_commit: b092ca1
git_last_commit_date: 2025-10-29 11:09:11 -0500
nebbiolo1Linux (Ubuntu 24.04.3 LTS) / x86_64  OK    OK    OK  UNNEEDED, same version is already published
Package 178/243HostnameOS / ArchINSTALLBUILDCHECKBUILD BIN
projectR 1.27.0  (landing page)
Genevieve Stein-O'Brien
git_last_commit: d55d8c4
git_last_commit_date: 2025-10-29 10:50:52 -0500
nebbiolo1Linux (Ubuntu 24.04.3 LTS) / x86_64  OK    OK    OK  UNNEEDED, same version is already published
Package 179/243HostnameOS / ArchINSTALLBUILDCHECKBUILD BIN
PRONE 1.5.0  (landing page)
Lis Arend
git_last_commit: cfe6a55
git_last_commit_date: 2025-10-29 11:32:38 -0500
nebbiolo1Linux (Ubuntu 24.04.3 LTS) / x86_64  OK    OK    OK  UNNEEDED, same version is already published
Package 180/243HostnameOS / ArchINSTALLBUILDCHECKBUILD BIN
protGear 1.15.0  (landing page)
Kennedy Mwai
git_last_commit: 1c28da5
git_last_commit_date: 2025-10-29 11:15:59 -0500
nebbiolo1Linux (Ubuntu 24.04.3 LTS) / x86_64  OK    OK    OK  UNNEEDED, same version is already published
Package 181/243HostnameOS / ArchINSTALLBUILDCHECKBUILD BIN
psichomics 1.37.0  (landing page)
Nuno Saraiva-Agostinho
git_last_commit: a7c8792
git_last_commit_date: 2025-10-29 10:35:05 -0500
nebbiolo1Linux (Ubuntu 24.04.3 LTS) / x86_64  OK    OK    OK  UNNEEDED, same version is already published
Package 182/243HostnameOS / ArchINSTALLBUILDCHECKBUILD BIN
qmtools 1.15.0  (landing page)
Jaehyun Joo
git_last_commit: ea14738
git_last_commit_date: 2025-10-29 11:16:09 -0500
nebbiolo1Linux (Ubuntu 24.04.3 LTS) / x86_64  OK    OK    OK  UNNEEDED, same version is already published
Package 183/243HostnameOS / ArchINSTALLBUILDCHECKBUILD BIN
qpcrNorm 1.69.0  (landing page)
Jessica Mar
git_last_commit: 9244214
git_last_commit_date: 2025-10-29 10:02:38 -0500
nebbiolo1Linux (Ubuntu 24.04.3 LTS) / x86_64  OK    OK    OK  UNNEEDED, same version is already published
Package 184/243HostnameOS / ArchINSTALLBUILDCHECKBUILD BIN
qPLEXanalyzer 1.29.0  (landing page)
Ashley Sawle
git_last_commit: d72dc3a
git_last_commit_date: 2025-10-29 10:46:08 -0500
nebbiolo1Linux (Ubuntu 24.04.3 LTS) / x86_64  OK    ERROR  skipped
Package 185/243HostnameOS / ArchINSTALLBUILDCHECKBUILD BIN
qsea 1.37.0  (landing page)
Matthias Lienhard
git_last_commit: ef750af
git_last_commit_date: 2025-10-29 10:32:56 -0500
nebbiolo1Linux (Ubuntu 24.04.3 LTS) / x86_64  OK    OK    WARNINGS  UNNEEDED, same version is already published
Package 186/243HostnameOS / ArchINSTALLBUILDCHECKBUILD BIN
qusage 2.45.0  (landing page)
Christopher Bolen
git_last_commit: 6db5ad6
git_last_commit_date: 2025-10-29 10:16:07 -0500
nebbiolo1Linux (Ubuntu 24.04.3 LTS) / x86_64  OK    OK    OK  UNNEEDED, same version is already published
Package 187/243HostnameOS / ArchINSTALLBUILDCHECKBUILD BIN
RBM 1.43.0  (landing page)
Dongmei Li
git_last_commit: f326c20
git_last_commit_date: 2025-10-29 10:25:01 -0500
nebbiolo1Linux (Ubuntu 24.04.3 LTS) / x86_64  OK    OK    OK  UNNEEDED, same version is already published
Package 188/243HostnameOS / ArchINSTALLBUILDCHECKBUILD BIN
rCGH 1.41.0  (landing page)
Frederic Commo
git_last_commit: 1f54d5a
git_last_commit_date: 2025-10-29 10:26:46 -0500
nebbiolo1Linux (Ubuntu 24.04.3 LTS) / x86_64  OK    OK    OK  UNNEEDED, same version is already published
Package 189/243HostnameOS / ArchINSTALLBUILDCHECKBUILD BIN
RegEnrich 1.21.0  (landing page)
Weiyang Tao
git_last_commit: 73e2009
git_last_commit_date: 2025-10-29 11:00:04 -0500
nebbiolo1Linux (Ubuntu 24.04.3 LTS) / x86_64  OK    OK    OK  UNNEEDED, same version is already published
Package 190/243HostnameOS / ArchINSTALLBUILDCHECKBUILD BIN
regsplice 1.37.0  (landing page)
Lukas M. Weber
git_last_commit: e903be0
git_last_commit_date: 2025-10-29 10:35:24 -0500
nebbiolo1Linux (Ubuntu 24.04.3 LTS) / x86_64  OK    OK    OK  UNNEEDED, same version is already published
Package 191/243HostnameOS / ArchINSTALLBUILDCHECKBUILD BIN
ReportingTools 2.51.0  (landing page)
Jason A. Hackney , Gabriel Becker
git_last_commit: ba00f72
git_last_commit_date: 2025-10-29 10:12:14 -0500
nebbiolo1Linux (Ubuntu 24.04.3 LTS) / x86_64  OK    OK    OK  UNNEEDED, same version is already published
Package 192/243HostnameOS / ArchINSTALLBUILDCHECKBUILD BIN
RFLOMICS 1.3.0  (landing page)
Nadia Bessoltane
git_last_commit: a7a98e3
git_last_commit_date: 2025-10-29 11:35:35 -0500
nebbiolo1Linux (Ubuntu 24.04.3 LTS) / x86_64  OK    OK    OK  UNNEEDED, same version is already published
Package 193/243HostnameOS / ArchINSTALLBUILDCHECKBUILD BIN
RNAseqCovarImpute 1.9.0  (landing page)
Brennan Baker
git_last_commit: c21a243
git_last_commit_date: 2025-10-29 11:25:57 -0500
nebbiolo1Linux (Ubuntu 24.04.3 LTS) / x86_64  OK    OK    OK  UNNEEDED, same version is already published
Package 194/243HostnameOS / ArchINSTALLBUILDCHECKBUILD BIN
RnBeads 2.29.0  (landing page)
Fabian Mueller
git_last_commit: 49f6545
git_last_commit_date: 2025-10-29 10:25:50 -0500
nebbiolo1Linux (Ubuntu 24.04.3 LTS) / x86_64  OK    OK    OK  UNNEEDED, same version is already published
Package 195/243HostnameOS / ArchINSTALLBUILDCHECKBUILD BIN
Rnits 1.45.0  (landing page)
Dipen P. Sangurdekar
git_last_commit: d587459
git_last_commit_date: 2025-10-29 10:21:15 -0500
nebbiolo1Linux (Ubuntu 24.04.3 LTS) / x86_64  OK    OK    WARNINGS  UNNEEDED, same version is already published
Package 196/243HostnameOS / ArchINSTALLBUILDCHECKBUILD BIN
roastgsa 1.9.0  (landing page)
Adria Caballe
git_last_commit: 02f08d7
git_last_commit_date: 2025-10-29 11:24:38 -0500
nebbiolo1Linux (Ubuntu 24.04.3 LTS) / x86_64  OK    OK    OK  UNNEEDED, same version is already published
Package 197/243HostnameOS / ArchINSTALLBUILDCHECKBUILD BIN
ROSeq 1.23.0  (landing page)
Krishan Gupta
git_last_commit: da1505d
git_last_commit_date: 2025-10-29 10:58:57 -0500
nebbiolo1Linux (Ubuntu 24.04.3 LTS) / x86_64  OK    OK    WARNINGS  UNNEEDED, same version is already published
Package 198/243HostnameOS / ArchINSTALLBUILDCHECKBUILD BIN
RTN 2.35.0  (landing page)
Mauro Castro
git_last_commit: 4efc78c
git_last_commit_date: 2025-10-29 10:15:52 -0500
nebbiolo1Linux (Ubuntu 24.04.3 LTS) / x86_64  OK    OK    OK  UNNEEDED, same version is already published
Package 199/243HostnameOS / ArchINSTALLBUILDCHECKBUILD BIN
RTopper 1.57.0  (landing page)
Luigi Marchionni
git_last_commit: cedb1d4
git_last_commit_date: 2025-10-29 10:08:47 -0500
nebbiolo1Linux (Ubuntu 24.04.3 LTS) / x86_64  OK    OK    OK  UNNEEDED, same version is already published
Package 200/243HostnameOS / ArchINSTALLBUILDCHECKBUILD BIN
saseR 1.7.0  (landing page)
Alexandre Segers
git_last_commit: 7f96081
git_last_commit_date: 2025-10-29 11:27:12 -0500
nebbiolo1Linux (Ubuntu 24.04.3 LTS) / x86_64  OK    OK    WARNINGS  UNNEEDED, same version is already published
Package 201/243HostnameOS / ArchINSTALLBUILDCHECKBUILD BIN
satuRn 1.19.0  (landing page)
Jeroen Gilis
git_last_commit: f956e7e
git_last_commit_date: 2025-10-29 11:06:23 -0500
nebbiolo1Linux (Ubuntu 24.04.3 LTS) / x86_64  OK    OK    OK  UNNEEDED, same version is already published
Package 202/243HostnameOS / ArchINSTALLBUILDCHECKBUILD BIN
scClassify 1.23.0  (landing page)
Yingxin Lin
git_last_commit: 7865ea1
git_last_commit_date: 2025-10-29 10:58:49 -0500
nebbiolo1Linux (Ubuntu 24.04.3 LTS) / x86_64  OK    OK    OK  UNNEEDED, same version is already published
Package 203/243HostnameOS / ArchINSTALLBUILDCHECKBUILD BIN
scone 1.35.0  (landing page)
Davide Risso
git_last_commit: 60f7f37
git_last_commit_date: 2025-10-29 10:36:05 -0500
nebbiolo1Linux (Ubuntu 24.04.3 LTS) / x86_64  OK    OK    OK  UNNEEDED, same version is already published
Package 204/243HostnameOS / ArchINSTALLBUILDCHECKBUILD BIN
scQTLtools 1.3.0  (landing page)
Xiaofeng Wu
git_last_commit: 2285e5a
git_last_commit_date: 2025-10-29 11:34:00 -0500
nebbiolo1Linux (Ubuntu 24.04.3 LTS) / x86_64  OK    OK    ERROR  
Package 205/243HostnameOS / ArchINSTALLBUILDCHECKBUILD BIN
scran 1.39.0  (landing page)
Aaron Lun
git_last_commit: 5b4b8a1
git_last_commit_date: 2025-10-29 10:31:34 -0500
nebbiolo1Linux (Ubuntu 24.04.3 LTS) / x86_64  OK    OK    WARNINGS  UNNEEDED, same version is already published
Package 206/243HostnameOS / ArchINSTALLBUILDCHECKBUILD BIN
ScreenR 1.13.0  (landing page)
Emanuel Michele Soda
git_last_commit: 6addcf9
git_last_commit_date: 2025-10-29 11:17:18 -0500
nebbiolo1Linux (Ubuntu 24.04.3 LTS) / x86_64  OK    OK    ERROR  
Package 207/243HostnameOS / ArchINSTALLBUILDCHECKBUILD BIN
scviR 1.11.0  (landing page)
Vincent Carey
git_last_commit: 4329942
git_last_commit_date: 2025-10-29 11:21:42 -0500
nebbiolo1Linux (Ubuntu 24.04.3 LTS) / x86_64  OK    OK    OK  UNNEEDED, same version is already published
Package 208/243HostnameOS / ArchINSTALLBUILDCHECKBUILD BIN
seqsetvis 1.31.0  (landing page)
Joseph R Boyd
git_last_commit: 1aad17d
git_last_commit_date: 2025-10-29 10:44:19 -0500
nebbiolo1Linux (Ubuntu 24.04.3 LTS) / x86_64  OK    ERROR  skipped
Package 209/243HostnameOS / ArchINSTALLBUILDCHECKBUILD BIN
shinyDSP 1.3.0  (landing page)
Seung J. Kim
git_last_commit: cdbba28
git_last_commit_date: 2025-10-29 11:35:46 -0500
nebbiolo1Linux (Ubuntu 24.04.3 LTS) / x86_64  OK    OK    OK  UNNEEDED, same version is already published
Package 210/243HostnameOS / ArchINSTALLBUILDCHECKBUILD BIN
shinyepico 1.19.0  (landing page)
Octavio Morante-Palacios
git_last_commit: 96d9166
git_last_commit_date: 2025-10-29 11:04:44 -0500
nebbiolo1Linux (Ubuntu 24.04.3 LTS) / x86_64  OK    OK    OK  UNNEEDED, same version is already published
Package 211/243HostnameOS / ArchINSTALLBUILDCHECKBUILD BIN
singleCellTK 2.21.0  (landing page)
Joshua David Campbell
git_last_commit: 4895b66
git_last_commit_date: 2025-10-29 11:29:49 -0500
nebbiolo1Linux (Ubuntu 24.04.3 LTS) / x86_64  OK    OK    OK  UNNEEDED, same version is already published
Package 212/243HostnameOS / ArchINSTALLBUILDCHECKBUILD BIN
SmartPhos 1.1.0  (landing page)
Shubham Agrawal
git_last_commit: 9abaf07
git_last_commit_date: 2025-10-29 11:38:54 -0500
nebbiolo1Linux (Ubuntu 24.04.3 LTS) / x86_64  OK    OK    OK  NO, package depends on 'proDA' which is not available
Package 213/243HostnameOS / ArchINSTALLBUILDCHECKBUILD BIN
sparrow 1.17.0  (landing page)
Steve Lianoglou
git_last_commit: 03b668b
git_last_commit_date: 2025-10-29 11:12:41 -0500
nebbiolo1Linux (Ubuntu 24.04.3 LTS) / x86_64  OK    OK    OK  UNNEEDED, same version is already published
Package 214/243HostnameOS / ArchINSTALLBUILDCHECKBUILD BIN
speckle 1.11.0  (landing page)
Belinda Phipson
git_last_commit: 36f86ad
git_last_commit_date: 2025-10-29 11:20:18 -0500
nebbiolo1Linux (Ubuntu 24.04.3 LTS) / x86_64  OK    OK    OK  UNNEEDED, same version is already published
Package 215/243HostnameOS / ArchINSTALLBUILDCHECKBUILD BIN
splineTimeR 1.39.0  (landing page)
Herbert Braselmann , Martin Selmansberger
git_last_commit: 2658c19
git_last_commit_date: 2025-10-29 10:29:14 -0500
nebbiolo1Linux (Ubuntu 24.04.3 LTS) / x86_64  OK    OK    OK  UNNEEDED, same version is already published
Package 216/243HostnameOS / ArchINSTALLBUILDCHECKBUILD BIN
SPsimSeq 1.21.0  (landing page)
Joris Meys
git_last_commit: c584581
git_last_commit_date: 2025-10-29 11:00:01 -0500
nebbiolo1Linux (Ubuntu 24.04.3 LTS) / x86_64  OK    OK    OK  UNNEEDED, same version is already published
Package 217/243HostnameOS / ArchINSTALLBUILDCHECKBUILD BIN
standR 1.15.0  (landing page)
Ning Liu
git_last_commit: 9a79065
git_last_commit_date: 2025-10-29 11:16:04 -0500
nebbiolo1Linux (Ubuntu 24.04.3 LTS) / x86_64  OK    OK    OK  UNNEEDED, same version is already published
Package 218/243HostnameOS / ArchINSTALLBUILDCHECKBUILD BIN
STATegRa 1.47.0  (landing page)
David Gomez-Cabrero , NĂºria Planell
git_last_commit: 1932640
git_last_commit_date: 2025-10-29 10:22:24 -0500
nebbiolo1Linux (Ubuntu 24.04.3 LTS) / x86_64  OK    OK    OK  UNNEEDED, same version is already published
Package 219/243HostnameOS / ArchINSTALLBUILDCHECKBUILD BIN
Statial 1.13.0  (landing page)
Farhan Ameen
git_last_commit: 2a5a1ee
git_last_commit_date: 2025-10-29 11:19:57 -0500
nebbiolo1Linux (Ubuntu 24.04.3 LTS) / x86_64  OK    OK    OK  UNNEEDED, same version is already published
Package 220/243HostnameOS / ArchINSTALLBUILDCHECKBUILD BIN
sva 3.59.0  (landing page)
Jeffrey T. Leek , John D. Storey
git_last_commit: fefe806
git_last_commit_date: 2025-10-29 10:09:21 -0500
nebbiolo1Linux (Ubuntu 24.04.3 LTS) / x86_64  OK    OK    OK  UNNEEDED, same version is already published
Package 221/243HostnameOS / ArchINSTALLBUILDCHECKBUILD BIN
timecourse 1.83.0  (landing page)
Yu Chuan Tai
git_last_commit: 7b6e6b3
git_last_commit_date: 2025-10-29 09:56:54 -0500
nebbiolo1Linux (Ubuntu 24.04.3 LTS) / x86_64  OK    OK    OK  UNNEEDED, same version is already published
Package 222/243HostnameOS / ArchINSTALLBUILDCHECKBUILD BIN
TMSig 1.5.0  (landing page)
Tyler Sagendorf
git_last_commit: cf64558
git_last_commit_date: 2025-10-29 11:33:04 -0500
nebbiolo1Linux (Ubuntu 24.04.3 LTS) / x86_64  OK    OK    OK  UNNEEDED, same version is already published
Package 223/243HostnameOS / ArchINSTALLBUILDCHECKBUILD BIN
TOAST 1.25.0  (landing page)
Ziyi Li
git_last_commit: dab62cf
git_last_commit_date: 2025-10-29 10:52:46 -0500
nebbiolo1Linux (Ubuntu 24.04.3 LTS) / x86_64  OK    OK    OK  UNNEEDED, same version is already published
Package 224/243HostnameOS / ArchINSTALLBUILDCHECKBUILD BIN
TOP 1.11.0  (landing page)
Harry Robertson
git_last_commit: 30abd4f
git_last_commit_date: 2025-10-29 11:23:14 -0500
nebbiolo1Linux (Ubuntu 24.04.3 LTS) / x86_64  OK    OK    OK  UNNEEDED, same version is already published
Package 225/243HostnameOS / ArchINSTALLBUILDCHECKBUILD BIN
ToxicoGx 2.15.0  (landing page)
Benjamin Haibe-Kains
git_last_commit: 0781b14
git_last_commit_date: 2025-10-29 11:00:15 -0500
nebbiolo1Linux (Ubuntu 24.04.3 LTS) / x86_64  OK    OK    OK  UNNEEDED, same version is already published
Package 226/243HostnameOS / ArchINSTALLBUILDCHECKBUILD BIN
TPP 3.39.0  (landing page)
Dorothee Childs
git_last_commit: e52a5e5
git_last_commit_date: 2025-10-29 10:25:26 -0500
nebbiolo1Linux (Ubuntu 24.04.3 LTS) / x86_64  OK    OK    OK  UNNEEDED, same version is already published
Package 227/243HostnameOS / ArchINSTALLBUILDCHECKBUILD BIN
TPP2D 1.27.0  (landing page)
Nils Kurzawa
git_last_commit: 4223558
git_last_commit_date: 2025-10-29 10:52:09 -0500
nebbiolo1Linux (Ubuntu 24.04.3 LTS) / x86_64  OK    OK    OK  UNNEEDED, same version is already published
Package 228/243HostnameOS / ArchINSTALLBUILDCHECKBUILD BIN
transcriptogramer 1.33.0  (landing page)
Diego Morais
git_last_commit: c57474a
git_last_commit_date: 2025-10-29 10:42:09 -0500
nebbiolo1Linux (Ubuntu 24.04.3 LTS) / x86_64  OK    OK    OK  UNNEEDED, same version is already published
Package 229/243HostnameOS / ArchINSTALLBUILDCHECKBUILD BIN
tRanslatome 1.49.0  (landing page)
Toma Tebaldi , Erik Dassi
git_last_commit: 6b31799
git_last_commit_date: 2025-10-29 10:14:58 -0500
nebbiolo1Linux (Ubuntu 24.04.3 LTS) / x86_64  OK    OK    OK  UNNEEDED, same version is already published
Package 230/243HostnameOS / ArchINSTALLBUILDCHECKBUILD BIN
TurboNorm 1.59.0  (landing page)
Maarten van Iterson
git_last_commit: 037c11e
git_last_commit_date: 2025-10-29 10:06:24 -0500
nebbiolo1Linux (Ubuntu 24.04.3 LTS) / x86_64  OK    OK    OK  UNNEEDED, same version is already published
Package 231/243HostnameOS / ArchINSTALLBUILDCHECKBUILD BIN
TVTB 1.37.0  (landing page)
Kevin Rue-Albrecht
git_last_commit: 7c8a13b
git_last_commit_date: 2025-10-29 10:35:21 -0500
nebbiolo1Linux (Ubuntu 24.04.3 LTS) / x86_64  OK    OK    OK  UNNEEDED, same version is already published
Package 232/243HostnameOS / ArchINSTALLBUILDCHECKBUILD BIN
tweeDEseq 1.57.0  (landing page)
Dolors Pelegri-Siso
git_last_commit: d453ad1
git_last_commit_date: 2025-10-29 10:09:35 -0500
nebbiolo1Linux (Ubuntu 24.04.3 LTS) / x86_64  OK    OK    WARNINGS  UNNEEDED, same version is already published
Package 233/243HostnameOS / ArchINSTALLBUILDCHECKBUILD BIN
unifiedWMWqPCR 1.47.0  (landing page)
Joris Meys
git_last_commit: 2c20907
git_last_commit_date: 2025-10-29 10:18:11 -0500
nebbiolo1Linux (Ubuntu 24.04.3 LTS) / x86_64  OK    OK    OK  UNNEEDED, same version is already published
Package 234/243HostnameOS / ArchINSTALLBUILDCHECKBUILD BIN
variancePartition 1.41.0  (landing page)
Gabriel E. Hoffman
git_last_commit: 079e2d9
git_last_commit_date: 2025-10-29 10:27:03 -0500
nebbiolo1Linux (Ubuntu 24.04.3 LTS) / x86_64  OK    OK    OK  UNNEEDED, same version is already published
Package 235/243HostnameOS / ArchINSTALLBUILDCHECKBUILD BIN
vsclust 1.13.0  (landing page)
Veit Schwammle
git_last_commit: 72e8c77
git_last_commit_date: 2025-10-29 11:19:19 -0500
nebbiolo1Linux (Ubuntu 24.04.3 LTS) / x86_64  OK    OK    OK  UNNEEDED, same version is already published
Package 236/243HostnameOS / ArchINSTALLBUILDCHECKBUILD BIN
vsn 3.79.0  (landing page)
Wolfgang Huber
git_last_commit: c1fc26a
git_last_commit_date: 2025-10-29 09:42:11 -0500
nebbiolo1Linux (Ubuntu 24.04.3 LTS) / x86_64  OK    OK    OK  UNNEEDED, same version is already published
Package 237/243HostnameOS / ArchINSTALLBUILDCHECKBUILD BIN
wateRmelon 2.17.0  (landing page)
Leo C Schalkwyk
git_last_commit: e1ace56
git_last_commit_date: 2025-10-29 10:13:04 -0500
nebbiolo1Linux (Ubuntu 24.04.3 LTS) / x86_64  OK    OK    WARNINGS  UNNEEDED, same version is already published
Package 238/243HostnameOS / ArchINSTALLBUILDCHECKBUILD BIN
weitrix 1.23.0  (landing page)
Paul Harrison
git_last_commit: 0187a17
git_last_commit_date: 2025-10-29 10:59:24 -0500
nebbiolo1Linux (Ubuntu 24.04.3 LTS) / x86_64  OK    OK    OK  UNNEEDED, same version is already published
Package 239/243HostnameOS / ArchINSTALLBUILDCHECKBUILD BIN
Wrench 1.29.0  (landing page)
Hector Corrada Bravo
git_last_commit: 9e3a020
git_last_commit_date: 2025-10-29 10:48:33 -0500
nebbiolo1Linux (Ubuntu 24.04.3 LTS) / x86_64  OK    OK    OK  UNNEEDED, same version is already published
Package 240/243HostnameOS / ArchINSTALLBUILDCHECKBUILD BIN
XAItest 1.3.0  (landing page)
Ghislain FIEVET
git_last_commit: b1f364c
git_last_commit_date: 2025-10-29 11:35:10 -0500
nebbiolo1Linux (Ubuntu 24.04.3 LTS) / x86_64  OK    OK    WARNINGS  UNNEEDED, same version is already published
Package 241/243HostnameOS / ArchINSTALLBUILDCHECKBUILD BIN
yamss 1.37.0  (landing page)
Leslie Myint
git_last_commit: 9695dd5
git_last_commit_date: 2025-10-29 10:35:27 -0500
nebbiolo1Linux (Ubuntu 24.04.3 LTS) / x86_64  OK    OK    OK  UNNEEDED, same version is already published
Package 242/243HostnameOS / ArchINSTALLBUILDCHECKBUILD BIN
yarn 1.37.0  (landing page)
Joseph N Paulson
git_last_commit: 1ca2322
git_last_commit_date: 2025-10-29 10:35:35 -0500
nebbiolo1Linux (Ubuntu 24.04.3 LTS) / x86_64  OK    OK    OK  UNNEEDED, same version is already published
Package 243/243HostnameOS / ArchINSTALLBUILDCHECKBUILD BIN
zenith 1.13.0  (landing page)
Gabriel Hoffman
git_last_commit: d8b9255
git_last_commit_date: 2025-10-29 11:18:08 -0500
nebbiolo1Linux (Ubuntu 24.04.3 LTS) / x86_64  OK    OK    WARNINGS  UNNEEDED, same version is already published