| Back to Multiple platform build/check report for BioC 3.23: simplified long |
|
This page was generated on 2025-11-19 10:14 -0500 (Wed, 19 Nov 2025).
| Hostname | OS | Arch (*) | R version | Installed pkgs |
|---|---|---|---|---|
| nebbiolo1 | Linux (Ubuntu 24.04.3 LTS) | x86_64 | R Under development (unstable) (2025-10-20 r88955) -- "Unsuffered Consequences" | 4827 |
| lconway | macOS 12.7.6 Monterey | x86_64 | R Under development (unstable) (2025-10-21 r88958) -- "Unsuffered Consequences" | 4600 |
| kjohnson3 | macOS 13.7.7 Ventura | arm64 | R Under development (unstable) (2025-11-04 r88984) -- "Unsuffered Consequences" | 4564 |
| Click on any hostname to see more info about the system (e.g. compilers) (*) as reported by 'uname -p', except on Windows and Mac OS X | ||||
| Package 788/2325 | Hostname | OS / Arch | INSTALL | BUILD | CHECK | BUILD BIN | ||||||||
| gCrisprTools 2.17.0 (landing page) Russell Bainer
| nebbiolo1 | Linux (Ubuntu 24.04.3 LTS) / x86_64 | OK | OK | OK | |||||||||
| lconway | macOS 12.7.6 Monterey / x86_64 | OK | OK | OK | OK | |||||||||
| kjohnson3 | macOS 13.7.7 Ventura / arm64 | OK | OK | OK | OK | |||||||||
|
To the developers/maintainers of the gCrisprTools package: - Allow up to 24 hours (and sometimes 48 hours) for your latest push to git@git.bioconductor.org:packages/gCrisprTools.git to reflect on this report. See Troubleshooting Build Report for more information. - Use the following Renviron settings to reproduce errors and warnings. - If 'R CMD check' started to fail recently on the Linux builder(s) over a missing dependency, add the missing dependency to 'Suggests:' in your DESCRIPTION file. See Renviron.bioc for more information. |
| Package: gCrisprTools |
| Version: 2.17.0 |
| Command: /Library/Frameworks/R.framework/Resources/bin/R CMD check --install=check:gCrisprTools.install-out.txt --library=/Library/Frameworks/R.framework/Resources/library --no-vignettes --timings gCrisprTools_2.17.0.tar.gz |
| StartedAt: 2025-11-18 20:07:33 -0500 (Tue, 18 Nov 2025) |
| EndedAt: 2025-11-18 20:10:33 -0500 (Tue, 18 Nov 2025) |
| EllapsedTime: 180.2 seconds |
| RetCode: 0 |
| Status: OK |
| CheckDir: gCrisprTools.Rcheck |
| Warnings: 0 |
##############################################################################
##############################################################################
###
### Running command:
###
### /Library/Frameworks/R.framework/Resources/bin/R CMD check --install=check:gCrisprTools.install-out.txt --library=/Library/Frameworks/R.framework/Resources/library --no-vignettes --timings gCrisprTools_2.17.0.tar.gz
###
##############################################################################
##############################################################################
* using log directory ‘/Users/biocbuild/bbs-3.23-bioc/meat/gCrisprTools.Rcheck’
* using R Under development (unstable) (2025-11-04 r88984)
* using platform: aarch64-apple-darwin20
* R was compiled by
Apple clang version 16.0.0 (clang-1600.0.26.6)
GNU Fortran (GCC) 14.2.0
* running under: macOS Ventura 13.7.8
* using session charset: UTF-8
* using option ‘--no-vignettes’
* checking for file ‘gCrisprTools/DESCRIPTION’ ... OK
* checking extension type ... Package
* this is package ‘gCrisprTools’ version ‘2.17.0’
* package encoding: UTF-8
* checking package namespace information ... OK
* checking package dependencies ... OK
* checking if this is a source package ... OK
* checking if there is a namespace ... OK
* checking for hidden files and directories ... OK
* checking for portable file names ... OK
* checking for sufficient/correct file permissions ... OK
* checking whether package ‘gCrisprTools’ can be installed ... OK
* checking installed package size ... OK
* checking package directory ... OK
* checking ‘build’ directory ... OK
* checking DESCRIPTION meta-information ... OK
* checking top-level files ... OK
* checking for left-over files ... OK
* checking index information ... OK
* checking package subdirectories ... OK
* checking code files for non-ASCII characters ... OK
* checking R files for syntax errors ... OK
* checking whether the package can be loaded ... OK
* checking whether the package can be loaded with stated dependencies ... OK
* checking whether the package can be unloaded cleanly ... OK
* checking whether the namespace can be loaded with stated dependencies ... OK
* checking whether the namespace can be unloaded cleanly ... OK
* checking dependencies in R code ... NOTE
Namespace in Imports field not imported from: ‘RobustRankAggreg’
All declared Imports should be used.
* checking S3 generic/method consistency ... OK
* checking replacement functions ... OK
* checking foreign function calls ... OK
* checking R code for possible problems ... OK
* checking Rd files ... OK
* checking Rd metadata ... OK
* checking Rd cross-references ... OK
* checking for missing documentation entries ... OK
* checking for code/documentation mismatches ... OK
* checking Rd \usage sections ... NOTE
Documented arguments not in \usage in Rd file 'ct.targetSetEnrichment.Rd':
‘pvalue.cutoff’ ‘organism’ ‘db.cut’ ‘species’
Functions with \usage entries need to have the appropriate \alias
entries, and all their arguments documented.
The \usage entries must correspond to syntactically valid R code.
See chapter ‘Writing R documentation files’ in the ‘Writing R
Extensions’ manual.
* checking Rd contents ... OK
* checking for unstated dependencies in examples ... OK
* checking contents of ‘data’ directory ... OK
* checking data for non-ASCII characters ... OK
* checking data for ASCII and uncompressed saves ... OK
* checking files in ‘vignettes’ ... OK
* checking examples ... OK
Examples with CPU (user + system) or elapsed time > 5s
user system elapsed
ct.GREATdb 30.111 0.658 32.282
ct.guideCDF 5.416 2.630 8.582
ct.makeReport 6.599 0.975 7.880
* checking for unstated dependencies in ‘tests’ ... OK
* checking tests ...
Running ‘unit.tests.R’
OK
* checking for unstated dependencies in vignettes ... OK
* checking package vignettes ... OK
* checking running R code from vignettes ... SKIPPED
* checking re-building of vignette outputs ... SKIPPED
* checking PDF version of manual ... OK
* DONE
Status: 2 NOTEs
See
‘/Users/biocbuild/bbs-3.23-bioc/meat/gCrisprTools.Rcheck/00check.log’
for details.
gCrisprTools.Rcheck/00install.out
############################################################################## ############################################################################## ### ### Running command: ### ### /Library/Frameworks/R.framework/Resources/bin/R CMD INSTALL gCrisprTools ### ############################################################################## ############################################################################## * installing to library ‘/Library/Frameworks/R.framework/Versions/4.6-arm64/Resources/library’ * installing *source* package ‘gCrisprTools’ ... ** this is package ‘gCrisprTools’ version ‘2.17.0’ ** using staged installation ** R ** data ** inst ** byte-compile and prepare package for lazy loading ** help *** installing help indices ** building package indices ** installing vignettes ** testing if installed package can be loaded from temporary location ** testing if installed package can be loaded from final location ** testing if installed package keeps a record of temporary installation path * DONE (gCrisprTools)
gCrisprTools.Rcheck/tests/unit.tests.Rout
R Under development (unstable) (2025-11-04 r88984) -- "Unsuffered Consequences"
Copyright (C) 2025 The R Foundation for Statistical Computing
Platform: aarch64-apple-darwin20
R is free software and comes with ABSOLUTELY NO WARRANTY.
You are welcome to redistribute it under certain conditions.
Type 'license()' or 'licence()' for distribution details.
R is a collaborative project with many contributors.
Type 'contributors()' for more information and
'citation()' on how to cite R or R packages in publications.
Type 'demo()' for some demos, 'help()' for on-line help, or
'help.start()' for an HTML browser interface to help.
Type 'q()' to quit R.
> #require("BiocGenerics", quietly = TRUE)
> BiocGenerics:::testPackage("gCrisprTools")
RUNIT TEST PROTOCOL -- Tue Nov 18 20:10:29 2025
***********************************************
Number of test functions: 0
Number of errors: 0
Number of failures: 0
1 Test Suite :
gCrisprTools RUnit Tests - 0 test functions, 0 errors, 0 failures
Number of test functions: 0
Number of errors: 0
Number of failures: 0
>
> proc.time()
user system elapsed
3.374 0.141 3.615
gCrisprTools.Rcheck/gCrisprTools-Ex.timings
| name | user | system | elapsed | |
| aln | 0.001 | 0.001 | 0.002 | |
| ann | 0.026 | 0.001 | 0.028 | |
| ct.CAT | 0.566 | 0.045 | 0.630 | |
| ct.DirectionalTests | 0.125 | 0.106 | 0.240 | |
| ct.GCbias | 2.774 | 0.161 | 2.984 | |
| ct.GREATdb | 30.111 | 0.658 | 32.282 | |
| ct.PRC | 1.053 | 0.074 | 1.203 | |
| ct.ROC | 0.536 | 0.009 | 0.580 | |
| ct.RRAaPvals | 0.179 | 0.021 | 0.231 | |
| ct.RRAalpha | 0.111 | 0.004 | 0.130 | |
| ct.alignmentChart | 0.002 | 0.001 | 0.003 | |
| ct.alphaBeta | 0.000 | 0.000 | 0.001 | |
| ct.applyAlpha | 0.001 | 0.005 | 0.005 | |
| ct.buildSE | 0.203 | 0.007 | 0.217 | |
| ct.compareContrasts | 3.353 | 0.347 | 4.106 | |
| ct.contrastBarchart | 2.240 | 0.014 | 2.359 | |
| ct.expandAnnotation | 0.028 | 0.002 | 0.031 | |
| ct.filterReads | 0.098 | 0.008 | 0.111 | |
| ct.gRNARankByReplicate | 0.148 | 0.016 | 0.182 | |
| ct.generateResults | 0.187 | 0.008 | 0.197 | |
| ct.guideCDF | 5.416 | 2.630 | 8.582 | |
| ct.keyCheck | 0.041 | 0.003 | 0.045 | |
| ct.makeContrastReport | 3.245 | 0.544 | 3.917 | |
| ct.makeQCReport | 1.512 | 0.213 | 1.798 | |
| ct.makeReport | 6.599 | 0.975 | 7.880 | |
| ct.makeRhoNull | 0 | 0 | 0 | |
| ct.normalizeBySlope | 0.641 | 0.040 | 0.693 | |
| ct.normalizeFQ | 0.386 | 0.047 | 0.442 | |
| ct.normalizeGuides | 1.367 | 0.141 | 1.526 | |
| ct.normalizeMedians | 0.296 | 0.042 | 0.361 | |
| ct.normalizeNTC | 0.345 | 0.028 | 0.386 | |
| ct.normalizeSpline | 0.419 | 0.040 | 0.463 | |
| ct.parseGeneSymbol | 0.001 | 0.000 | 0.000 | |
| ct.prepareAnnotation | 0.278 | 0.022 | 0.301 | |
| ct.preprocessFit | 0.582 | 0.089 | 0.697 | |
| ct.rankSimple | 1.407 | 0.045 | 1.511 | |
| ct.rawCountDensities | 0.061 | 0.007 | 0.069 | |
| ct.regularizeContrasts | 0.045 | 0.002 | 0.046 | |
| ct.resultCheck | 0.027 | 0.001 | 0.028 | |
| ct.scatter | 0.130 | 0.002 | 0.136 | |
| ct.seas | 4.129 | 0.452 | 4.689 | |
| ct.seasPrep | 0.779 | 0.147 | 0.987 | |
| ct.signalSummary | 0.541 | 0.016 | 0.586 | |
| ct.simpleResult | 0.493 | 0.045 | 0.547 | |
| ct.softLog | 0 | 0 | 0 | |
| ct.stackGuides | 1.970 | 0.631 | 2.678 | |
| ct.targetSetEnrichment | 0.476 | 0.020 | 0.504 | |
| ct.topTargets | 0.141 | 0.007 | 0.150 | |
| ct.upSet | 3.115 | 0.420 | 3.618 | |
| ct.viewControls | 0.093 | 0.008 | 0.101 | |
| ct.viewGuides | 0.128 | 0.004 | 0.138 | |
| es | 0.022 | 0.001 | 0.025 | |
| essential.genes | 0.000 | 0.001 | 0.001 | |
| fit | 0.083 | 0.004 | 0.100 | |
| resultsDF | 0.026 | 0.001 | 0.028 | |