| Back to Build/check report for BioC 3.23: simplified long |
|
This page was generated on 2025-11-08 11:32 -0500 (Sat, 08 Nov 2025).
| Hostname | OS | Arch (*) | R version | Installed pkgs |
|---|---|---|---|---|
| nebbiolo1 | Linux (Ubuntu 24.04.3 LTS) | x86_64 | R Under development (unstable) (2025-10-20 r88955) -- "Unsuffered Consequences" | 4821 |
| Click on any hostname to see more info about the system (e.g. compilers) (*) as reported by 'uname -p', except on Windows and Mac OS X | ||||
| Package 661/2323 | Hostname | OS / Arch | INSTALL | BUILD | CHECK | BUILD BIN | ||||||||
| EnrichmentBrowser 2.41.0 (landing page) Ludwig Geistlinger
| nebbiolo1 | Linux (Ubuntu 24.04.3 LTS) / x86_64 | OK | OK | OK | |||||||||
|
To the developers/maintainers of the EnrichmentBrowser package: - Allow up to 24 hours (and sometimes 48 hours) for your latest push to git@git.bioconductor.org:packages/EnrichmentBrowser.git to reflect on this report. See Troubleshooting Build Report for more information. - Use the following Renviron settings to reproduce errors and warnings. - If 'R CMD check' started to fail recently on the Linux builder(s) over a missing dependency, add the missing dependency to 'Suggests:' in your DESCRIPTION file. See Renviron.bioc for more information. |
| Package: EnrichmentBrowser |
| Version: 2.41.0 |
| Command: /home/biocbuild/bbs-3.23-bioc/R/bin/R CMD check --install=check:EnrichmentBrowser.install-out.txt --library=/home/biocbuild/bbs-3.23-bioc/R/site-library --timings EnrichmentBrowser_2.41.0.tar.gz |
| StartedAt: 2025-11-07 23:18:53 -0500 (Fri, 07 Nov 2025) |
| EndedAt: 2025-11-07 23:34:05 -0500 (Fri, 07 Nov 2025) |
| EllapsedTime: 912.1 seconds |
| RetCode: 0 |
| Status: OK |
| CheckDir: EnrichmentBrowser.Rcheck |
| Warnings: 0 |
##############################################################################
##############################################################################
###
### Running command:
###
### /home/biocbuild/bbs-3.23-bioc/R/bin/R CMD check --install=check:EnrichmentBrowser.install-out.txt --library=/home/biocbuild/bbs-3.23-bioc/R/site-library --timings EnrichmentBrowser_2.41.0.tar.gz
###
##############################################################################
##############################################################################
* using log directory ‘/home/biocbuild/bbs-3.23-bioc/meat/EnrichmentBrowser.Rcheck’
* using R Under development (unstable) (2025-10-20 r88955)
* using platform: x86_64-pc-linux-gnu
* R was compiled by
gcc (Ubuntu 13.3.0-6ubuntu2~24.04) 13.3.0
GNU Fortran (Ubuntu 13.3.0-6ubuntu2~24.04) 13.3.0
* running under: Ubuntu 24.04.3 LTS
* using session charset: UTF-8
* checking for file ‘EnrichmentBrowser/DESCRIPTION’ ... OK
* this is package ‘EnrichmentBrowser’ version ‘2.41.0’
* package encoding: UTF-8
* checking package namespace information ... OK
* checking package dependencies ... OK
* checking if this is a source package ... OK
* checking if there is a namespace ... OK
* checking for hidden files and directories ... OK
* checking for portable file names ... OK
* checking for sufficient/correct file permissions ... OK
* checking whether package ‘EnrichmentBrowser’ can be installed ... OK
* checking installed package size ... OK
* checking package directory ... OK
* checking ‘build’ directory ... OK
* checking DESCRIPTION meta-information ... OK
* checking top-level files ... OK
* checking for left-over files ... OK
* checking index information ... OK
* checking package subdirectories ... OK
* checking code files for non-ASCII characters ... OK
* checking R files for syntax errors ... OK
* checking whether the package can be loaded ... OK
* checking whether the package can be loaded with stated dependencies ... OK
* checking whether the package can be unloaded cleanly ... OK
* checking whether the namespace can be loaded with stated dependencies ... OK
* checking whether the namespace can be unloaded cleanly ... OK
* checking loading without being on the library search path ... OK
* checking whether startup messages can be suppressed ... OK
* checking dependencies in R code ... NOTE
Unexported object imported by a ':::' call: 'pathview:::parseKGML2Graph2'
See the note in ?`:::` about the use of this operator.
* checking S3 generic/method consistency ... OK
* checking replacement functions ... OK
* checking foreign function calls ... OK
* checking R code for possible problems ... NOTE
.getGOFromBiomart: no visible binding for global variable
‘go_linkage_type’
Undefined global functions or variables:
go_linkage_type
* checking Rd files ... OK
* checking Rd metadata ... OK
* checking Rd cross-references ... NOTE
Found the following Rd file(s) with Rd \link{} targets missing package
anchors:
compileGRN.Rd: KEGGPathway-class, pathwayDatabases, pathways,
parseKGML
deAna.Rd: SummarizedExperiment-class, colData, filterByExpr, rowData,
voom, eBayes, glmQLFit
downloadPathways.Rd: keggList, keggGet, KEGGPathway-class, parseKGML
eaBrowse.Rd: DataFrame-class
ebrowser.Rd: SummarizedExperiment-class, assays, colData, rowData,
kegg.species.code, normalizeBetweenArrays, lmFit,
normalizeWithinArrays
getGenesets.Rd: GeneSetCollection-class, DataFrame-class, keggList,
keggLink
ggeaGraph.Rd: SummarizedExperiment-class
idMap.Rd: SummarizedExperiment-class, GeneSetCollection-class,
rowData, mapIds, keytypes
import.Rd: SummarizedExperiment-class, EList-class, DGEList-class,
TopTags-class, voom, eBayes, glmQLFit
isAvailable.Rd: install
nbea.Rd: SummarizedExperiment-class
normalize.Rd: SummarizedExperiment-class, normalizeBetweenArrays,
filterByExpr, normalizeWithinArrays, cpm, estimateDisp, voom
probe2gene.Rd: SummarizedExperiment-class, metadata, rowData, mapIds
readSE.Rd: SummarizedExperiment-class
sbea.Rd: SummarizedExperiment-class
Please provide package anchors for all Rd \link{} targets not in the
package itself and the base packages.
* checking for missing documentation entries ... OK
* checking for code/documentation mismatches ... OK
* checking Rd \usage sections ... OK
* checking Rd contents ... OK
* checking for unstated dependencies in examples ... OK
* checking files in ‘vignettes’ ... OK
* checking examples ... OK
Examples with CPU (user + system) or elapsed time > 5s
user system elapsed
ebrowser 510.355 32.714 567.738
getGenesets 13.811 1.003 19.955
eaBrowse 6.864 0.399 7.266
* checking for unstated dependencies in vignettes ... OK
* checking package vignettes ... OK
* checking re-building of vignette outputs ... OK
* checking PDF version of manual ... OK
* DONE
Status: 3 NOTEs
See
‘/home/biocbuild/bbs-3.23-bioc/meat/EnrichmentBrowser.Rcheck/00check.log’
for details.
EnrichmentBrowser.Rcheck/00install.out
############################################################################## ############################################################################## ### ### Running command: ### ### /home/biocbuild/bbs-3.23-bioc/R/bin/R CMD INSTALL EnrichmentBrowser ### ############################################################################## ############################################################################## * installing to library ‘/home/biocbuild/bbs-3.23-bioc/R/site-library’ * installing *source* package ‘EnrichmentBrowser’ ... ** this is package ‘EnrichmentBrowser’ version ‘2.41.0’ ** using staged installation ** R ** inst ** byte-compile and prepare package for lazy loading ** help *** installing help indices ** building package indices ** installing vignettes ** testing if installed package can be loaded from temporary location ** testing if installed package can be loaded from final location ** testing if installed package keeps a record of temporary installation path * DONE (EnrichmentBrowser)
EnrichmentBrowser.Rcheck/EnrichmentBrowser-Ex.timings
| name | user | system | elapsed | |
| combResults | 1.085 | 0.014 | 1.100 | |
| compileGRN | 3.122 | 0.103 | 3.226 | |
| configEBrowser | 0.001 | 0.001 | 0.000 | |
| deAna | 3.223 | 0.025 | 3.248 | |
| downloadPathways | 0.001 | 0.000 | 0.000 | |
| eaBrowse | 6.864 | 0.399 | 7.266 | |
| ebrowser | 510.355 | 32.714 | 567.738 | |
| getGenesets | 13.811 | 1.003 | 19.955 | |
| ggeaGraph | 1.456 | 0.069 | 1.526 | |
| idMap | 0.834 | 0.060 | 0.895 | |
| import | 3.664 | 0.312 | 3.977 | |
| isAvailable | 0.001 | 0.000 | 0.000 | |
| makeExampleData | 0.026 | 0.000 | 0.026 | |
| nbea | 0.257 | 0.025 | 0.282 | |
| normalize | 0.382 | 0.041 | 0.423 | |
| plots | 1.286 | 0.104 | 1.390 | |
| probe2gene | 0.061 | 0.003 | 0.064 | |
| readSE | 0.034 | 0.006 | 0.040 | |
| sbea | 0.164 | 0.014 | 0.178 | |