| Back to Build/check report for BioC 3.23: simplified long |
|
This page was generated on 2025-11-08 11:32 -0500 (Sat, 08 Nov 2025).
| Hostname | OS | Arch (*) | R version | Installed pkgs |
|---|---|---|---|---|
| nebbiolo1 | Linux (Ubuntu 24.04.3 LTS) | x86_64 | R Under development (unstable) (2025-10-20 r88955) -- "Unsuffered Consequences" | 4821 |
| Click on any hostname to see more info about the system (e.g. compilers) (*) as reported by 'uname -p', except on Windows and Mac OS X | ||||
| Package 119/2323 | Hostname | OS / Arch | INSTALL | BUILD | CHECK | BUILD BIN | ||||||||
| autonomics 1.19.0 (landing page) Aditya Bhagwat
| nebbiolo1 | Linux (Ubuntu 24.04.3 LTS) / x86_64 | OK | OK | OK | |||||||||
|
To the developers/maintainers of the autonomics package: - Allow up to 24 hours (and sometimes 48 hours) for your latest push to git@git.bioconductor.org:packages/autonomics.git to reflect on this report. See Troubleshooting Build Report for more information. - Use the following Renviron settings to reproduce errors and warnings. - If 'R CMD check' started to fail recently on the Linux builder(s) over a missing dependency, add the missing dependency to 'Suggests:' in your DESCRIPTION file. See Renviron.bioc for more information. |
| Package: autonomics |
| Version: 1.19.0 |
| Command: /home/biocbuild/bbs-3.23-bioc/R/bin/R CMD check --install=check:autonomics.install-out.txt --library=/home/biocbuild/bbs-3.23-bioc/R/site-library --timings autonomics_1.19.0.tar.gz |
| StartedAt: 2025-11-07 21:04:07 -0500 (Fri, 07 Nov 2025) |
| EndedAt: 2025-11-07 21:23:39 -0500 (Fri, 07 Nov 2025) |
| EllapsedTime: 1172.6 seconds |
| RetCode: 0 |
| Status: OK |
| CheckDir: autonomics.Rcheck |
| Warnings: 0 |
##############################################################################
##############################################################################
###
### Running command:
###
### /home/biocbuild/bbs-3.23-bioc/R/bin/R CMD check --install=check:autonomics.install-out.txt --library=/home/biocbuild/bbs-3.23-bioc/R/site-library --timings autonomics_1.19.0.tar.gz
###
##############################################################################
##############################################################################
* using log directory ‘/home/biocbuild/bbs-3.23-bioc/meat/autonomics.Rcheck’
* using R Under development (unstable) (2025-10-20 r88955)
* using platform: x86_64-pc-linux-gnu
* R was compiled by
gcc (Ubuntu 13.3.0-6ubuntu2~24.04) 13.3.0
GNU Fortran (Ubuntu 13.3.0-6ubuntu2~24.04) 13.3.0
* running under: Ubuntu 24.04.3 LTS
* using session charset: UTF-8
* checking for file ‘autonomics/DESCRIPTION’ ... OK
* checking extension type ... Package
* this is package ‘autonomics’ version ‘1.19.0’
* package encoding: UTF-8
* checking package namespace information ... OK
* checking package dependencies ... INFO
Imports includes 32 non-default packages.
Importing from so many packages makes the package vulnerable to any of
them becoming unavailable. Move as many as possible to Suggests and
use conditionally.
* checking if this is a source package ... OK
* checking if there is a namespace ... OK
* checking for hidden files and directories ... NOTE
Found the following hidden files and directories:
.BBSoptions
These were most likely included in error. See section ‘Package
structure’ in the ‘Writing R Extensions’ manual.
* checking for portable file names ... OK
* checking for sufficient/correct file permissions ... OK
* checking whether package ‘autonomics’ can be installed ... OK
* checking installed package size ... OK
* checking package directory ... OK
* checking ‘build’ directory ... OK
* checking DESCRIPTION meta-information ... OK
* checking top-level files ... OK
* checking for left-over files ... OK
* checking index information ... OK
* checking package subdirectories ... OK
* checking code files for non-ASCII characters ... OK
* checking R files for syntax errors ... OK
* checking whether the package can be loaded ... OK
* checking whether the package can be loaded with stated dependencies ... OK
* checking whether the package can be unloaded cleanly ... OK
* checking whether the namespace can be loaded with stated dependencies ... OK
* checking whether the namespace can be unloaded cleanly ... OK
* checking loading without being on the library search path ... OK
* checking dependencies in R code ... OK
* checking S3 generic/method consistency ... OK
* checking replacement functions ... OK
* checking foreign function calls ... OK
* checking R code for possible problems ... OK
* checking Rd files ... OK
* checking Rd metadata ... OK
* checking Rd cross-references ... NOTE
Non-topic package-anchored link(s) in Rd file 'reexports.Rd':
‘[magrittr:compound]{%<>%}’ ‘[magrittr:pipe]{%>%}’
‘[magrittr:aliases]{extract}’
See section 'Cross-references' in the 'Writing R Extensions' manual.
* checking for missing documentation entries ... OK
* checking for code/documentation mismatches ... OK
* checking Rd \usage sections ... OK
* checking Rd contents ... OK
* checking for unstated dependencies in examples ... OK
* checking files in ‘vignettes’ ... OK
* checking examples ... OK
Examples with CPU (user + system) or elapsed time > 5s
user system elapsed
write_xl 158.612 1.556 160.084
read_diann_proteingroups 97.029 1.215 93.678
awblinmod 41.463 0.568 40.542
read_rnaseq_counts 29.865 1.135 30.613
LINMOD 23.789 0.546 23.623
rm_diann_contaminants 19.327 0.234 18.372
plot_exprs 19.088 0.042 18.992
plot_exprs_per_coef 18.623 0.085 18.601
default_formula 18.118 0.503 18.194
analyze 13.684 0.676 14.255
read_somascan 13.653 0.021 13.603
read_metabolon 13.085 0.087 13.054
plot_volcano 13.019 0.024 12.989
plot_summary 12.661 0.063 12.626
fit_survival 10.806 0.048 10.856
plot_densities 10.316 0.122 10.325
explore-transforms 9.490 0.088 9.578
fcluster 9.157 0.102 9.175
ftype 7.993 0.091 7.692
plot_detections 6.816 0.005 6.744
biplot_covariates 6.590 0.062 6.627
plot_xy_density 6.108 0.023 6.132
read_fragpipe 5.670 0.060 5.430
reset_fit 5.510 0.162 5.539
plot_subgroup_points 5.441 0.044 5.418
* checking for unstated dependencies in ‘tests’ ... OK
* checking tests ...
Running ‘testthat.R’
OK
* checking for unstated dependencies in vignettes ... OK
* checking package vignettes ... OK
* checking re-building of vignette outputs ... OK
* checking PDF version of manual ... OK
* DONE
Status: 2 NOTEs
See
‘/home/biocbuild/bbs-3.23-bioc/meat/autonomics.Rcheck/00check.log’
for details.
autonomics.Rcheck/00install.out
############################################################################## ############################################################################## ### ### Running command: ### ### /home/biocbuild/bbs-3.23-bioc/R/bin/R CMD INSTALL autonomics ### ############################################################################## ############################################################################## * installing to library ‘/home/biocbuild/bbs-3.23-bioc/R/site-library’ * installing *source* package ‘autonomics’ ... ** this is package ‘autonomics’ version ‘1.19.0’ ** using staged installation ** R ** inst ** byte-compile and prepare package for lazy loading Note: wrong number of arguments to 'seq_along' Note: wrong number of arguments to 'sqrt' ** help *** installing help indices ** building package indices ** installing vignettes ** testing if installed package can be loaded from temporary location ** testing if installed package can be loaded from final location ** testing if installed package keeps a record of temporary installation path * DONE (autonomics)
autonomics.Rcheck/tests/testthat.Rout
R Under development (unstable) (2025-10-20 r88955) -- "Unsuffered Consequences"
Copyright (C) 2025 The R Foundation for Statistical Computing
Platform: x86_64-pc-linux-gnu
R is free software and comes with ABSOLUTELY NO WARRANTY.
You are welcome to redistribute it under certain conditions.
Type 'license()' or 'licence()' for distribution details.
R is a collaborative project with many contributors.
Type 'contributors()' for more information and
'citation()' on how to cite R or R packages in publications.
Type 'demo()' for some demos, 'help()' for on-line help, or
'help.start()' for an HTML browser interface to help.
Type 'q()' to quit R.
> library(testthat)
> library(autonomics)
Attaching package: 'autonomics'
The following objects are masked from 'package:stats':
biplot, loadings
The following object is masked from 'package:base':
beta
>
> test_check("autonomics")
[ FAIL 0 | WARN 3 | SKIP 0 | PASS 158 ]
[ FAIL 0 | WARN 3 | SKIP 0 | PASS 158 ]
>
> proc.time()
user system elapsed
140.839 4.275 142.580
autonomics.Rcheck/autonomics-Ex.timings
| name | user | system | elapsed | |
| AUTONOMICS_DATASETS | 0 | 0 | 0 | |
| COMPOUNDDISCOVERER_PATTERNS | 0 | 0 | 0 | |
| LINMOD | 23.789 | 0.546 | 23.623 | |
| LINMODENGINES | 0.000 | 0.001 | 0.000 | |
| MAXQUANT_PATTERNS | 0 | 0 | 0 | |
| TAXON_TO_ORGNAME | 0 | 0 | 0 | |
| TESTS | 0.000 | 0.000 | 0.001 | |
| X | 1.183 | 0.017 | 1.161 | |
| abstract_fit | 0.981 | 0.017 | 0.959 | |
| add_adjusted_pvalues | 0.557 | 0.013 | 0.570 | |
| add_assay_means | 0.387 | 0.054 | 0.441 | |
| add_facetvars | 1.493 | 0.116 | 1.586 | |
| add_opentargets_by_uniprot | 0.379 | 0.044 | 0.431 | |
| add_psp | 0.491 | 0.084 | 0.576 | |
| add_smiles | 0.462 | 0.052 | 0.491 | |
| all_non_numeric | 0.564 | 0.027 | 0.592 | |
| analysis | 0.360 | 0.022 | 0.382 | |
| analyze | 13.684 | 0.676 | 14.255 | |
| annotate_maxquant | 0.832 | 0.074 | 0.906 | |
| annotate_uniprot_rest | 0.341 | 0.010 | 2.236 | |
| assert_is_valid_sumexp | 0.581 | 0.025 | 0.584 | |
| awblinmod | 41.463 | 0.568 | 40.542 | |
| biplot | 3.627 | 0.078 | 3.674 | |
| biplot_corrections | 3.408 | 0.035 | 3.404 | |
| biplot_covariates | 6.590 | 0.062 | 6.627 | |
| block2limma | 0.003 | 0.000 | 0.003 | |
| block2lm | 0.003 | 0.000 | 0.004 | |
| block2lme | 0.002 | 0.000 | 0.003 | |
| block2lmer | 0.004 | 0.000 | 0.004 | |
| block_has_two_levels | 0.664 | 0.034 | 0.658 | |
| center | 1.736 | 0.013 | 1.746 | |
| code | 4.856 | 0.057 | 4.893 | |
| collapsed_entrezg_to_symbol | 0.942 | 0.053 | 0.996 | |
| contrast_subgroup_cols | 0.605 | 0.007 | 0.589 | |
| contrastdt | 0.609 | 0.003 | 0.612 | |
| count_in | 0.001 | 0.001 | 0.001 | |
| counts | 0.342 | 0.001 | 0.343 | |
| counts2cpm | 0.303 | 0.001 | 0.304 | |
| counts2tpm | 0.284 | 0.001 | 0.285 | |
| cpm | 0.323 | 0.001 | 0.323 | |
| create_design | 0.701 | 0.041 | 0.720 | |
| default_formula | 18.118 | 0.503 | 18.194 | |
| default_geom | 0.470 | 0.013 | 0.460 | |
| default_sfile | 0.001 | 0.000 | 0.002 | |
| demultiplex | 0.013 | 0.000 | 0.014 | |
| densities | 0.243 | 0.001 | 0.245 | |
| dequantify | 0.001 | 0.001 | 0.003 | |
| dequantify_compounddiscoverer | 0.001 | 0.000 | 0.002 | |
| dot-coxph | 0.349 | 0.011 | 0.360 | |
| dot-merge | 0.019 | 0.000 | 0.019 | |
| dot-read_maxquant_proteingroups | 0.109 | 0.003 | 0.112 | |
| download_data | 0.000 | 0.000 | 0.001 | |
| download_gtf | 0 | 0 | 0 | |
| download_mcclain21 | 0.001 | 0.000 | 0.000 | |
| dt2mat | 0.003 | 0.001 | 0.003 | |
| enrichment | 1.115 | 0.002 | 1.117 | |
| entrezg_to_symbol | 0.126 | 0.000 | 0.126 | |
| explore-transforms | 9.490 | 0.088 | 9.578 | |
| extract_contrast_features | 4.447 | 0.010 | 4.437 | |
| extract_rectangle | 0.106 | 0.016 | 0.123 | |
| factor.vars | 0.179 | 0.001 | 0.180 | |
| factorize | 0.781 | 0.044 | 0.825 | |
| fcluster | 9.157 | 0.102 | 9.175 | |
| fcor | 1.387 | 0.005 | 1.392 | |
| fdata | 0.488 | 0.007 | 0.495 | |
| fdr2p | 0.958 | 0.020 | 0.939 | |
| filter_exprs_replicated_in_some_subgroup | 1.115 | 0.043 | 1.040 | |
| filter_features | 0.508 | 0.015 | 0.484 | |
| filter_medoid | 0.655 | 0.002 | 0.657 | |
| filter_samples | 0.534 | 0.012 | 0.524 | |
| fit_survival | 10.806 | 0.048 | 10.856 | |
| fits | 0.307 | 0.000 | 0.308 | |
| fix_xlgenes | 0.002 | 0.000 | 0.003 | |
| flevels | 0.363 | 0.003 | 0.367 | |
| fnames | 0.455 | 0.003 | 0.458 | |
| formula2str | 0 | 0 | 0 | |
| ftype | 7.993 | 0.091 | 7.692 | |
| fvalues | 0.379 | 0.005 | 0.384 | |
| fvars | 0.367 | 0.001 | 0.368 | |
| genome_to_orgdb | 0.000 | 0.000 | 0.001 | |
| group_by_level | 0.001 | 0.000 | 0.002 | |
| guess_compounddiscoverer_quantity | 0.000 | 0.001 | 0.001 | |
| guess_fitsep | 0.480 | 0.002 | 0.482 | |
| guess_maxquant_quantity | 0.005 | 0.001 | 0.006 | |
| guess_sep | 0.497 | 0.008 | 0.465 | |
| has_multiple_levels | 0.058 | 0.000 | 0.058 | |
| hdlproteins | 0.039 | 0.022 | 0.064 | |
| impute | 3.251 | 0.022 | 3.273 | |
| invert_subgroups | 0.636 | 0.005 | 0.641 | |
| is_character_matrix | 0.134 | 0.000 | 0.135 | |
| is_collapsed_subset | 0.000 | 0.000 | 0.001 | |
| is_compounddiscoverer_output | 0.121 | 0.062 | 0.256 | |
| is_correlation_matrix | 0.001 | 0.001 | 0.002 | |
| is_diann_report | 0.138 | 0.004 | 0.106 | |
| is_fastadt | 0.072 | 0.000 | 0.061 | |
| is_file | 0.000 | 0.000 | 0.001 | |
| is_fraction | 0.000 | 0.001 | 0.002 | |
| is_fragpipe_tsv | 0.131 | 0.004 | 0.085 | |
| is_imputed | 0.723 | 0.001 | 0.716 | |
| is_maxquant_phosphosites | 0.087 | 0.003 | 0.064 | |
| is_maxquant_proteingroups | 0.091 | 0.002 | 0.062 | |
| is_positive_number | 0.001 | 0.001 | 0.002 | |
| is_scalar_subset | 0.325 | 0.003 | 0.328 | |
| is_sig | 1.347 | 0.004 | 1.351 | |
| is_valid_formula | 0.043 | 0.000 | 0.043 | |
| keep_estimable_features | 0.805 | 0.007 | 0.719 | |
| label2index | 0.001 | 0.000 | 0.001 | |
| list2mat | 0.000 | 0.001 | 0.001 | |
| log2counts | 0.343 | 0.002 | 0.345 | |
| log2cpm | 0.280 | 0.002 | 0.282 | |
| log2diffs | 0.292 | 0.001 | 0.294 | |
| log2proteins | 0.298 | 0.000 | 0.298 | |
| log2sites | 0.366 | 0.001 | 0.367 | |
| log2tpm | 0.304 | 0.027 | 0.331 | |
| log2transform | 4.671 | 0.036 | 4.708 | |
| logical2factor | 0.001 | 0.001 | 0.002 | |
| make_alpha_palette | 0.499 | 0.009 | 0.470 | |
| make_colors | 0.009 | 0.000 | 0.009 | |
| make_volcano_dt | 0.794 | 0.005 | 0.799 | |
| map_fvalues | 0.344 | 0.003 | 0.348 | |
| matrix2sumexp | 0.925 | 0.017 | 0.921 | |
| mclust_breaks | 0.490 | 0.028 | 0.518 | |
| merge_sample_file | 0.455 | 0.025 | 0.480 | |
| merge_sdata | 0.603 | 0.035 | 0.601 | |
| message_df | 0.002 | 0.000 | 0.002 | |
| model_coefs | 0.718 | 0.010 | 0.688 | |
| modelvar | 3.255 | 0.020 | 3.163 | |
| object1 | 0.674 | 0.003 | 0.677 | |
| order_on_p | 1.335 | 0.013 | 1.308 | |
| overall_parameters | 0.027 | 0.001 | 0.028 | |
| pca | 3.214 | 0.061 | 3.252 | |
| pg_to_canonical | 0.004 | 0.001 | 0.006 | |
| plot_coef_densities | 1.312 | 0.013 | 1.302 | |
| plot_contrast_venn | 2.362 | 0.012 | 2.298 | |
| plot_contrastogram | 2.764 | 0.044 | 2.731 | |
| plot_data | 1.652 | 0.025 | 1.667 | |
| plot_densities | 10.316 | 0.122 | 10.325 | |
| plot_design | 0.666 | 0.003 | 0.669 | |
| plot_detections | 6.816 | 0.005 | 6.744 | |
| plot_exprs | 19.088 | 0.042 | 18.992 | |
| plot_exprs_per_coef | 18.623 | 0.085 | 18.601 | |
| plot_fit_summary | 2.142 | 0.011 | 2.061 | |
| plot_heatmap | 1.802 | 0.001 | 1.803 | |
| plot_matrix | 0.534 | 0.050 | 0.544 | |
| plot_subgroup_points | 5.441 | 0.044 | 5.418 | |
| plot_summary | 12.661 | 0.063 | 12.626 | |
| plot_venn | 0.016 | 0.000 | 0.016 | |
| plot_venn_heatmap | 0.021 | 0.000 | 0.021 | |
| plot_violins | 4.812 | 0.054 | 4.844 | |
| plot_volcano | 13.019 | 0.024 | 12.989 | |
| plot_xy_density | 6.108 | 0.023 | 6.132 | |
| preprocess_rnaseq_counts | 0.312 | 0.001 | 0.313 | |
| pull_columns | 0.002 | 0.000 | 0.003 | |
| pvalues_estimable | 0.039 | 0.003 | 0.043 | |
| read_affymetrix | 0 | 0 | 0 | |
| read_diann_proteingroups | 97.029 | 1.215 | 93.678 | |
| read_fragpipe | 5.67 | 0.06 | 5.43 | |
| read_maxquant_phosphosites | 1.486 | 0.011 | 1.496 | |
| read_maxquant_proteingroups | 1.217 | 0.006 | 1.223 | |
| read_metabolon | 13.085 | 0.087 | 13.054 | |
| read_msigdt | 0.001 | 0.000 | 0.001 | |
| read_olink | 1.372 | 0.023 | 1.297 | |
| read_rectangles | 0.242 | 0.009 | 0.251 | |
| read_rnaseq_counts | 29.865 | 1.135 | 30.613 | |
| read_salmon | 0 | 0 | 0 | |
| read_somascan | 13.653 | 0.021 | 13.603 | |
| read_uniprotdt | 0.283 | 0.011 | 0.294 | |
| reset_fit | 5.510 | 0.162 | 5.539 | |
| rm_diann_contaminants | 19.327 | 0.234 | 18.372 | |
| rm_missing_in_some_samples | 0.485 | 0.014 | 0.472 | |
| rm_unmatched_samples | 0.793 | 0.014 | 0.807 | |
| sbind | 3.952 | 0.033 | 3.986 | |
| scaledlibsizes | 0.351 | 0.001 | 0.352 | |
| scoremat | 0.774 | 0.010 | 0.752 | |
| slevels | 0.409 | 0.005 | 0.414 | |
| snames | 0.363 | 0.005 | 0.367 | |
| split_extract_fixed | 0.474 | 0.015 | 0.452 | |
| split_samples | 1.125 | 0.006 | 1.101 | |
| stepauc | 0.328 | 0.002 | 0.329 | |
| stri_any_regex | 0.001 | 0.000 | 0.000 | |
| stri_detect_fixed_in_collapsed | 0.305 | 0.004 | 0.309 | |
| subgroup_matrix | 0.490 | 0.010 | 0.477 | |
| subtract_baseline | 4.594 | 0.026 | 4.546 | |
| sumexp_to_longdt | 1.816 | 0.048 | 1.750 | |
| sumexp_to_tsv | 0.491 | 0.008 | 0.499 | |
| sumexplist_to_longdt | 1.415 | 0.006 | 1.420 | |
| summarize_fit | 1.655 | 0.012 | 1.561 | |
| survobj | 0.138 | 0.001 | 0.139 | |
| svalues | 0.410 | 0.002 | 0.413 | |
| svars | 0.362 | 0.002 | 0.364 | |
| systematic_nas | 0.501 | 0.005 | 0.506 | |
| tag_features | 0.936 | 0.030 | 0.966 | |
| tag_hdlproteins | 0.484 | 0.014 | 0.498 | |
| taxon2org | 0.001 | 0.000 | 0.001 | |
| tpm | 0.344 | 0.001 | 0.345 | |
| uncollapse | 0.026 | 0.001 | 0.027 | |
| values | 0.377 | 0.001 | 0.378 | |
| varlevels_dont_clash | 0.022 | 0.000 | 0.021 | |
| venn_detects | 0.491 | 0.001 | 0.492 | |
| weights | 0.341 | 0.001 | 0.343 | |
| write_xl | 158.612 | 1.556 | 160.084 | |
| zero_to_na | 0.000 | 0.002 | 0.002 | |