| Back to Multiple platform build/check report for BioC 3.23: simplified long |
|
This page was generated on 2025-11-19 10:12 -0500 (Wed, 19 Nov 2025).
| Hostname | OS | Arch (*) | R version | Installed pkgs |
|---|---|---|---|---|
| nebbiolo1 | Linux (Ubuntu 24.04.3 LTS) | x86_64 | R Under development (unstable) (2025-10-20 r88955) -- "Unsuffered Consequences" | 4827 |
| lconway | macOS 12.7.6 Monterey | x86_64 | R Under development (unstable) (2025-10-21 r88958) -- "Unsuffered Consequences" | 4600 |
| kjohnson3 | macOS 13.7.7 Ventura | arm64 | R Under development (unstable) (2025-11-04 r88984) -- "Unsuffered Consequences" | 4564 |
| Click on any hostname to see more info about the system (e.g. compilers) (*) as reported by 'uname -p', except on Windows and Mac OS X | ||||
| Package 165/2325 | Hostname | OS / Arch | INSTALL | BUILD | CHECK | BUILD BIN | ||||||||
| benchdamic 1.17.0 (landing page) Matteo Calgaro
| nebbiolo1 | Linux (Ubuntu 24.04.3 LTS) / x86_64 | OK | OK | OK | |||||||||
| lconway | macOS 12.7.6 Monterey / x86_64 | OK | OK | OK | OK | |||||||||
| kjohnson3 | macOS 13.7.7 Ventura / arm64 | OK | OK | OK | OK | |||||||||
|
To the developers/maintainers of the benchdamic package: - Allow up to 24 hours (and sometimes 48 hours) for your latest push to git@git.bioconductor.org:packages/benchdamic.git to reflect on this report. See Troubleshooting Build Report for more information. - Use the following Renviron settings to reproduce errors and warnings. - If 'R CMD check' started to fail recently on the Linux builder(s) over a missing dependency, add the missing dependency to 'Suggests:' in your DESCRIPTION file. See Renviron.bioc for more information. |
| Package: benchdamic |
| Version: 1.17.0 |
| Command: /home/biocbuild/bbs-3.23-bioc/R/bin/R CMD check --install=check:benchdamic.install-out.txt --library=/home/biocbuild/bbs-3.23-bioc/R/site-library --timings benchdamic_1.17.0.tar.gz |
| StartedAt: 2025-11-18 22:12:56 -0500 (Tue, 18 Nov 2025) |
| EndedAt: 2025-11-18 22:45:54 -0500 (Tue, 18 Nov 2025) |
| EllapsedTime: 1977.8 seconds |
| RetCode: 0 |
| Status: OK |
| CheckDir: benchdamic.Rcheck |
| Warnings: 0 |
##############################################################################
##############################################################################
###
### Running command:
###
### /home/biocbuild/bbs-3.23-bioc/R/bin/R CMD check --install=check:benchdamic.install-out.txt --library=/home/biocbuild/bbs-3.23-bioc/R/site-library --timings benchdamic_1.17.0.tar.gz
###
##############################################################################
##############################################################################
* using log directory ‘/home/biocbuild/bbs-3.23-bioc/meat/benchdamic.Rcheck’
* using R Under development (unstable) (2025-10-20 r88955)
* using platform: x86_64-pc-linux-gnu
* R was compiled by
gcc (Ubuntu 13.3.0-6ubuntu2~24.04) 13.3.0
GNU Fortran (Ubuntu 13.3.0-6ubuntu2~24.04) 13.3.0
* running under: Ubuntu 24.04.3 LTS
* using session charset: UTF-8
* checking for file ‘benchdamic/DESCRIPTION’ ... OK
* checking extension type ... Package
* this is package ‘benchdamic’ version ‘1.17.0’
* package encoding: UTF-8
* checking package namespace information ... OK
* checking package dependencies ... INFO
Imports includes 32 non-default packages.
Importing from so many packages makes the package vulnerable to any of
them becoming unavailable. Move as many as possible to Suggests and
use conditionally.
* checking if this is a source package ... OK
* checking if there is a namespace ... OK
* checking for hidden files and directories ... OK
* checking for portable file names ... OK
* checking for sufficient/correct file permissions ... OK
* checking whether package ‘benchdamic’ can be installed ... OK
* checking installed package size ... OK
* checking package directory ... OK
* checking ‘build’ directory ... OK
* checking DESCRIPTION meta-information ... OK
* checking top-level files ... OK
* checking for left-over files ... OK
* checking index information ... OK
* checking package subdirectories ... OK
* checking code files for non-ASCII characters ... OK
* checking R files for syntax errors ... OK
* checking whether the package can be loaded ... OK
* checking whether the package can be loaded with stated dependencies ... OK
* checking whether the package can be unloaded cleanly ... OK
* checking whether the namespace can be loaded with stated dependencies ... OK
* checking whether the namespace can be unloaded cleanly ... OK
* checking loading without being on the library search path ... OK
* checking dependencies in R code ... NOTE
Namespace in Imports field not imported from: ‘microbiome’
All declared Imports should be used.
* checking S3 generic/method consistency ... OK
* checking replacement functions ... OK
* checking foreign function calls ... OK
* checking R code for possible problems ... OK
* checking Rd files ... OK
* checking Rd metadata ... OK
* checking Rd cross-references ... NOTE
Non-topic package-anchored link(s) in Rd file 'norm_DESeq2.Rd':
‘[DESeq2]{estimateSizeFactors}’
See section 'Cross-references' in the 'Writing R Extensions' manual.
* checking for missing documentation entries ... OK
* checking for code/documentation mismatches ... OK
* checking Rd \usage sections ... OK
* checking Rd contents ... OK
* checking for unstated dependencies in examples ... OK
* checking contents of ‘data’ directory ... OK
* checking data for non-ASCII characters ... OK
* checking LazyData ... OK
* checking data for ASCII and uncompressed saves ... OK
* checking files in ‘vignettes’ ... OK
* checking examples ... OK
Examples with CPU (user + system) or elapsed time > 5s
user system elapsed
createConcordance 9.225 0.274 15.776
plotConcordance 5.453 0.044 5.612
DA_ALDEx2 5.007 0.355 5.362
createTIEC 5.095 0.082 5.723
areaCAT 4.748 0.071 5.055
* checking for unstated dependencies in ‘tests’ ... OK
* checking tests ...
Running ‘testthat.R’
OK
* checking for unstated dependencies in vignettes ... OK
* checking package vignettes ... OK
* checking re-building of vignette outputs ... OK
* checking PDF version of manual ... OK
* DONE
Status: 2 NOTEs
See
‘/home/biocbuild/bbs-3.23-bioc/meat/benchdamic.Rcheck/00check.log’
for details.
benchdamic.Rcheck/00install.out
############################################################################## ############################################################################## ### ### Running command: ### ### /home/biocbuild/bbs-3.23-bioc/R/bin/R CMD INSTALL benchdamic ### ############################################################################## ############################################################################## * installing to library ‘/home/biocbuild/bbs-3.23-bioc/R/site-library’ * installing *source* package ‘benchdamic’ ... ** this is package ‘benchdamic’ version ‘1.17.0’ ** using staged installation ** R ** data *** moving datasets to lazyload DB ** inst ** byte-compile and prepare package for lazy loading Found more than one class "dist" in cache; using the first, from namespace 'BiocGenerics' Also defined by ‘spam’ ** help *** installing help indices ** building package indices ** installing vignettes ** testing if installed package can be loaded from temporary location Found more than one class "dist" in cache; using the first, from namespace 'BiocGenerics' Also defined by ‘spam’ ** testing if installed package can be loaded from final location Found more than one class "dist" in cache; using the first, from namespace 'BiocGenerics' Also defined by ‘spam’ ** testing if installed package keeps a record of temporary installation path * DONE (benchdamic)
benchdamic.Rcheck/tests/testthat.Rout
R Under development (unstable) (2025-10-20 r88955) -- "Unsuffered Consequences"
Copyright (C) 2025 The R Foundation for Statistical Computing
Platform: x86_64-pc-linux-gnu
R is free software and comes with ABSOLUTELY NO WARRANTY.
You are welcome to redistribute it under certain conditions.
Type 'license()' or 'licence()' for distribution details.
R is a collaborative project with many contributors.
Type 'contributors()' for more information and
'citation()' on how to cite R or R packages in publications.
Type 'demo()' for some demos, 'help()' for on-line help, or
'help.start()' for an HTML browser interface to help.
Type 'q()' to quit R.
> library(testthat)
> library(benchdamic)
Found more than one class "dist" in cache; using the first, from namespace 'BiocGenerics'
Also defined by 'spam'
>
> test_check("benchdamic")
|------------(25%)----------(50%)----------(75%)----------|
|------------(25%)----------(50%)----------(75%)----------|
|------------(25%)----------(50%)----------(75%)----------|
|------------(25%)----------(50%)----------(75%)----------|
|------------(25%)----------(50%)----------(75%)----------|
[ FAIL 0 | WARN 0 | SKIP 0 | PASS 334 ]
>
> proc.time()
user system elapsed
69.337 3.627 80.412
benchdamic.Rcheck/benchdamic-Ex.timings
| name | user | system | elapsed | |
| CAT | 0.002 | 0.001 | 0.003 | |
| DA_ALDEx2 | 5.007 | 0.355 | 5.362 | |
| DA_ANCOM | 0.723 | 0.017 | 0.740 | |
| DA_DESeq2 | 2.800 | 0.097 | 2.903 | |
| DA_MAST | 1.180 | 0.018 | 1.175 | |
| DA_Maaslin2 | 0.219 | 0.016 | 0.237 | |
| DA_NOISeq | 1.436 | 0.049 | 1.486 | |
| DA_Seurat | 1.937 | 0.005 | 1.942 | |
| DA_ZicoSeq | 0.622 | 0.009 | 0.631 | |
| DA_basic | 0.030 | 0.001 | 0.031 | |
| DA_corncob | 0.627 | 0.014 | 0.648 | |
| DA_dearseq | 0.055 | 0.003 | 0.058 | |
| DA_edgeR | 0.170 | 0.005 | 0.175 | |
| DA_limma | 0.067 | 0.000 | 0.068 | |
| DA_linda | 0.041 | 0.003 | 0.044 | |
| DA_maaslin3 | 0.463 | 0.007 | 0.470 | |
| DA_metagenomeSeq | 0.221 | 0.006 | 0.228 | |
| DA_mixMC | 0.606 | 0.001 | 0.607 | |
| RMSE | 0.001 | 0.000 | 0.001 | |
| addKnowledge | 0.210 | 0.007 | 0.217 | |
| areaCAT | 4.748 | 0.071 | 5.055 | |
| checkNormalization | 0.001 | 0.000 | 0.001 | |
| createColors | 0.008 | 0.000 | 0.009 | |
| createConcordance | 9.225 | 0.274 | 15.776 | |
| createEnrichment | 0.382 | 0.005 | 0.395 | |
| createMocks | 0.003 | 0.002 | 0.005 | |
| createPositives | 1.642 | 0.043 | 1.872 | |
| createSplits | 0.057 | 0.001 | 0.057 | |
| createTIEC | 5.095 | 0.082 | 5.723 | |
| enrichmentTest | 0.180 | 0.003 | 0.220 | |
| extractDA | 0.344 | 0.001 | 0.347 | |
| extractStatistics | 0.287 | 0.003 | 0.292 | |
| fitDM | 0.046 | 0.002 | 0.048 | |
| fitHURDLE | 1.029 | 0.009 | 1.038 | |
| fitModels | 2.997 | 0.063 | 3.065 | |
| fitNB | 0.039 | 0.000 | 0.039 | |
| fitZIG | 0.050 | 0.001 | 0.050 | |
| fitZINB | 0.437 | 0.003 | 0.440 | |
| getDA | 0.091 | 0.010 | 0.102 | |
| getPositives | 0.131 | 0.001 | 0.131 | |
| getStatistics | 0.118 | 0.005 | 0.123 | |
| get_counts_metadata | 0.180 | 0.003 | 0.183 | |
| iterative_ordering | 0.013 | 0.002 | 0.015 | |
| meanDifferences | 0.003 | 0.000 | 0.003 | |
| norm_CSS | 0.091 | 0.001 | 0.092 | |
| norm_DESeq2 | 0.606 | 0.002 | 0.608 | |
| norm_TSS | 0.032 | 0.000 | 0.032 | |
| norm_edgeR | 0.034 | 0.002 | 0.036 | |
| plotConcordance | 5.453 | 0.044 | 5.612 | |
| plotContingency | 1.617 | 0.004 | 1.757 | |
| plotEnrichment | 1.697 | 0.004 | 1.743 | |
| plotFDR | 2.935 | 0.048 | 2.984 | |
| plotFPR | 2.774 | 0.009 | 2.784 | |
| plotKS | 2.590 | 0.047 | 2.637 | |
| plotLogP | 2.434 | 0.014 | 2.448 | |
| plotMD | 3.464 | 0.045 | 3.509 | |
| plotMutualFindings | 1.333 | 0.041 | 1.373 | |
| plotPositives | 0.794 | 0.004 | 0.798 | |
| plotQQ | 2.425 | 0.006 | 2.432 | |
| plotRMSE | 2.683 | 0.052 | 2.734 | |
| prepareObserved | 0.001 | 0.000 | 0.002 | |
| runDA | 0.465 | 0.005 | 0.470 | |
| runMocks | 0.693 | 0.019 | 0.711 | |
| runNormalizations | 0.412 | 0.000 | 0.412 | |
| runSplits | 3.362 | 0.016 | 3.378 | |
| setNormalizations | 0 | 0 | 0 | |
| set_ALDEx2 | 0.005 | 0.001 | 0.006 | |
| set_ANCOM | 0.007 | 0.000 | 0.007 | |
| set_DESeq2 | 0.005 | 0.001 | 0.007 | |
| set_MAST | 0.003 | 0.000 | 0.003 | |
| set_Maaslin2 | 0.004 | 0.000 | 0.005 | |
| set_NOISeq | 0.004 | 0.000 | 0.004 | |
| set_Seurat | 0.006 | 0.000 | 0.006 | |
| set_ZicoSeq | 0.006 | 0.000 | 0.007 | |
| set_basic | 0.001 | 0.001 | 0.001 | |
| set_corncob | 0.004 | 0.000 | 0.004 | |
| set_dearseq | 0.002 | 0.000 | 0.002 | |
| set_edgeR | 0.011 | 0.000 | 0.010 | |
| set_limma | 0.007 | 0.001 | 0.007 | |
| set_linda | 0.005 | 0.000 | 0.005 | |
| set_maaslin3 | 0.004 | 0.002 | 0.007 | |
| set_metagenomeSeq | 0.004 | 0.001 | 0.005 | |
| set_mixMC | 0.003 | 0.000 | 0.003 | |
| weights_ZINB | 0.408 | 0.003 | 0.412 | |