| wilson1 | Linux (openSUSE 11.1) / x86_64 |  |  |  | 
| liverpool | Windows Server 2003 R2 (32-bit) / x64 |  |  |  | 
| pitt | Mac OS X Tiger (10.4.11) / i386 |  |  |  | 
| [pelham] | Mac OS X Leopard (10.5.8) / i386 |  |  |  | 
|  | 
| A [A] B  C  D  E  F  G  H  I  J  K  L  M  N  O  P  Q  R  S  T  U  V  W  X  Y  Z | 
| ABarray 1.15.0 | Yongming Andrew Sun | OK | OK | OK | 
| aCGH 1.23.0 | Peter Dimitrov | OK | OK | OK | 
| ACME 2.3.0 | Sean Davis | OK | OK | OK | 
| adSplit 1.17.0 | Claudio Lottaz | OK | OK | OK | 
| affxparser 1.19.0 | Kasper Daniel Hansen | OK | OK | OK | 
| affy 1.25.2 | Rafael A. Irizarry | OK | OK | OK | 
| affycomp 1.23.0 | Rafael A. Irizarry | OK | OK | OK | 
| AffyCompatible 1.7.0 | Martin Morgan | OK | OK | OK | 
| affyContam 1.5.0 | V. Carey | OK | OK | OK | 
| affycoretools 1.19.0 | James W. MacDonald | OK | WARNINGS | OK | 
| AffyExpress 1.13.0 | Xuejun Arthur Li | OK | OK | OK | 
| affyio 1.15.1 | Benjamin Milo Bolstad | OK | OK | OK | 
| affylmGUI 1.21.0 | Keith Satterley | OK | OK | OK | 
| affyPara 1.7.0 | Markus Schmidberger | OK | WARNINGS | OK | 
| affypdnn 1.21.0 | Laurent Gautier | OK | OK | OK | 
| affyPLM 1.23.0 | Ben Bolstad | OK | WARNINGS | OK | 
| affyQCReport 1.25.0 | Craig Parman | OK | OK | OK | 
| AffyTiling 1.5.1 | Charles G. Danko | OK | OK | OK | 
| Agi4x44PreProcess 1.7.0 | Pedro Lopez-Romero | OK | OK | OK | 
| AgiMicroRna 1.1.0 | Pedro Lopez-Romero | OK | OK | OK | 
| altcdfenvs 2.9.0 | Laurent Gautier | OK | OK | OK | 
| annaffy 1.19.0 | Colin A. Smith | OK | OK | OK | 
| annotate 1.25.0 | Biocore Team c/o BioC user list | OK | OK | OK | 
| AnnotationDbi 1.9.2 | Biocore Team c/o BioC user list | ERROR | skipped | skipped | 
| annotationTools 1.19.0 | Alexandre Kuhn | OK | OK | OK | 
| apComplex 2.13.0 | Denise Scholtens | OK | OK | OK | 
| aroma.light 1.15.1 | Henrik Bengtsson | OK | OK | OK | 
| ArrayExpress 1.7.5 | Audrey Kauffmann | OK | OK | OK | 
| arrayMvout 1.5.0 | V. Carey | OK | OK | OK | 
| arrayQuality 1.25.0 | Agnes Paquet | OK | WARNINGS | OK | 
| arrayQualityMetrics 2.5.9 | Audrey Kauffmann | OK | OK | OK | 
| ArrayTools 1.7.0 | Arthur Li | OK | OK | OK | 
|  | 
| B  A [B] C  D  E  F  G  H  I  J  K  L  M  N  O  P  Q  R  S  T  U  V  W  X  Y  Z | 
| BAC 1.7.0 | Raphael Gottardo | OK | OK | OK | 
| baySeq 1.1.0 | Thomas J. Hardcastle | OK | OK | OK | 
| BCRANK 1.9.0 | Adam Ameur | OK | OK | OK | 
| beadarray 1.15.1 | Mark Dunning | OK | OK | OK | 
| beadarraySNP 1.13.0 | Jan Oosting | OK | OK | OK | 
| betr 1.3.0 | Martin Aryee | OK | OK | OK | 
| bgafun 1.9.0 | Iain Wallace | OK | OK | OK | 
| BGmix 1.7.0 | Alex Lewin | OK | OK | OK | 
| bgx 1.11.0 | Ernest Turro | OK | OK | OK | 
| BicARE 1.5.0 | Pierre Gestraud | OK | OK | OK | 
| Biobase 2.7.2 | Biocore Team c/o BioC user list | OK | OK | OK | 
| BiocCaseStudies 1.9.0 | Biocore Team c/o BioC user list | OK | OK | OK | 
| biocDatasets 1.3.0 | L. Gautier | OK | OK | OK | 
| biocGraph 1.9.0 | Florian Hahne | OK | OK | OK | 
| biocViews 1.15.1 | Biocore Team c/o BioC user list | OK | OK | OK | 
| bioDist 1.19.0 | Biocore Team c/o BioC user list | OK | OK | OK | 
| biomaRt 2.3.0 | Steffen Durinck | OK | OK | OK | 
| BioMVCClass 1.15.0 | Elizabeth Whalen | OK | OK | OK | 
| BioSeqClass 1.1.0 | Li Hong | OK | OK | OK | 
| Biostrings 2.15.9 | H. Pages | OK | WARNINGS | OK | 
| bridge 1.11.0 | Raphael Gottardo | OK | OK | OK | 
| BSgenome 1.15.3 | H. Pages | OK | OK | OK | 
| BufferedMatrix 1.11.0 | Benjamin Milo Bolstad | OK | OK | OK | 
| BufferedMatrixMethods 1.11.1 | B. M. Bolstad | OK | OK | OK | 
| BUS 1.0.2 | Yuanhua Liu | ERROR | skipped | skipped | 
|  | 
| C  A  B [C] D  E  F  G  H  I  J  K  L  M  N  O  P  Q  R  S  T  U  V  W  X  Y  Z | 
| CALIB 1.13.0 | Hui Zhao | OK | OK | OK | 
| CAMERA 1.3.3 | Carsten Kuhl | OK | OK | OK | 
| Category 2.13.0 | Robert Gentleman | OK | OK | OK | 
| cellHTS 1.17.0 | Ligia Bras | OK | OK | OK | 
| cellHTS2 2.11.2 | Florian Hahne | OK | OK | OK | 
| CGHbase 1.5.0 | Sjoerd Vosse | OK | OK | OK | 
| CGHcall 2.7.0 | Mark van de Wiel | OK | OK | OK | 
| cghMCR 1.5.0 | J. Zhang | OK | OK | OK | 
| CGHnormaliter 1.1.0 | Bart P.P. van Houte | OK | OK | OK | 
| CGHregions 1.5.0 | Mark van de Wiel | OK | OK | OK | 
| ChemmineR 1.7.1 | Y. Eddie Cao | OK | OK | OK | 
| ChIPpeakAnno 1.3.1 | Lihua Julie Zhu | ERROR | skipped | skipped | 
| chipseq 0.3.1 | Biocore Team c/o BioC user list | OK | OK | OK | 
| ChIPseqR 1.1.0 | Peter Humburg | OK | OK | OK | 
| ChIPsim 1.1.1 | Peter Humburg | OK | OK | OK | 
| ChromHeatMap 1.1.0 | Tim F. Rayner | OK | OK | OK | 
| clippda 1.1.0 | Stephen Nyangoma | OK | OK | OK | 
| clusterStab 1.19.0 | James W. MacDonald | OK | OK | OK | 
| CMA 1.5.0 | Christoph Bernau | OK | OK | OK | 
| CNTools 1.3.0 | J. Zhang | OK | OK | OK | 
| CNVtools 1.41.3 | Chris Barnes | OK | OK | OK | 
| CoCiteStats 1.19.0 | R. Gentleman | OK | OK | OK | 
| codelink 1.15.1 | Diego Diez | OK | OK | OK | 
| convert 1.23.0 | Yee Hwa (Jean) Yang | OK | OK | OK | 
| copa 1.15.0 | James W. MacDonald | OK | OK | OK | 
| CORREP 1.13.0 | Dongxiao Zhu | OK | OK | OK | 
| cosmo 1.13.0 | Oliver Bembom | OK | WARNINGS | OK | 
| cosmoGUI 1.13.0 | Oliver Bembom | OK | OK | OK | 
| crlmm 1.5.11 | Benilton S Carvalho , Robert Scharpf , Matt Ritchie | OK | WARNINGS | OK | 
| ctc 1.21.0 | Antoine Lucas | OK | OK | OK | 
| cycle 1.1.0 | Matthias Futschik | OK | OK | OK | 
|  | 
| D  A  B  C [D] E  F  G  H  I  J  K  L  M  N  O  P  Q  R  S  T  U  V  W  X  Y  Z | 
| daMA 1.19.0 | Jobst Landgrebe | OK | OK | OK | 
| DAVIDQuery 1.5.0 | Roger Day | OK | OK | OK | 
| ddCt 1.1.0 | Jitao David Zhang | OK | OK | OK | 
| DEDS 1.21.0 | Yuanyuan Xiao | OK | OK | OK | 
| DEGseq 1.1.2 | Likun Wang | OK | OK | OK | 
| DFP 1.5.0 | Rodrigo Alvarez-Glez | OK | OK | OK | 
| diffGeneAnalysis 1.29.0 | Choudary Jagarlamudi | OK | OK | OK | 
| DNAcopy 1.21.0 | Venkatraman E. Seshan | OK | OK | OK | 
| domainsignatures 1.7.0 | Florian Hahne | OK | OK | OK | 
| dualKS 1.7.0 | Eric J. Kort | OK | OK | OK | 
| dyebias 1.5.7 | Philip Lijnzaad | OK | OK | OK | 
| DynDoc 1.25.0 | Biocore Team c/o BioC user list | OK | OK | OK | 
|  | 
| E  A  B  C  D [E] F  G  H  I  J  K  L  M  N  O  P  Q  R  S  T  U  V  W  X  Y  Z | 
| EBarrays 2.11.0 | Ming Yuan | OK | OK | OK | 
| EBImage 3.3.1 | Gregoire Pau | OK | OK | OK | 
| ecolitk 1.19.0 | Laurent | OK | OK | OK | 
| edd 1.25.0 | Vince Carey | OK | OK | OK | 
| edgeR 1.5.3 | Mark Robinson , Davis McCarthy , Gordon Smyth | OK | OK | OK | 
| exonmap 2.5.0 | Crispin Miller | OK | OK | OK | 
| explorase 1.11.0 | Michael Lawrence | ERROR | skipped | skipped | 
| externalVector 1.13.0 | Biocore Team c/o BioC user list | OK | WARNINGS | OK | 
|  | 
| F  A  B  C  D  E [F] G  H  I  J  K  L  M  N  O  P  Q  R  S  T  U  V  W  X  Y  Z | 
| factDesign 1.23.0 | Denise Scholtens | OK | OK | OK | 
| fbat 1.11.0 | The R Genetics Project | OK | OK | OK | 
| fdrame 1.19.0 | Effi Kenigsberg | OK | OK | OK | 
| flagme 1.3.0 | Mark Robinson | OK | WARNINGS | OK | 
| flowClust 2.5.0 | Raphael Gottardo | OK | OK | OK | 
| flowCore 1.13.1 | F. Hahne | OK | OK | OK | 
| flowFlowJo 1.5.0 | John J. Gosink | OK | OK | OK | 
| flowFP 1.3.0 | Herb Holyst | OK | OK | OK | 
| flowMerge 1.1.2 | Greg Finak | OK | OK | OK | 
| flowQ 1.7.0 | F. Hahne | OK | OK | OK | 
| flowStats 1.5.4 | Florian Hahne  and Chao-Jen Wong | OK | WARNINGS | OK | 
| flowUtils 1.7.0 | Nishant Gopalakrishnan | OK | WARNINGS | OK | 
| flowViz 1.11.0 | Florian Hahne | OK | OK | OK | 
|  | 
| G  A  B  C  D  E  F [G] H  I  J  K  L  M  N  O  P  Q  R  S  T  U  V  W  X  Y  Z | 
| gaga 1.7.0 | David Rossell | OK | OK | OK | 
| gaggle 1.15.0 | Dan Tenenbaum | OK | OK | OK | 
| gcrma 2.19.0 | Z. Wu | OK | OK | OK | 
| genArise 1.23.0 | IFC Development Team | OK | OK | OK | 
| gene2pathway 1.5.0 | Holger Froehlich | OK | OK | OK | 
| GeneAnswers 1.3.1 | Gang Feng  and Pan Du | OK | OK | OK | 
| genefilter 1.29.5 | Biocore Team c/o BioC user list | OK | OK | OK | 
| GeneMeta 1.19.0 | Biocore Team c/o BioC user list | OK | OK | OK | 
| geneplotter 1.25.0 | Biocore Team c/o BioC user list | OK | OK | OK | 
| GeneR 2.17.0 | Y. d'Aubenton-Carafa | OK | OK | OK | 
| geneRecommender 1.19.0 | Greg Hather | OK | OK | OK | 
| GeneRegionScan 1.3.2 | Lasse Folkersen | ERROR | skipped | skipped | 
| GeneRfold 1.5.0 | Antoine Lucas | OK | OK | OK | 
| GeneSelectMMD 1.3.0 | Weiliang Qiu | OK | OK | OK | 
| GeneSelector 2.3.0 | Martin Slawski | OK | OK | OK | 
| GeneSpring 2.21.0 | Thon de Boer | OK | OK | OK | 
| GeneticsBase 1.13.0 | The R Genetics Project | OK | WARNINGS | OK | 
| GeneticsDesign 1.15.0 | The R Genetics Project | OK | OK | OK | 
| GeneticsPed 1.9.0 | The R Genetics Project | OK | OK | OK | 
| GeneTraffic 1.19.0 | Daniel Iordan | OK | OK | OK | 
| GenomeGraphs 1.7.0 | Steffen Durinck | TIMEOUT | skipped | skipped | 
| genomeIntervals 1.3.0 | Julien Gagneur | OK | OK | OK | 
| GenomicFeatures 0.3.1 | Biocore Team c/o BioC user list | OK | WARNINGS | OK | 
| Genominator 1.1.1 | James Bullard | ERROR | skipped | skipped | 
| GEOmetadb 1.7.0 | Jack Zhu | OK | OK | OK | 
| GEOquery 2.11.1 | Sean Davis | OK | OK | OK | 
| GGBase 3.7.5 | Vince Carey | OK | OK | OK | 
| GGtools 3.5.19 | Vince Carey | OK | OK | OK | 
| GLAD 2.8.0 | Philippe Hupe | OK | OK | OK | 
| GlobalAncova 3.13.0 | R. Meister | OK | OK | OK | 
| globaltest 5.1.2 | Jelle Goeman | OK | OK | OK | 
| goProfiles 1.9.0 | Alex Sanchez | OK | OK | OK | 
| GOSemSim 1.5.0 | Guangchuang Yu | OK | OK | OK | 
| GOstats 2.13.0 | Robert Gentleman | OK | OK | OK | 
| goTools 1.21.0 | Agnes Paquet | OK | OK | OK | 
| gpls 1.19.0 | Biocore Team c/o BioC user list | OK | OK | OK | 
| graph 1.25.3 | Seth Falcon | OK | OK | OK | 
| GraphAlignment 1.9.0 | Joern P. Meier | OK | OK | OK | 
| GraphAT 1.19.0 | Thomas LaFramboise | OK | OK | OK | 
| GSEABase 1.9.0 | Biocore Team c/o BioC user list | OK | OK | OK | 
| GSEAlm 1.7.1 | Assaf Oron | ERROR | skipped | skipped | 
|  | 
| H  A  B  C  D  E  F  G [H] I  J  K  L  M  N  O  P  Q  R  S  T  U  V  W  X  Y  Z | 
| Harshlight 1.17.0 | Maurizio Pellegrino | OK | OK | OK | 
| Heatplus 1.17.0 | Alexander Ploner | OK | OK | OK | 
| HELP 1.5.0 | Reid F. Thompson | OK | OK | OK | 
| HEM 1.19.0 | HyungJun Cho | OK | OK | OK | 
| hexbin 1.21.0 | Nicholas Lewin-Koh | OK | OK | OK | 
| HilbertVis 1.5.0 | Simon Anders | OK | OK | OK | 
| HilbertVisGUI 1.5.0 | Simon Anders | OK | OK | OK | 
| hopach 2.7.0 | Katherine S. Pollard | ERROR | skipped | skipped | 
| HTqPCR 1.1.0 | Heidi Dvinge , Paul Bertone | OK | OK | OK | 
| hypergraph 1.19.0 | Robert Gentleman | OK | OK | OK | 
|  | 
| I  A  B  C  D  E  F  G  H [I] J  K  L  M  N  O  P  Q  R  S  T  U  V  W  X  Y  Z | 
| Icens 1.19.0 | Biocore Team c/o BioC user list | OK | OK | OK | 
| idiogram 1.23.0 | Karl J. Dykema | OK | OK | OK | 
| impute 1.21.0 | Balasubramanian Narasimhan | OK | OK | OK | 
| IRanges 1.5.16 | Biocore Team c/o BioC user list | OK | WARNINGS | OK | 
| ITALICS 2.7.0 | Guillem Rigaill | OK | OK | OK | 
| iterativeBMA 1.5.0 | Ka Yee Yeung | OK | OK | OK | 
| iterativeBMAsurv 1.5.0 | Ka Yee Yeung | OK | OK | OK | 
|  | 
| K  A  B  C  D  E  F  G  H  I  J [K] L  M  N  O  P  Q  R  S  T  U  V  W  X  Y  Z | 
| KCsmart 2.5.1 | Jorma de Ronde | OK | OK | OK | 
| KEGGgraph 1.3.1 | Jitao David Zhang | OK | OK | OK | 
| keggorth 1.9.0 | VJ Carey | OK | OK | OK | 
| KEGGSOAP 1.21.0 | Robert Gentleman | OK | OK | OK | 
|  | 
| L  A  B  C  D  E  F  G  H  I  J  K [L] M  N  O  P  Q  R  S  T  U  V  W  X  Y  Z | 
| lapmix 1.13.0 | Yann Ruffieux | OK | OK | OK | 
| LBE 1.15.0 | Cyril Dalmasso | OK | OK | OK | 
| limma 3.3.2 | Gordon Smyth | OK | OK | OK | 
| limmaGUI 1.23.0 | Keith Satterley | OK | OK | OK | 
| LiquidAssociation 1.1.0 | Yen-Yi Ho | OK | OK | OK | 
| LMGene 1.17.0 | John Tillinghast | OK | OK | OK | 
| logicFS 1.17.0 | Holger Schwender | OK | OK | OK | 
| logitT 1.5.0 | Tobias Guennel | OK | OK | OK | 
| LPE 1.21.0 | Nitin Jain | OK | OK | OK | 
| LPEadj 1.7.0 | Carl Murie | OK | OK | OK | 
| lumi 1.13.4 | Pan Du | OK | OK | OK | 
|  | 
| M  A  B  C  D  E  F  G  H  I  J  K  L [M] N  O  P  Q  R  S  T  U  V  W  X  Y  Z | 
| maanova 1.17.0 | Keith Sheppard | OK | OK | OK | 
| macat 1.21.0 | Joern Toedling | OK | OK | OK | 
| maCorrPlot 1.17.0 | Alexander Ploner | OK | OK | OK | 
| maDB 1.19.0 | Johannes Rainer | OK | OK | OK | 
| made4 1.21.0 | Aedin Culhane | OK | OK | OK | 
| maigesPack 1.11.0 | Gustavo H. Esteves | OK | OK | OK | 
| makecdfenv 1.25.1 | James W. MacDonald | OK | OK | OK | 
| makePlatformDesign 1.11.0 | Benilton Carvalho | OK | OK | OK | 
| MANOR 1.19.0 | Pierre Neuvial | OK | OK | OK | 
| MantelCorr 1.17.0 | Brian Steinmeyer | OK | OK | OK | 
| marray 1.25.0 | Yee Hwa (Jean) Yang | OK | OK | OK | 
| maSigPro 1.19.0 | Ana Conesa | OK | OK | OK | 
| MassSpecWavelet 1.13.0 | Pan Du | OK | OK | OK | 
| matchprobes 1.19.0 | Biocore Team c/o BioC user list | OK | OK | OK | 
| mBPCR 1.1.0 | P.M.V. Rancoita | ERROR | skipped | skipped | 
| MCRestimate 2.3.0 | Marc Johannes | OK | OK | OK | 
| mdqc 1.9.0 | Gabriela Cohen-Freue | OK | OK | OK | 
| MeasurementError.cor 1.19.0 | Beiying Ding | OK | OK | OK | 
| MEDME 1.7.0 | Mattia Pelizzola | OK | OK | OK | 
| MergeMaid 2.19.0 | Xiaogang Zhong | OK | OK | OK | 
| metaArray 1.23.0 | Hyungwon Choi | OK | OK | OK | 
| metahdep 1.5.0 | John R. Stevens | OK | OK | OK | 
| methylumi 1.1.0 | Sean Davis | OK | OK | OK | 
| Mfuzz 2.5.0 | Matthias Futschik | OK | OK | OK | 
| MiChip 1.1.0 | Jonathon Blake | OK | OK | OK | 
| microRNA 1.5.1 | Chao-Jen Wong | OK | OK | OK | 
| minet 2.2.1 | Patrick E. Meyer | OK | OK | OK | 
| MiPP 1.19.0 | Sukwoo Kim | OK | OK | OK | 
| miRNApath 1.7.0 | James M. Ward | OK | OK | OK | 
| MLInterfaces 1.27.0 | V. Carey | OK | ERROR | OK | 
| multiscan 1.7.0 | Mizanur Khondoker | OK | OK | OK | 
| multtest 2.3.0 | Katherine S. Pollard | OK | OK | OK | 
| MVCClass 1.21.0 | Elizabeth Whalen | OK | OK | OK | 
|  | 
| N  A  B  C  D  E  F  G  H  I  J  K  L  M [N] O  P  Q  R  S  T  U  V  W  X  Y  Z | 
| nem 2.11.0 | Christian Bender | OK | OK | OK | 
| nnNorm 2.11.0 | Adi Laurentiu Tarca | OK | WARNINGS | OK | 
| nudge 1.13.0 | N. Dean | OK | OK | OK | 
|  | 
| O  A  B  C  D  E  F  G  H  I  J  K  L  M  N [O] P  Q  R  S  T  U  V  W  X  Y  Z | 
| occugene 1.7.0 | Oliver Will | OK | OK | OK | 
| OCplus 1.21.0 | Alexander Ploner | OK | OK | OK | 
| oligo 1.11.9 | Benilton Carvalho | OK | WARNINGS | OK | 
| oligoClasses 1.9.14 | Benilton Carvalho | OK | WARNINGS | OK | 
| OLIN 1.25.0 | Matthias Futschik | OK | OK | OK | 
| OLINgui 1.21.0 | Matthias Futschik | OK | OK | OK | 
| oneChannelGUI 1.13.0 | Raffaele A Calogero | OK | OK | OK | 
| ontoTools 1.25.0 | Vince Carey | ERROR | skipped | skipped | 
| OrderedList 1.19.0 | Claudio Lottaz | OK | OK | OK | 
| OutlierD 1.11.0 | Sukwoo Kim | OK | OK | OK | 
|  | 
| P  A  B  C  D  E  F  G  H  I  J  K  L  M  N  O [P] Q  R  S  T  U  V  W  X  Y  Z | 
| pamr 1.45.0 | Rob Tibshirani | OK | OK | OK | 
| PAnnBuilder 1.9.0 | Li Hong | OK | OK | OK | 
| panp 1.17.0 | Peter Warren | OK | OK | OK | 
| parody 1.5.0 | VJ Carey | OK | OK | OK | 
| pathRender 1.15.0 | Li Long | OK | OK | OK | 
| pcaMethods 1.25.1 | Wolfram Stacklies | OK | OK | OK | 
| pcot2 1.15.0 | Sarah Song | OK | OK | OK | 
| PCpheno 1.9.0 | Nolwenn Le Meur | OK | WARNINGS | OK | 
| pdInfoBuilder 1.11.2 | Benilton Carvalho | OK | OK | OK | 
| pdmclass 1.19.0 | James W. MacDonald | OK | OK | OK | 
| PGSEA 1.15.0 | Karl Dykema | OK | OK | OK | 
| pgUtils 1.19.0 | Johannes Rainer | OK | OK | OK | 
| pickgene 1.19.0 | Brian S. Yandell | OK | OK | OK | 
| pkgDepTools 1.13.0 | Seth Falcon | OK | OK | OK | 
| plateCore 1.5.0 | Errol Strain | OK | OK | OK | 
| plgem 1.19.2 | Norman Pavelka | OK | OK | OK | 
| plier 1.17.0 | Crispin Miller | OK | OK | OK | 
| PLPE 1.7.0 | Soo-heang Eo | OK | OK | OK | 
| plw 1.7.0 | Magnus Astrand | OK | OK | OK | 
| ppiStats 1.13.0 | Tony Chiang | OK | OK | OK | 
| prada 1.23.0 | Florian Hahne | OK | OK | OK | 
| preprocessCore 1.9.0 | Benjamin Milo Bolstad | OK | OK | OK | 
| PROcess 1.23.0 | Xiaochun Li | OK | OK | OK | 
| puma 1.99.0 | Richard Pearson , Li Zhang | OK | WARNINGS | OK | 
|  | 
| Q  A  B  C  D  E  F  G  H  I  J  K  L  M  N  O  P [Q] R  S  T  U  V  W  X  Y  Z | 
| qpcrNorm 1.5.1 | Jessica Mar | OK | OK | OK | 
| qpgraph 1.3.4 | Robert Castelo | OK | OK | OK | 
| quantsmooth 1.13.0 | Jan Oosting | OK | OK | OK | 
| qvalue 1.21.0 | John D. Storey | OK | OK | OK | 
|  | 
| R  A  B  C  D  E  F  G  H  I  J  K  L  M  N  O  P  Q [R] S  T  U  V  W  X  Y  Z | 
| rama 1.21.0 | Raphael Gottardo | OK | OK | OK | 
| RankProd 2.19.0 | Fangxin Hong | OK | OK | OK | 
| RbcBook1 1.15.0 | Vince Carey | OK | OK | OK | 
| RBGL 1.23.0 | Li Long | OK | WARNINGS | OK | 
| RBioinf 1.7.0 | Robert Gentleman | OK | OK | OK | 
| rbsurv 2.5.0 | Soo-heang Eo | OK | OK | OK | 
| Rdbi 1.21.0 | Jianhua Zhang | OK | OK | OK | 
| RdbiPgSQL 1.21.0 | Jianhua Zhang | OK | OK | OK | 
| Rdisop 1.7.0 | Steffen Neumann | N O T   S U P P O R T E D | 
| reb 1.21.0 | Karl J. Dykema | OK | WARNINGS | OK | 
| RefPlus 1.17.0 | Kai-Ming Chang | OK | OK | OK | 
| Resourcerer 1.21.0 | Jianhua Zhang | OK | OK | OK | 
| rflowcyt 1.19.0 | N. LeMeur | OK | OK | OK | 
| Rgraphviz 1.25.0 | Kasper Hansen | OK | OK | OK | 
| rHVDM 1.13.0 | Martino Barenco | OK | OK | OK | 
| Ringo 1.11.2 | J. Toedling | OK | OK | OK | 
| RLMM 1.9.0 | Nusrat Rabbee | OK | OK | OK | 
| RMAGEML 2.21.0 | Steffen Durinck | N O T   S U P P O R T E D | 
| Rmagpie 1.3.0 | Camille Maumet | OK | OK | OK | 
| rMAT 2.3.3 | Arnaud Droit  and Raphael Gottardo | OK | OK | OK | 
| RmiR 1.3.0 | Francesco Favero | OK | OK | OK | 
| RNAither 1.7.1 | Nora Rieber | OK | ERROR | OK | 
| ROC 1.23.1 | Vince Carey | OK | OK | OK | 
| Rolexa 1.3.0 | Jacques Rougemont | OK | OK | OK | 
| RPA 1.3.0 | Leo Lahti | OK | OK | OK | 
| RpsiXML 1.7.1 | Jitao David Zhang | OK | OK | OK | 
| Rredland 1.13.0 | VJ Carey | N O T   S U P P O R T E D | 
| rsbml 2.5.0 | Michael Lawrence | OK | OK | OK | 
| RTCA 1.1.0 | Jitao David Zhang | ERROR | skipped | skipped | 
| RTools4TB 1.3.0 | Aurelie Bergon | OK | OK | OK | 
| rtracklayer 1.7.2 | Michael Lawrence | OK | WARNINGS | OK | 
| Rtreemix 1.9.0 | Jasmina Bogojeska | OK | OK | OK | 
| Ruuid 1.25.0 | Biocore Team c/o BioC user list | OK | OK | OK | 
| RWebServices 1.11.0 | Martin Morgan | N O T   S U P P O R T E D | 
|  | 
| S  A  B  C  D  E  F  G  H  I  J  K  L  M  N  O  P  Q  R [S] T  U  V  W  X  Y  Z | 
| safe 2.7.0 | William T. Barry | OK | OK | OK | 
| sagenhaft 1.17.0 | Tim Beissbarth | OK | OK | OK | 
| SAGx 1.21.0 | Per Broberg, | OK | OK | OK | 
| SBMLR 1.41.0 | Tomas Radivoyevitch | OK | OK | OK | 
| ScISI 1.19.0 | Tony Chiang | OK | OK | OK | 
| seqLogo 1.13.0 | Oliver Bembom | OK | OK | OK | 
| ShortRead 1.5.8 | Biocore Team c/o BioC user list | OK | OK | OK | 
| siggenes 1.21.0 | Holger Schwender | OK | OK | OK | 
| sigPathway 1.15.0 | Weil Lai | OK | OK | OK | 
| SIM 1.15.0 | Maarten van Iterson | OK | OK | OK | 
| simpleaffy 2.23.0 | Crispin Miller | OK | OK | OK | 
| simulatorAPMS 1.19.0 | Tony Chiang | OK | OK | OK | 
| sizepower 1.17.0 | Weiliang Qiu | OK | OK | OK | 
| SJava 0.73.0 | Martin Morgan | N O T   S U P P O R T E D | 
| SLGI 1.7.0 | Nolwenn Le Meur | OK | OK | OK | 
| SLqPCR 1.13.0 | Matthias Kohl | OK | OK | OK | 
| SMAP 1.11.1 | Robin Andersson | OK | OK | OK | 
| snapCGH 1.17.0 | John Marioni | ERROR | skipped | skipped | 
| SNPchip 1.11.1 | Robert Scharpf | ERROR | skipped | skipped | 
| snpMatrix 1.11.3 | David Clayton | OK | OK | OK | 
| SpeCond 1.1.3 | Florence Cavalli | OK | OK | OK | 
| SPIA 1.5.0 | Adi Laurentiu Tarca | OK | OK | OK | 
| spikeLI 2.7.0 | Enrico Carlon | OK | OK | OK | 
| spkTools 1.3.0 | Matthew N McCall | OK | OK | OK | 
| splicegear 1.19.0 | Laurent Gautier | OK | OK | OK | 
| splots 1.13.0 | Oleg Sklyar | OK | OK | OK | 
| spotSegmentation 1.21.0 | Chris Fraley | OK | OK | OK | 
| sscore 1.19.0 | Richard Kennedy | OK | OK | OK | 
| ssize 1.21.0 | Gregory R. Warnes | OK | OK | OK | 
| SSPA 1.3.0 | Maarten van Iterson | OK | OK | OK | 
| stam 1.13.1 | Claudio Lottaz | ERROR | skipped | skipped | 
| Starr 1.3.0 | Benedikt Zacher | OK | OK | OK | 
| stepNorm 1.19.0 | Yuanyuan Xiao | OK | OK | OK | 
|  | 
| T  A  B  C  D  E  F  G  H  I  J  K  L  M  N  O  P  Q  R  S [T] U  V  W  X  Y  Z | 
| TargetSearch 1.3.0 | Alvaro Cuadros-Inostroza | OK | OK | OK | 
| tilingArray 1.25.0 | Zhenyu Xu | OK | OK | OK | 
| timecourse 1.19.0 | Yu Chuan Tai | OK | OK | OK | 
| tkWidgets 1.25.0 | J. Zhang | OK | OK | OK | 
| topGO 1.15.0 | Adrian Alexa | OK | OK | OK | 
| tspair 1.5.0 | Jeffrey T. Leek | OK | OK | OK | 
| twilight 1.23.0 | Stefanie Scheid | OK | OK | OK | 
| TypeInfo 1.13.0 | Duncan Temple Lang | OK | OK | OK | 
|  | 
| V  A  B  C  D  E  F  G  H  I  J  K  L  M  N  O  P  Q  R  S  T  U [V] W  X  Y  Z | 
| VanillaICE 1.9.1 | Robert Scharpf | ERROR | skipped | skipped | 
| vbmp 1.15.0 | Nicola Lama | OK | OK | OK | 
| vsn 3.15.1 | Wolfgang Huber | OK | WARNINGS | OK | 
|  | 
| W  A  B  C  D  E  F  G  H  I  J  K  L  M  N  O  P  Q  R  S  T  U  V [W] X  Y  Z | 
| weaver 1.13.0 | Seth Falcon | OK | OK | OK | 
| webbioc 1.19.0 | Colin A. Smith | OK | OK | OK | 
| widgetTools 1.25.0 | Jianhua Zhang | OK | OK | OK | 
|  | 
| X  A  B  C  D  E  F  G  H  I  J  K  L  M  N  O  P  Q  R  S  T  U  V  W [X] Y  Z | 
| xcms 1.21.6 | Colin A. Smith | ERROR | skipped | skipped | 
| XDE 1.7.1 | Robert Scharpf | OK | OK | OK | 
| xmapbridge 1.5.0 | Tim Yates | OK | OK | OK | 
| xps 1.7.1 | Christian Stratowa | OK | OK | OK | 
|  | 
| Y  A  B  C  D  E  F  G  H  I  J  K  L  M  N  O  P  Q  R  S  T  U  V  W  X [Y] Z | 
| yaqcaffy 1.7.0 | Laurent Gatto | OK | OK | OK |