ChIPseqR 1.1.0 Peter Humburg
 | Bioconductor Changelog |  | Snapshot Date: 2009-12-07 11:32:00 -0800 (Mon, 07 Dec 2009) |  | URL: https://hedgehog.fhcrc.org/bioconductor/trunk/madman/Rpacks/ChIPseqR |  | Last Changed Rev: 42686 / Revision: 43434 |  | Last Changed Date: 2009-10-27 16:45:24 -0700 (Tue, 27 Oct 2009) |  
  | wilson1  | Linux (openSUSE 11.1) / x86_64  |  OK  |  OK  |  | 
| liverpool  | Windows Server 2003 R2 (32-bit) / x64  |  OK  |  OK  |  OK  | 
| pitt  | Mac OS X Tiger (10.4.11) / i386  |  OK  |  OK  |  OK  | 
| pelham  | Mac OS X Leopard (10.5.8) / i386  |  OK  |  OK  | [ OK ] | 
                INSTALLATION WITH 'R CMD INSTALL --preclean --library=ChIPseqR.buildbin-libdir ChIPseqR_1.1.0.tar.gz'
* installing *source* package ‘ChIPseqR’ ...
** libs
** arch - i386
gcc-4.2 -arch i386 -std=gnu99 -I/Library/Frameworks/R.framework/Versions/2.11/Resources/include -I/Library/Frameworks/R.framework/Versions/2.11/Resources/include/i386  -I/usr/local/include    -fPIC  -g -O2 -Wall -c startScore.c -o startScore.o
startScore.c: In function ‘_ratioStat_pois’:
startScore.c:66: warning: unused variable ‘tmp_stat’
gcc-4.2 -arch i386 -std=gnu99 -dynamiclib -Wl,-headerpad_max_install_names -undefined dynamic_lookup -single_module -multiply_defined suppress -L/usr/local/lib -o ChIPseqR.so startScore.o -F/Library/Frameworks/R.framework/.. -framework R -Wl,-framework -Wl,CoreFoundation
** arch - ppc
gcc-4.2 -arch ppc -std=gnu99 -I/Library/Frameworks/R.framework/Versions/2.11/Resources/include -I/Library/Frameworks/R.framework/Versions/2.11/Resources/include/ppc  -I/usr/local/include    -fPIC  -g -O2 -c startScore.c -o startScore.o
gcc-4.2 -arch ppc -std=gnu99 -dynamiclib -Wl,-headerpad_max_install_names -undefined dynamic_lookup -single_module -multiply_defined suppress -L/usr/local/lib -o ChIPseqR.so startScore.o -F/Library/Frameworks/R.framework/.. -framework R -Wl,-framework -Wl,CoreFoundation
** arch - x86_64
gcc-4.2 -arch x86_64 -std=gnu99 -I/Library/Frameworks/R.framework/Versions/2.11/Resources/include -I/Library/Frameworks/R.framework/Versions/2.11/Resources/include/x86_64  -I/usr/local/include    -fPIC  -g -O2 -Wall -c startScore.c -o startScore.o
startScore.c: In function ‘_ratioStat_pois’:
startScore.c:66: warning: unused variable ‘tmp_stat’
gcc-4.2 -arch x86_64 -std=gnu99 -dynamiclib -Wl,-headerpad_max_install_names -undefined dynamic_lookup -single_module -multiply_defined suppress -L/usr/local/lib -o ChIPseqR.so startScore.o -F/Library/Frameworks/R.framework/.. -framework R -Wl,-framework -Wl,CoreFoundation
** R
** inst
** preparing package for lazy loading
Loading required package: IRanges
Attaching package: 'IRanges'
	The following object(s) are masked from package:base :
	 Map,
	 cbind,
	 mapply,
	 order,
	 pmax,
	 pmax.int,
	 pmin,
	 pmin.int,
	 rbind,
	 rep.int,
	 table 
Loading required package: Biostrings
Loading required package: BSgenome
Loading required package: lattice
** help
*** installing help indices
** building package indices ...
* DONE (ChIPseqR)