genArise 1.23.0 IFC Development Team
 | Bioconductor Changelog |  | Snapshot Date: 2009-12-07 11:32:00 -0800 (Mon, 07 Dec 2009) |  | URL: https://hedgehog.fhcrc.org/bioconductor/trunk/madman/Rpacks/genArise |  | Last Changed Rev: 42686 / Revision: 43434 |  | Last Changed Date: 2009-10-27 16:45:24 -0700 (Tue, 27 Oct 2009) |  
  | wilson1  | Linux (openSUSE 11.1) / x86_64  |  OK  |  OK  |  | 
| liverpool  | Windows Server 2003 R2 (32-bit) / x64  |  OK  |  OK  |  OK  | 
| pitt  | Mac OS X Tiger (10.4.11) / i386  |  ERROR  |  skipped  |  skipped  | 
| pelham  | Mac OS X Leopard (10.5.8) / i386  | [ OK ] |  OK  |  OK  | 
* checking for file 'genArise/DESCRIPTION' ... OK
* preparing 'genArise':
* checking DESCRIPTION meta-information ... OK
* installing the package to re-build vignettes
* installing *source* package ‘genArise’ ...
** R
** data
** inst
** preparing package for lazy loading
Loading required package: akima
Loading required package: lattice
locfit 1.5-4 	 2007-11-27 
Loading required package: tcltk
Loading Tcl/Tk interface ... done
** help
*** installing help indices
** building package indices ...
* DONE (genArise)
* creating vignettes ... OK
* removing junk files
* checking for LF line-endings in source and make files
* checking for empty or unneeded directories
* building 'genArise_1.23.0.tar.gz'