| Back to the "Multiple platform build/check report" | A B C D E F G H I J K L M N O P Q [R] S T U V W X Y Z |
| Package 270/354 | Hostname | OS / Arch | BUILD | CHECK | BUILD BIN | |||||
| RankProd 2.19.0 Fangxin Hong
| wilson1 | Linux (openSUSE 11.1) / x86_64 | OK | OK | ||||||
| liverpool | Windows Server 2003 R2 (32-bit) / x64 | OK | OK | OK | ||||||
| pitt | Mac OS X Tiger (10.4.11) / i386 | OK | OK | OK | ||||||
| pelham | Mac OS X Leopard (10.5.8) / i386 | OK | OK | [ OK ] |
| Package: RankProd |
| Version: 2.19.0 |
| Command: /Users/biocbuild/BBS/utils/build-universal.sh RankProd_2.19.0.tar.gz /Library/Frameworks/R.framework/Versions/2.11/Resources/bin/R RankProd.buildbin-libdir |
| StartedAt: 2009-12-07 19:26:36 -0800 (Mon, 07 Dec 2009) |
| EndedAt: 2009-12-07 19:26:39 -0800 (Mon, 07 Dec 2009) |
| EllapsedTime: 2.8 seconds |
| RetCode: 0 |
| Status: OK |
| PackageFile: RankProd_2.19.0.tgz |
| PackageFileSize: 380.1 KiB |
INSTALLATION WITH 'R CMD INSTALL --preclean --library=RankProd.buildbin-libdir RankProd_2.19.0.tar.gz'
* installing *source* package ‘RankProd’ ...
** R
** data
** inst
** preparing package for lazy loading
** help
*** installing help indices
** building package indices ...
* DONE (RankProd)