| [wilson1] |
Linux (openSUSE 11.1) / x86_64 | | | |
| liverpool |
Windows Server 2003 R2 (32-bit) / x64 | | | |
| pitt |
Mac OS X Tiger (10.4.11) / i386 | | | |
| pelham |
Mac OS X Leopard (10.5.8) / i386 | | | |
|
| A [A] B C D E F G H I J K L M N O P Q R S T U V W X Y Z |
| ABarray 1.15.0 | Yongming Andrew Sun | OK | OK | |
| aCGH 1.23.0 | Peter Dimitrov | OK | OK | |
| ACME 2.3.0 | Sean Davis | OK | OK | |
| adSplit 1.17.0 | Claudio Lottaz | OK | OK | |
| affxparser 1.19.0 | Kasper Daniel Hansen | OK | OK | |
| affy 1.25.2 | Rafael A. Irizarry | OK | OK | |
| affycomp 1.23.0 | Rafael A. Irizarry | OK | OK | |
| AffyCompatible 1.7.0 | Martin Morgan | OK | OK | |
| affyContam 1.5.0 | V. Carey | OK | OK | |
| affycoretools 1.19.0 | James W. MacDonald | OK | WARNINGS | |
| AffyExpress 1.13.0 | Xuejun Arthur Li | OK | OK | |
| affyio 1.15.1 | Benjamin Milo Bolstad | OK | OK | |
| affylmGUI 1.21.0 | Keith Satterley | OK | OK | |
| affyPara 1.7.0 | Markus Schmidberger | OK | WARNINGS | |
| affypdnn 1.21.0 | Laurent Gautier | OK | OK | |
| affyPLM 1.23.0 | Ben Bolstad | OK | WARNINGS | |
| affyQCReport 1.25.0 | Craig Parman | OK | OK | |
| AffyTiling 1.5.1 | Charles G. Danko | OK | OK | |
| Agi4x44PreProcess 1.7.0 | Pedro Lopez-Romero | OK | OK | |
| AgiMicroRna 1.1.0 | Pedro Lopez-Romero | OK | OK | |
| altcdfenvs 2.9.0 | Laurent Gautier | OK | OK | |
| annaffy 1.19.0 | Colin A. Smith | OK | OK | |
| annotate 1.25.0 | Biocore Team c/o BioC user list | OK | OK | |
| AnnotationDbi 1.9.2 | Biocore Team c/o BioC user list | ERROR | skipped | |
| annotationTools 1.19.0 | Alexandre Kuhn | OK | OK | |
| apComplex 2.13.0 | Denise Scholtens | OK | OK | |
| aroma.light 1.15.1 | Henrik Bengtsson | OK | OK | |
| ArrayExpress 1.7.5 | Audrey Kauffmann | OK | OK | |
| arrayMvout 1.5.0 | V. Carey | OK | OK | |
| arrayQuality 1.25.0 | Agnes Paquet | OK | OK | |
| arrayQualityMetrics 2.5.9 | Audrey Kauffmann | OK | OK | |
| ArrayTools 1.7.0 | Arthur Li | OK | OK | |
|
| B A [B] C D E F G H I J K L M N O P Q R S T U V W X Y Z |
| BAC 1.7.0 | Raphael Gottardo | OK | OK | |
| baySeq 1.1.0 | Thomas J. Hardcastle | OK | OK | |
| BCRANK 1.9.0 | Adam Ameur | OK | OK | |
| beadarray 1.15.1 | Mark Dunning | OK | OK | |
| beadarraySNP 1.13.0 | Jan Oosting | OK | OK | |
| betr 1.3.0 | Martin Aryee | OK | OK | |
| bgafun 1.9.0 | Iain Wallace | OK | OK | |
| BGmix 1.7.0 | Alex Lewin | OK | OK | |
| bgx 1.11.0 | Ernest Turro | OK | OK | |
| BicARE 1.5.0 | Pierre Gestraud | OK | OK | |
| Biobase 2.7.2 | Biocore Team c/o BioC user list | OK | OK | |
| BiocCaseStudies 1.9.0 | Biocore Team c/o BioC user list | OK | OK | |
| biocDatasets 1.3.0 | L. Gautier | OK | OK | |
| biocGraph 1.9.0 | Florian Hahne | OK | OK | |
| biocViews 1.15.1 | Biocore Team c/o BioC user list | OK | OK | |
| bioDist 1.19.0 | Biocore Team c/o BioC user list | OK | OK | |
| biomaRt 2.3.0 | Steffen Durinck | OK | OK | |
| BioMVCClass 1.15.0 | Elizabeth Whalen | OK | OK | |
| BioSeqClass 1.1.0 | Li Hong | OK | OK | |
| Biostrings 2.15.9 | H. Pages | OK | OK | |
| bridge 1.11.0 | Raphael Gottardo | OK | OK | |
| BSgenome 1.15.3 | H. Pages | OK | OK | |
| BufferedMatrix 1.11.0 | Benjamin Milo Bolstad | OK | OK | |
| BufferedMatrixMethods 1.11.1 | B. M. Bolstad | OK | OK | |
| BUS 1.0.2 | Yuanhua Liu | ERROR | skipped | |
|
| C A B [C] D E F G H I J K L M N O P Q R S T U V W X Y Z |
| CALIB 1.13.0 | Hui Zhao | OK | OK | |
| CAMERA 1.3.3 | Carsten Kuhl | OK | OK | |
| Category 2.13.0 | Robert Gentleman | OK | OK | |
| cellHTS 1.17.0 | Ligia Bras | OK | OK | |
| cellHTS2 2.11.2 | Florian Hahne | OK | OK | |
| CGHbase 1.5.0 | Sjoerd Vosse | OK | OK | |
| CGHcall 2.7.0 | Mark van de Wiel | OK | OK | |
| cghMCR 1.5.0 | J. Zhang | OK | OK | |
| CGHnormaliter 1.1.0 | Bart P.P. van Houte | OK | OK | |
| CGHregions 1.5.0 | Mark van de Wiel | OK | OK | |
| ChemmineR 1.7.1 | Y. Eddie Cao | OK | OK | |
| ChIPpeakAnno 1.3.1 | Lihua Julie Zhu | ERROR | skipped | |
| chipseq 0.3.1 | Biocore Team c/o BioC user list | OK | OK | |
| ChIPseqR 1.1.0 | Peter Humburg | OK | OK | |
| ChIPsim 1.1.1 | Peter Humburg | OK | OK | |
| ChromHeatMap 1.1.0 | Tim F. Rayner | OK | OK | |
| clippda 1.1.0 | Stephen Nyangoma | OK | OK | |
| clusterStab 1.19.0 | James W. MacDonald | OK | OK | |
| CMA 1.5.0 | Christoph Bernau | OK | OK | |
| CNTools 1.3.0 | J. Zhang | OK | OK | |
| CNVtools 1.41.3 | Chris Barnes | OK | OK | |
| CoCiteStats 1.19.0 | R. Gentleman | OK | OK | |
| codelink 1.15.1 | Diego Diez | OK | OK | |
| convert 1.23.0 | Yee Hwa (Jean) Yang | OK | OK | |
| copa 1.15.0 | James W. MacDonald | OK | OK | |
| CORREP 1.13.0 | Dongxiao Zhu | OK | OK | |
| cosmo 1.13.0 | Oliver Bembom | OK | WARNINGS | |
| cosmoGUI 1.13.0 | Oliver Bembom | OK | OK | |
| crlmm 1.5.11 | Benilton S Carvalho , Robert Scharpf , Matt Ritchie | OK | WARNINGS | |
| ctc 1.21.0 | Antoine Lucas | OK | OK | |
| cycle 1.1.0 | Matthias Futschik | OK | OK | |
|
| D A B C [D] E F G H I J K L M N O P Q R S T U V W X Y Z |
| daMA 1.19.0 | Jobst Landgrebe | OK | OK | |
| DAVIDQuery 1.5.0 | Roger Day | OK | OK | |
| ddCt 1.1.0 | Jitao David Zhang | OK | OK | |
| DEDS 1.21.0 | Yuanyuan Xiao | OK | OK | |
| DEGseq 1.1.2 | Likun Wang | OK | OK | |
| DFP 1.5.0 | Rodrigo Alvarez-Glez | OK | OK | |
| diffGeneAnalysis 1.29.0 | Choudary Jagarlamudi | OK | OK | |
| DNAcopy 1.21.0 | Venkatraman E. Seshan | OK | OK | |
| domainsignatures 1.7.0 | Florian Hahne | OK | OK | |
| dualKS 1.7.0 | Eric J. Kort | OK | OK | |
| dyebias 1.5.7 | Philip Lijnzaad | OK | OK | |
| DynDoc 1.25.0 | Biocore Team c/o BioC user list | OK | OK | |
|
| E A B C D [E] F G H I J K L M N O P Q R S T U V W X Y Z |
| EBarrays 2.11.0 | Ming Yuan | OK | OK | |
| EBImage 3.3.1 | Gregoire Pau | OK | OK | |
| ecolitk 1.19.0 | Laurent | OK | OK | |
| edd 1.25.0 | Vince Carey | OK | OK | |
| edgeR 1.5.3 | Mark Robinson , Davis McCarthy , Gordon Smyth | OK | OK | |
| exonmap 2.5.0 | Crispin Miller | OK | OK | |
| explorase 1.11.0 | Michael Lawrence | OK | OK | |
| externalVector 1.13.0 | Biocore Team c/o BioC user list | OK | WARNINGS | |
|
| F A B C D E [F] G H I J K L M N O P Q R S T U V W X Y Z |
| factDesign 1.23.0 | Denise Scholtens | OK | OK | |
| fbat 1.11.0 | The R Genetics Project | OK | OK | |
| fdrame 1.19.0 | Effi Kenigsberg | OK | OK | |
| flagme 1.3.0 | Mark Robinson | OK | OK | |
| flowClust 2.5.0 | Raphael Gottardo | OK | OK | |
| flowCore 1.13.1 | F. Hahne | OK | OK | |
| flowFlowJo 1.5.0 | John J. Gosink | OK | OK | |
| flowFP 1.3.0 | Herb Holyst | OK | OK | |
| flowMerge 1.1.2 | Greg Finak | OK | OK | |
| flowQ 1.7.0 | F. Hahne | OK | OK | |
| flowStats 1.5.4 | Florian Hahne and Chao-Jen Wong | OK | WARNINGS | |
| flowUtils 1.7.0 | Nishant Gopalakrishnan | OK | OK | |
| flowViz 1.11.0 | Florian Hahne | OK | OK | |
|
| G A B C D E F [G] H I J K L M N O P Q R S T U V W X Y Z |
| gaga 1.7.0 | David Rossell | OK | OK | |
| gaggle 1.15.0 | Dan Tenenbaum | OK | OK | |
| gcrma 2.19.0 | Z. Wu | OK | OK | |
| genArise 1.23.0 | IFC Development Team | OK | OK | |
| gene2pathway 1.5.0 | Holger Froehlich | OK | OK | |
| GeneAnswers 1.3.1 | Gang Feng and Pan Du | OK | OK | |
| genefilter 1.29.5 | Biocore Team c/o BioC user list | OK | OK | |
| GeneMeta 1.19.0 | Biocore Team c/o BioC user list | OK | OK | |
| geneplotter 1.25.0 | Biocore Team c/o BioC user list | OK | OK | |
| GeneR 2.17.0 | Y. d'Aubenton-Carafa | OK | OK | |
| geneRecommender 1.19.0 | Greg Hather | OK | OK | |
| GeneRegionScan 1.3.2 | Lasse Folkersen | ERROR | skipped | |
| GeneRfold 1.5.0 | Antoine Lucas | OK | OK | |
| GeneSelectMMD 1.3.0 | Weiliang Qiu | OK | OK | |
| GeneSelector 2.3.0 | Martin Slawski | OK | OK | |
| GeneSpring 2.21.0 | Thon de Boer | OK | OK | |
| GeneticsBase 1.13.0 | The R Genetics Project | OK | WARNINGS | |
| GeneticsDesign 1.15.0 | The R Genetics Project | OK | OK | |
| GeneticsPed 1.9.0 | The R Genetics Project | OK | OK | |
| GeneTraffic 1.19.0 | Daniel Iordan | OK | OK | |
| GenomeGraphs 1.7.0 | Steffen Durinck | TIMEOUT | skipped | |
| genomeIntervals 1.3.0 | Julien Gagneur | OK | OK | |
| GenomicFeatures 0.3.1 | Biocore Team c/o BioC user list | OK | OK | |
| Genominator 1.1.1 | James Bullard | ERROR | skipped | |
| GEOmetadb 1.7.0 | Jack Zhu | OK | OK | |
| GEOquery 2.11.1 | Sean Davis | OK | OK | |
| GGBase 3.7.5 | Vince Carey | OK | OK | |
| GGtools 3.5.19 | Vince Carey | OK | ERROR | |
| GLAD 2.8.0 | Philippe Hupe | OK | OK | |
| GlobalAncova 3.13.0 | R. Meister | OK | OK | |
| globaltest 5.1.2 | Jelle Goeman | OK | OK | |
| goProfiles 1.9.0 | Alex Sanchez | OK | OK | |
| GOSemSim 1.5.0 | Guangchuang Yu | OK | OK | |
| GOstats 2.13.0 | Robert Gentleman | OK | OK | |
| goTools 1.21.0 | Agnes Paquet | OK | OK | |
| gpls 1.19.0 | Biocore Team c/o BioC user list | OK | OK | |
| graph 1.25.3 | Seth Falcon | OK | OK | |
| GraphAlignment 1.9.0 | Joern P. Meier | OK | OK | |
| GraphAT 1.19.0 | Thomas LaFramboise | OK | OK | |
| GSEABase 1.9.0 | Biocore Team c/o BioC user list | OK | OK | |
| GSEAlm 1.7.1 | Assaf Oron | ERROR | skipped | |
|
| H A B C D E F G [H] I J K L M N O P Q R S T U V W X Y Z |
| Harshlight 1.17.0 | Maurizio Pellegrino | OK | OK | |
| Heatplus 1.17.0 | Alexander Ploner | OK | OK | |
| HELP 1.5.0 | Reid F. Thompson | OK | OK | |
| HEM 1.19.0 | HyungJun Cho | OK | OK | |
| hexbin 1.21.0 | Nicholas Lewin-Koh | OK | OK | |
| HilbertVis 1.5.0 | Simon Anders | OK | OK | |
| HilbertVisGUI 1.5.0 | Simon Anders | OK | OK | |
| hopach 2.7.0 | Katherine S. Pollard | OK | OK | |
| HTqPCR 1.1.0 | Heidi Dvinge , Paul Bertone | OK | OK | |
| hypergraph 1.19.0 | Robert Gentleman | OK | OK | |
|
| I A B C D E F G H [I] J K L M N O P Q R S T U V W X Y Z |
| Icens 1.19.0 | Biocore Team c/o BioC user list | OK | OK | |
| idiogram 1.23.0 | Karl J. Dykema | OK | OK | |
| impute 1.21.0 | Balasubramanian Narasimhan | OK | OK | |
| IRanges 1.5.16 | Biocore Team c/o BioC user list | OK | WARNINGS | |
| ITALICS 2.7.0 | Guillem Rigaill | OK | OK | |
| iterativeBMA 1.5.0 | Ka Yee Yeung | OK | OK | |
| iterativeBMAsurv 1.5.0 | Ka Yee Yeung | OK | OK | |
|
| K A B C D E F G H I J [K] L M N O P Q R S T U V W X Y Z |
| KCsmart 2.5.1 | Jorma de Ronde | OK | OK | |
| KEGGgraph 1.3.1 | Jitao David Zhang | OK | OK | |
| keggorth 1.9.0 | VJ Carey | OK | OK | |
| KEGGSOAP 1.21.0 | Robert Gentleman | OK | OK | |
|
| L A B C D E F G H I J K [L] M N O P Q R S T U V W X Y Z |
| lapmix 1.13.0 | Yann Ruffieux | OK | OK | |
| LBE 1.15.0 | Cyril Dalmasso | OK | OK | |
| limma 3.3.2 | Gordon Smyth | OK | OK | |
| limmaGUI 1.23.0 | Keith Satterley | OK | OK | |
| LiquidAssociation 1.1.0 | Yen-Yi Ho | OK | OK | |
| LMGene 1.17.0 | John Tillinghast | OK | OK | |
| logicFS 1.17.0 | Holger Schwender | OK | OK | |
| logitT 1.5.0 | Tobias Guennel | OK | OK | |
| LPE 1.21.0 | Nitin Jain | OK | OK | |
| LPEadj 1.7.0 | Carl Murie | OK | OK | |
| lumi 1.13.4 | Pan Du | OK | OK | |
|
| M A B C D E F G H I J K L [M] N O P Q R S T U V W X Y Z |
| maanova 1.17.0 | Keith Sheppard | OK | OK | |
| macat 1.21.0 | Joern Toedling | OK | OK | |
| maCorrPlot 1.17.0 | Alexander Ploner | OK | OK | |
| maDB 1.19.0 | Johannes Rainer | OK | OK | |
| made4 1.21.0 | Aedin Culhane | OK | OK | |
| maigesPack 1.11.0 | Gustavo H. Esteves | OK | OK | |
| makecdfenv 1.25.1 | James W. MacDonald | OK | OK | |
| makePlatformDesign 1.11.0 | Benilton Carvalho | OK | OK | |
| MANOR 1.19.0 | Pierre Neuvial | OK | OK | |
| MantelCorr 1.17.0 | Brian Steinmeyer | OK | OK | |
| marray 1.25.0 | Yee Hwa (Jean) Yang | OK | OK | |
| maSigPro 1.19.0 | Ana Conesa | OK | OK | |
| MassSpecWavelet 1.13.0 | Pan Du | OK | OK | |
| matchprobes 1.19.0 | Biocore Team c/o BioC user list | OK | OK | |
| mBPCR 1.1.0 | P.M.V. Rancoita | ERROR | skipped | |
| MCRestimate 2.3.0 | Marc Johannes | OK | OK | |
| mdqc 1.9.0 | Gabriela Cohen-Freue | OK | OK | |
| MeasurementError.cor 1.19.0 | Beiying Ding | OK | OK | |
| MEDME 1.7.0 | Mattia Pelizzola | OK | OK | |
| MergeMaid 2.19.0 | Xiaogang Zhong | OK | OK | |
| metaArray 1.23.0 | Hyungwon Choi | OK | OK | |
| metahdep 1.5.0 | John R. Stevens | OK | OK | |
| methylumi 1.1.0 | Sean Davis | OK | OK | |
| Mfuzz 2.5.0 | Matthias Futschik | OK | OK | |
| MiChip 1.1.0 | Jonathon Blake | OK | OK | |
| microRNA 1.5.1 | Chao-Jen Wong | OK | OK | |
| minet 2.2.1 | Patrick E. Meyer | OK | OK | |
| MiPP 1.19.0 | Sukwoo Kim | OK | OK | |
| miRNApath 1.7.0 | James M. Ward | OK | OK | |
| MLInterfaces 1.27.0 | V. Carey | OK | ERROR | |
| multiscan 1.7.0 | Mizanur Khondoker | OK | OK | |
| multtest 2.3.0 | Katherine S. Pollard | OK | OK | |
| MVCClass 1.21.0 | Elizabeth Whalen | OK | OK | |
|
| N A B C D E F G H I J K L M [N] O P Q R S T U V W X Y Z |
| nem 2.11.0 | Christian Bender | OK | OK | |
| nnNorm 2.11.0 | Adi Laurentiu Tarca | OK | OK | |
| nudge 1.13.0 | N. Dean | OK | OK | |
|
| O A B C D E F G H I J K L M N [O] P Q R S T U V W X Y Z |
| occugene 1.7.0 | Oliver Will | OK | OK | |
| OCplus 1.21.0 | Alexander Ploner | OK | OK | |
| oligo 1.11.9 | Benilton Carvalho | OK | WARNINGS | |
| oligoClasses 1.9.14 | Benilton Carvalho | OK | WARNINGS | |
| OLIN 1.25.0 | Matthias Futschik | OK | OK | |
| OLINgui 1.21.0 | Matthias Futschik | OK | OK | |
| oneChannelGUI 1.13.0 | Raffaele A Calogero | OK | OK | |
| ontoTools 1.25.0 | Vince Carey | ERROR | skipped | |
| OrderedList 1.19.0 | Claudio Lottaz | OK | OK | |
| OutlierD 1.11.0 | Sukwoo Kim | OK | OK | |
|
| P A B C D E F G H I J K L M N O [P] Q R S T U V W X Y Z |
| pamr 1.45.0 | Rob Tibshirani | OK | OK | |
| PAnnBuilder 1.9.0 | Li Hong | OK | OK | |
| panp 1.17.0 | Peter Warren | OK | OK | |
| parody 1.5.0 | VJ Carey | OK | OK | |
| pathRender 1.15.0 | Li Long | OK | OK | |
| pcaMethods 1.25.1 | Wolfram Stacklies | OK | OK | |
| pcot2 1.15.0 | Sarah Song | OK | OK | |
| PCpheno 1.9.0 | Nolwenn Le Meur | OK | OK | |
| pdInfoBuilder 1.11.2 | Benilton Carvalho | OK | OK | |
| pdmclass 1.19.0 | James W. MacDonald | OK | OK | |
| PGSEA 1.15.0 | Karl Dykema | ERROR | skipped | |
| pgUtils 1.19.0 | Johannes Rainer | OK | OK | |
| pickgene 1.19.0 | Brian S. Yandell | OK | OK | |
| pkgDepTools 1.13.0 | Seth Falcon | OK | OK | |
| plateCore 1.5.0 | Errol Strain | OK | OK | |
| plgem 1.19.2 | Norman Pavelka | OK | OK | |
| plier 1.17.0 | Crispin Miller | OK | OK | |
| PLPE 1.7.0 | Soo-heang Eo | OK | OK | |
| plw 1.7.0 | Magnus Astrand | OK | OK | |
| ppiStats 1.13.0 | Tony Chiang | OK | OK | |
| prada 1.23.0 | Florian Hahne | OK | OK | |
| preprocessCore 1.9.0 | Benjamin Milo Bolstad | OK | OK | |
| PROcess 1.23.0 | Xiaochun Li | OK | OK | |
| puma 1.99.0 | Richard Pearson , Li Zhang | OK | WARNINGS | |
|
| Q A B C D E F G H I J K L M N O P [Q] R S T U V W X Y Z |
| qpcrNorm 1.5.1 | Jessica Mar | OK | OK | |
| qpgraph 1.3.4 | Robert Castelo | OK | OK | |
| quantsmooth 1.13.0 | Jan Oosting | OK | OK | |
| qvalue 1.21.0 | John D. Storey | OK | OK | |
|
| R A B C D E F G H I J K L M N O P Q [R] S T U V W X Y Z |
| rama 1.21.0 | Raphael Gottardo | OK | OK | |
| RankProd 2.19.0 | Fangxin Hong | OK | OK | |
| RbcBook1 1.15.0 | Vince Carey | OK | OK | |
| RBGL 1.23.0 | Li Long | OK | OK | |
| RBioinf 1.7.0 | Robert Gentleman | OK | OK | |
| rbsurv 2.5.0 | Soo-heang Eo | OK | OK | |
| Rdbi 1.21.0 | Jianhua Zhang | OK | OK | |
| RdbiPgSQL 1.21.0 | Jianhua Zhang | OK | OK | |
| Rdisop 1.7.0 | Steffen Neumann | OK | OK | |
| reb 1.21.0 | Karl J. Dykema | OK | OK | |
| RefPlus 1.17.0 | Kai-Ming Chang | OK | OK | |
| Resourcerer 1.21.0 | Jianhua Zhang | OK | OK | |
| rflowcyt 1.19.0 | N. LeMeur | OK | OK | |
| Rgraphviz 1.25.0 | Kasper Hansen | OK | OK | |
| rHVDM 1.13.0 | Martino Barenco | OK | OK | |
| Ringo 1.11.2 | J. Toedling | OK | OK | |
| RLMM 1.9.0 | Nusrat Rabbee | OK | OK | |
| RMAGEML 2.21.0 | Steffen Durinck | OK | OK | |
| Rmagpie 1.3.0 | Camille Maumet | OK | OK | |
| rMAT 2.3.3 | Arnaud Droit and Raphael Gottardo | OK | OK | |
| RmiR 1.3.0 | Francesco Favero | OK | OK | |
| RNAither 1.7.1 | Nora Rieber | OK | OK | |
| ROC 1.23.1 | Vince Carey | OK | OK | |
| Rolexa 1.3.0 | Jacques Rougemont | OK | OK | |
| RPA 1.3.0 | Leo Lahti | OK | OK | |
| RpsiXML 1.7.1 | Jitao David Zhang | OK | OK | |
| Rredland 1.13.0 | VJ Carey | OK | OK | |
| rsbml 2.5.0 | Michael Lawrence | OK | OK | |
| RTCA 1.1.0 | Jitao David Zhang | ERROR | skipped | |
| RTools4TB 1.3.0 | Aurelie Bergon | OK | OK | |
| rtracklayer 1.7.2 | Michael Lawrence | OK | WARNINGS | |
| Rtreemix 1.9.0 | Jasmina Bogojeska | OK | OK | |
| Ruuid 1.25.0 | Biocore Team c/o BioC user list | OK | OK | |
| RWebServices 1.11.0 | Martin Morgan | OK | OK | |
|
| S A B C D E F G H I J K L M N O P Q R [S] T U V W X Y Z |
| safe 2.7.0 | William T. Barry | OK | OK | |
| sagenhaft 1.17.0 | Tim Beissbarth | OK | OK | |
| SAGx 1.21.0 | Per Broberg, | OK | OK | |
| SBMLR 1.41.0 | Tomas Radivoyevitch | OK | OK | |
| ScISI 1.19.0 | Tony Chiang | OK | OK | |
| seqLogo 1.13.0 | Oliver Bembom | OK | OK | |
| ShortRead 1.5.8 | Biocore Team c/o BioC user list | OK | OK | |
| siggenes 1.21.0 | Holger Schwender | OK | OK | |
| sigPathway 1.15.0 | Weil Lai | OK | OK | |
| SIM 1.15.0 | Maarten van Iterson | OK | OK | |
| simpleaffy 2.23.0 | Crispin Miller | OK | OK | |
| simulatorAPMS 1.19.0 | Tony Chiang | OK | OK | |
| sizepower 1.17.0 | Weiliang Qiu | OK | OK | |
| SJava 0.73.0 | Martin Morgan | OK | WARNINGS | |
| SLGI 1.7.0 | Nolwenn Le Meur | OK | OK | |
| SLqPCR 1.13.0 | Matthias Kohl | OK | OK | |
| SMAP 1.11.1 | Robin Andersson | OK | OK | |
| snapCGH 1.17.0 | John Marioni | OK | OK | |
| SNPchip 1.11.1 | Robert Scharpf | ERROR | skipped | |
| snpMatrix 1.11.3 | David Clayton | OK | OK | |
| SpeCond 1.1.3 | Florence Cavalli | OK | OK | |
| SPIA 1.5.0 | Adi Laurentiu Tarca | OK | OK | |
| spikeLI 2.7.0 | Enrico Carlon | OK | OK | |
| spkTools 1.3.0 | Matthew N McCall | OK | OK | |
| splicegear 1.19.0 | Laurent Gautier | OK | OK | |
| splots 1.13.0 | Oleg Sklyar | OK | OK | |
| spotSegmentation 1.21.0 | Chris Fraley | OK | OK | |
| sscore 1.19.0 | Richard Kennedy | OK | OK | |
| ssize 1.21.0 | Gregory R. Warnes | OK | OK | |
| SSPA 1.3.0 | Maarten van Iterson | OK | OK | |
| stam 1.13.1 | Claudio Lottaz | ERROR | skipped | |
| Starr 1.3.0 | Benedikt Zacher | OK | OK | |
| stepNorm 1.19.0 | Yuanyuan Xiao | OK | OK | |
|
| T A B C D E F G H I J K L M N O P Q R S [T] U V W X Y Z |
| TargetSearch 1.3.0 | Alvaro Cuadros-Inostroza | OK | OK | |
| tilingArray 1.25.0 | Zhenyu Xu | OK | OK | |
| timecourse 1.19.0 | Yu Chuan Tai | OK | OK | |
| tkWidgets 1.25.0 | J. Zhang | OK | OK | |
| topGO 1.15.0 | Adrian Alexa | OK | OK | |
| tspair 1.5.0 | Jeffrey T. Leek | OK | OK | |
| twilight 1.23.0 | Stefanie Scheid | OK | OK | |
| TypeInfo 1.13.0 | Duncan Temple Lang | OK | OK | |
|
| V A B C D E F G H I J K L M N O P Q R S T U [V] W X Y Z |
| VanillaICE 1.9.1 | Robert Scharpf | ERROR | skipped | |
| vbmp 1.15.0 | Nicola Lama | OK | OK | |
| vsn 3.15.1 | Wolfgang Huber | OK | WARNINGS | |
|
| W A B C D E F G H I J K L M N O P Q R S T U V [W] X Y Z |
| weaver 1.13.0 | Seth Falcon | OK | OK | |
| webbioc 1.19.0 | Colin A. Smith | OK | OK | |
| widgetTools 1.25.0 | Jianhua Zhang | OK | OK | |
|
| X A B C D E F G H I J K L M N O P Q R S T U V W [X] Y Z |
| xcms 1.21.6 | Colin A. Smith | OK | OK | |
| XDE 1.7.1 | Robert Scharpf | OK | OK | |
| xmapbridge 1.5.0 | Tim Yates | OK | OK | |
| xps 1.7.1 | Christian Stratowa | OK | OK | |
|
| Y A B C D E F G H I J K L M N O P Q R S T U V W X [Y] Z |
| yaqcaffy 1.7.0 | Laurent Gatto | OK | OK | |