BufferedMatrixMethods 1.11.1 B. M. Bolstad
| Bioconductor Changelog | | Snapshot Date: 2009-12-07 11:32:00 -0800 (Mon, 07 Dec 2009) | | URL: https://hedgehog.fhcrc.org/bioconductor/trunk/madman/Rpacks/BufferedMatrixMethods | | Last Changed Rev: 43137 / Revision: 43434 | | Last Changed Date: 2009-11-18 18:29:35 -0800 (Wed, 18 Nov 2009) |
| wilson1 | Linux (openSUSE 11.1) / x86_64 | OK | OK | |
| liverpool | Windows Server 2003 R2 (32-bit) / x64 | OK | OK | OK |
| pitt | Mac OS X Tiger (10.4.11) / i386 | OK | OK | OK |
| pelham | Mac OS X Leopard (10.5.8) / i386 | [ OK ] | OK | OK |
* checking for file 'BufferedMatrixMethods/DESCRIPTION' ... OK
* preparing 'BufferedMatrixMethods':
* checking DESCRIPTION meta-information ... OK
* cleaning src
* removing junk files
* checking for LF line-endings in source and make files
* checking for empty or unneeded directories
* building 'BufferedMatrixMethods_1.11.1.tar.gz'