KCsmart 2.5.1 Jorma de Ronde
 | Bioconductor Changelog |  | Snapshot Date: 2009-12-07 11:32:00 -0800 (Mon, 07 Dec 2009) |  | URL: https://hedgehog.fhcrc.org/bioconductor/trunk/madman/Rpacks/KCsmart |  | Last Changed Rev: 43274 / Revision: 43434 |  | Last Changed Date: 2009-11-26 08:01:16 -0800 (Thu, 26 Nov 2009) |  
  | wilson1  | Linux (openSUSE 11.1) / x86_64  |  OK  |  OK  |  | 
| liverpool  | Windows Server 2003 R2 (32-bit) / x64  |  OK  |  OK  |  OK  | 
| pitt  | Mac OS X Tiger (10.4.11) / i386  |  OK  |  OK  |  OK  | 
| pelham  | Mac OS X Leopard (10.5.8) / i386  | [ OK ] |  OK  |  OK  | 
* checking for file 'KCsmart/DESCRIPTION' ... OK
* preparing 'KCsmart':
* checking DESCRIPTION meta-information ... OK
* installing the package to re-build vignettes
* installing *source* package ‘KCsmart’ ...
** R
** data
** inst
** preparing package for lazy loading
Loading required package: multtest
Loading required package: Biobase
Welcome to Bioconductor
  Vignettes contain introductory material. To view, type
  'openVignette()'. To cite Bioconductor, see
  'citation("Biobase")' and for packages 'citation(pkgname)'.
Loading required package: splines
Creating a new generic function for "sort" in "KCsmart"
Creating a new generic function for "unlist" in "KCsmart"
Creating a new generic function for "write.table" in "KCsmart"
** help
*** installing help indices
** building package indices ...
* DONE (KCsmart)
* creating vignettes ... OK
* removing junk files
* checking for LF line-endings in source and make files
* checking for empty or unneeded directories
* building 'KCsmart_2.5.1.tar.gz'