| Back to the "Multiple platform build/check report" | A B [C] D E F G H I J K L M N O P Q R S T U V W X Y Z |
| Package 79/354 | Hostname | OS / Arch | BUILD | CHECK | BUILD BIN | |||||
| CoCiteStats 1.19.0 R. Gentleman
| wilson1 | Linux (openSUSE 11.1) / x86_64 | OK | OK | ||||||
| liverpool | Windows Server 2003 R2 (32-bit) / x64 | OK | OK | OK | ||||||
| pitt | Mac OS X Tiger (10.4.11) / i386 | OK | OK | OK | ||||||
| pelham | Mac OS X Leopard (10.5.8) / i386 | [ OK ] | OK | OK |
| Package: CoCiteStats |
| Version: 1.19.0 |
| Command: /Library/Frameworks/R.framework/Versions/2.11/Resources/bin/R CMD build CoCiteStats |
| StartedAt: 2009-12-07 13:41:44 -0800 (Mon, 07 Dec 2009) |
| EndedAt: 2009-12-07 13:41:46 -0800 (Mon, 07 Dec 2009) |
| EllapsedTime: 1.8 seconds |
| RetCode: 0 |
| Status: OK |
| PackageFile: CoCiteStats_1.19.0.tar.gz |
| PackageFileSize: 5.244 KiB |
* checking for file 'CoCiteStats/DESCRIPTION' ... OK * preparing 'CoCiteStats': * checking DESCRIPTION meta-information ... OK * removing junk files * checking for LF line-endings in source and make files * checking for empty or unneeded directories * building 'CoCiteStats_1.19.0.tar.gz'