| lamb2 | 
Linux (openSUSE 11.4) / x86_64  |  |  |  | 
| moscato2 | 
Windows Server 2008 R2 Enterprise SP1 (64-bit) / x64  |  |  |  | 
| petty | 
Mac OS X Leopard (10.5.8) / i386  |  |  |  | 
affycompData 1.1.3 Harris Jaffee
 | Last Changed Rev: 2037 / Revision: 2159 |  | Last Changed Date: 2012-03-30 15:20:09 -0700 |  
  | lamb2  | Linux (openSUSE 11.4) / x86_64  |  OK  |  OK  |  | 
| moscato2  | Windows Server 2008 R2 Enterprise SP1 (64-bit) / x64  |  OK  |  OK  |  OK  | 
| petty  | Mac OS X Leopard (10.5.8) / i386  |  OK  |  OK  |  OK  | 
affydata 1.11.16 Harris Jaffee
 | Last Changed Rev: 2037 / Revision: 2159 |  | Last Changed Date: 2012-03-30 15:20:09 -0700 |  
  | lamb2  | Linux (openSUSE 11.4) / x86_64  |  OK  |  WARNINGS  |  | 
| moscato2  | Windows Server 2008 R2 Enterprise SP1 (64-bit) / x64  |  OK  |  WARNINGS  |  OK  | 
| petty  | Mac OS X Leopard (10.5.8) / i386  |  OK  |  WARNINGS  |  OK  | 
AffymetrixDataTestFiles 0.1.4 Henrik Bengtsson
 | Last Changed Rev: 2037 / Revision: 2159 |  | Last Changed Date: 2012-03-30 15:20:09 -0700 |  
  | lamb2  | Linux (openSUSE 11.4) / x86_64  |  OK  |  OK  |  | 
| moscato2  | Windows Server 2008 R2 Enterprise SP1 (64-bit) / x64  |  OK  |  OK  |  OK  | 
| petty  | Mac OS X Leopard (10.5.8) / i386  |  OK  |  OK  |  OK  | 
ALL 1.4.12 Robert Gentleman
 | Last Changed Rev: 2037 / Revision: 2159 |  | Last Changed Date: 2012-03-30 15:20:09 -0700 |  
  | lamb2  | Linux (openSUSE 11.4) / x86_64  |  OK  |  OK  |  | 
| moscato2  | Windows Server 2008 R2 Enterprise SP1 (64-bit) / x64  |  OK  |  OK  |  OK  | 
| petty  | Mac OS X Leopard (10.5.8) / i386  |  OK  |  OK  |  OK  | 
ALLMLL 1.2.12 B. M. Bolstad
 | Last Changed Rev: 2037 / Revision: 2159 |  | Last Changed Date: 2012-03-30 15:20:09 -0700 |  
  | lamb2  | Linux (openSUSE 11.4) / x86_64  |  OK  |  OK  |  | 
| moscato2  | Windows Server 2008 R2 Enterprise SP1 (64-bit) / x64  |  OK  |  OK  |  OK  | 
| petty  | Mac OS X Leopard (10.5.8) / i386  |  OK  |  OK  |  OK  | 
AmpAffyExample 1.2.10 Rafael A. Irizarry
 | Last Changed Rev: 2037 / Revision: 2159 |  | Last Changed Date: 2012-03-30 15:20:09 -0700 |  
  | lamb2  | Linux (openSUSE 11.4) / x86_64  |  OK  |  WARNINGS  |  | 
| moscato2  | Windows Server 2008 R2 Enterprise SP1 (64-bit) / x64  |  OK  |  WARNINGS  |  OK  | 
| petty  | Mac OS X Leopard (10.5.8) / i386  |  OK  |  WARNINGS  |  OK  | 
beadarrayExampleData 1.0.4 Mark Dunning
 | Last Changed Rev: 2037 / Revision: 2159 |  | Last Changed Date: 2012-03-30 15:20:09 -0700 |  
  | lamb2  | Linux (openSUSE 11.4) / x86_64  |  OK  |  OK  |  | 
| moscato2  | Windows Server 2008 R2 Enterprise SP1 (64-bit) / x64  |  OK  |  OK  |  OK  | 
| petty  | Mac OS X Leopard (10.5.8) / i386  |  OK  |  OK  |  OK  | 
BeadArrayUseCases 1.0.8 Mike Smith
 | Last Changed Rev: 2037 / Revision: 2159 |  | Last Changed Date: 2012-03-30 15:20:09 -0700 |  
  | lamb2  | Linux (openSUSE 11.4) / x86_64  |  OK  |  OK  |  | 
| moscato2  | Windows Server 2008 R2 Enterprise SP1 (64-bit) / x64  |  OK  |  OK  |  OK  | 
| petty  | Mac OS X Leopard (10.5.8) / i386  |  OK  |  OK  |  OK  | 
beta7 1.0.3 Jean Yang
 | Last Changed Rev: 2037 / Revision: 2159 |  | Last Changed Date: 2012-03-30 15:20:09 -0700 |  
  | lamb2  | Linux (openSUSE 11.4) / x86_64  |  OK  |  WARNINGS  |  | 
| moscato2  | Windows Server 2008 R2 Enterprise SP1 (64-bit) / x64  |  OK  |  WARNINGS  |  OK  | 
| petty  | Mac OS X Leopard (10.5.8) / i386  |  OK  |  WARNINGS  |  OK  | 
bladderbatch 1.0.3 Jeffrey T. Leek
 | Last Changed Rev: 2037 / Revision: 2159 |  | Last Changed Date: 2012-03-30 15:20:09 -0700 |  
  | lamb2  | Linux (openSUSE 11.4) / x86_64  |  OK  |  WARNINGS  |  | 
| moscato2  | Windows Server 2008 R2 Enterprise SP1 (64-bit) / x64  |  OK  |  WARNINGS  |  OK  | 
| petty  | Mac OS X Leopard (10.5.8) / i386  |  OK  |  WARNINGS  |  OK  | 
breastCancerMAINZ 1.0.3 Markus Schroeder , Benjamin Haibe-Kains
 | Last Changed Rev: 2037 / Revision: 2159 |  | Last Changed Date: 2012-03-30 15:20:09 -0700 |  
  | lamb2  | Linux (openSUSE 11.4) / x86_64  |  OK  |  WARNINGS  |  | 
| moscato2  | Windows Server 2008 R2 Enterprise SP1 (64-bit) / x64  |  OK  |  WARNINGS  |  OK  | 
| petty  | Mac OS X Leopard (10.5.8) / i386  |  OK  |  WARNINGS  |  OK  | 
breastCancerNKI 1.0.3 Markus Schroeder , Benjamin Haibe-Kains
 | Last Changed Rev: 2037 / Revision: 2159 |  | Last Changed Date: 2012-03-30 15:20:09 -0700 |  
  | lamb2  | Linux (openSUSE 11.4) / x86_64  |  OK  |  WARNINGS  |  | 
| moscato2  | Windows Server 2008 R2 Enterprise SP1 (64-bit) / x64  |  OK  |  WARNINGS  |  OK  | 
| petty  | Mac OS X Leopard (10.5.8) / i386  |  OK  |  WARNINGS  |  OK  | 
breastCancerTRANSBIG 1.0.3 Markus Schroeder , Benjamin Haibe-Kains
 | Last Changed Rev: 2037 / Revision: 2159 |  | Last Changed Date: 2012-03-30 15:20:09 -0700 |  
  | lamb2  | Linux (openSUSE 11.4) / x86_64  |  OK  |  WARNINGS  |  | 
| moscato2  | Windows Server 2008 R2 Enterprise SP1 (64-bit) / x64  |  OK  |  WARNINGS  |  OK  | 
| petty  | Mac OS X Leopard (10.5.8) / i386  |  OK  |  WARNINGS  |  OK  | 
breastCancerUNT 1.0.3 Markus Schroeder , Benjamin Haibe-Kains
 | Last Changed Rev: 2037 / Revision: 2159 |  | Last Changed Date: 2012-03-30 15:20:09 -0700 |  
  | lamb2  | Linux (openSUSE 11.4) / x86_64  |  OK  |  WARNINGS  |  | 
| moscato2  | Windows Server 2008 R2 Enterprise SP1 (64-bit) / x64  |  OK  |  WARNINGS  |  OK  | 
| petty  | Mac OS X Leopard (10.5.8) / i386  |  OK  |  WARNINGS  |  OK  | 
breastCancerUPP 1.0.3 Markus Schroeder , Benjamin Haibe-Kains
 | Last Changed Rev: 2037 / Revision: 2159 |  | Last Changed Date: 2012-03-30 15:20:09 -0700 |  
  | lamb2  | Linux (openSUSE 11.4) / x86_64  |  OK  |  WARNINGS  |  | 
| moscato2  | Windows Server 2008 R2 Enterprise SP1 (64-bit) / x64  |  OK  |  WARNINGS  |  OK  | 
| petty  | Mac OS X Leopard (10.5.8) / i386  |  OK  |  WARNINGS  |  OK  | 
breastCancerVDX 1.0.3 Markus Schroeder , Benjamin Haibe-Kains
 | Last Changed Rev: 2037 / Revision: 2159 |  | Last Changed Date: 2012-03-30 15:20:09 -0700 |  
  | lamb2  | Linux (openSUSE 11.4) / x86_64  |  OK  |  WARNINGS  |  | 
| moscato2  | Windows Server 2008 R2 Enterprise SP1 (64-bit) / x64  |  OK  |  WARNINGS  |  OK  | 
| petty  | Mac OS X Leopard (10.5.8) / i386  |  OK  |  WARNINGS  |  OK  | 
bronchialIL13 1.0.9 Vince Carey
 | Last Changed Rev: 2037 / Revision: 2159 |  | Last Changed Date: 2012-03-30 15:20:09 -0700 |  
  | lamb2  | Linux (openSUSE 11.4) / x86_64  |  OK  |  OK  |  | 
| moscato2  | Windows Server 2008 R2 Enterprise SP1 (64-bit) / x64  |  OK  |  OK  |  OK  | 
| petty  | Mac OS X Leopard (10.5.8) / i386  |  OK  |  OK  |  OK  | 
cancerdata 1.1.0 Daniel Kosztyla
 | Last Changed Rev: 2059 / Revision: 2159 |  | Last Changed Date: 2012-04-30 14:43:03 -0700 |  
  | lamb2  | Linux (openSUSE 11.4) / x86_64  |  OK  |  OK  |  | 
| moscato2  | Windows Server 2008 R2 Enterprise SP1 (64-bit) / x64  |  OK  |  OK  |  OK  | 
| petty  | Mac OS X Leopard (10.5.8) / i386  |  OK  |  OK  |  OK  | 
CCl4 1.0.12 Audrey Kauffmann
 | Last Changed Rev: 2037 / Revision: 2159 |  | Last Changed Date: 2012-03-30 15:20:09 -0700 |  
  | lamb2  | Linux (openSUSE 11.4) / x86_64  |  OK  |  WARNINGS  |  | 
| moscato2  | Windows Server 2008 R2 Enterprise SP1 (64-bit) / x64  |  OK  |  WARNINGS  |  OK  | 
| petty  | Mac OS X Leopard (10.5.8) / i386  |  OK  |  WARNINGS  |  OK  | 
ccTutorial 1.0.21 Joern Toedling
 | Last Changed Rev: 2037 / Revision: 2159 |  | Last Changed Date: 2012-03-30 15:20:09 -0700 |  
  | lamb2  | Linux (openSUSE 11.4) / x86_64  |  OK  |  OK  |  | 
| moscato2  | Windows Server 2008 R2 Enterprise SP1 (64-bit) / x64  |  OK  |  OK  |  OK  | 
| petty  | Mac OS X Leopard (10.5.8) / i386  |  OK  |  OK  |  OK  | 
ceu1kg 0.0.30 VJ Carey
 | Last Changed Rev: 2037 / Revision: 2159 |  | Last Changed Date: 2012-03-30 15:20:09 -0700 |  
  | lamb2  | Linux (openSUSE 11.4) / x86_64  |  OK  |  OK  |  | 
| moscato2  | Windows Server 2008 R2 Enterprise SP1 (64-bit) / x64  |  OK  |  OK  |  OK  | 
| petty  | Mac OS X Leopard (10.5.8) / i386  |  OK  |  OK  |  OK  | 
ceuhm3 0.0.13 VJ Carey
 | Last Changed Rev: 2037 / Revision: 2159 |  | Last Changed Date: 2012-03-30 15:20:09 -0700 |  
  | lamb2  | Linux (openSUSE 11.4) / x86_64  |  OK  |  OK  |  | 
| moscato2  | Windows Server 2008 R2 Enterprise SP1 (64-bit) / x64  |  OK  |  OK  |  OK  | 
| petty  | Mac OS X Leopard (10.5.8) / i386  |  OK  |  OK  |  OK  | 
cgdv17 0.0.17 VJ Carey
 | Last Changed Rev: 2043 / Revision: 2159 |  | Last Changed Date: 2012-04-14 07:53:59 -0700 |  
  | lamb2  | Linux (openSUSE 11.4) / x86_64  |  OK  |  OK  |  | 
| moscato2  | Windows Server 2008 R2 Enterprise SP1 (64-bit) / x64  |  OK  |  OK  |  OK  | 
| petty  | Mac OS X Leopard (10.5.8) / i386  |  OK  |  OK  |  OK  | 
charmData 0.99.6 Martin Aryee
 | Last Changed Rev: 2037 / Revision: 2159 |  | Last Changed Date: 2012-03-30 15:20:09 -0700 |  
  | lamb2  | Linux (openSUSE 11.4) / x86_64  |  OK  |  WARNINGS  |  | 
| moscato2  | Windows Server 2008 R2 Enterprise SP1 (64-bit) / x64  |  OK  |  WARNINGS  |  OK  | 
| petty  | Mac OS X Leopard (10.5.8) / i386  |  OK  |  WARNINGS  |  OK  | 
cheung2010 0.0.25 Vince Carey
 | Last Changed Rev: 2079 / Revision: 2159 |  | Last Changed Date: 2012-06-03 09:31:17 -0700 |  
  | lamb2  | Linux (openSUSE 11.4) / x86_64  |  OK  |  OK  |  | 
| moscato2  | Windows Server 2008 R2 Enterprise SP1 (64-bit) / x64  |  OK  |  OK  |  OK  | 
| petty  | Mac OS X Leopard (10.5.8) / i386  |  OK  |  OK  |  OK  | 
CLL 1.2.12 Robert Gentleman
 | Last Changed Rev: 2037 / Revision: 2159 |  | Last Changed Date: 2012-03-30 15:20:09 -0700 |  
  | lamb2  | Linux (openSUSE 11.4) / x86_64  |  OK  |  OK  |  | 
| moscato2  | Windows Server 2008 R2 Enterprise SP1 (64-bit) / x64  |  OK  |  OK  |  OK  | 
| petty  | Mac OS X Leopard (10.5.8) / i386  |  OK  |  OK  |  OK  | 
cnvGSAdata 0.99.2 Robert Ziman
 | Last Changed Rev: 2037 / Revision: 2159 |  | Last Changed Date: 2012-03-30 15:20:09 -0700 |  
  | lamb2  | Linux (openSUSE 11.4) / x86_64  |  OK  |  OK  |  | 
| moscato2  | Windows Server 2008 R2 Enterprise SP1 (64-bit) / x64  |  OK  |  OK  |  OK  | 
| petty  | Mac OS X Leopard (10.5.8) / i386  |  OK  |  OK  |  OK  | 
colonCA 1.4.9 W Sylvia Merk
 | Last Changed Rev: 2037 / Revision: 2159 |  | Last Changed Date: 2012-03-30 15:20:09 -0700 |  
  | lamb2  | Linux (openSUSE 11.4) / x86_64  |  OK  |  WARNINGS  |  | 
| moscato2  | Windows Server 2008 R2 Enterprise SP1 (64-bit) / x64  |  OK  |  WARNINGS  |  OK  | 
| petty  | Mac OS X Leopard (10.5.8) / i386  |  OK  |  WARNINGS  |  OK  | 
davidTiling 1.2.15 Wolfgang Huber
 | Last Changed Rev: 2037 / Revision: 2159 |  | Last Changed Date: 2012-03-30 15:20:09 -0700 |  
  | lamb2  | Linux (openSUSE 11.4) / x86_64  |  OK  |  OK  |  | 
| moscato2  | Windows Server 2008 R2 Enterprise SP1 (64-bit) / x64  |  OK  |  OK  |  OK  | 
| petty  | Mac OS X Leopard (10.5.8) / i386  |  OK  |  OK  |  OK  | 
DLBCL 1.3.4 Marcus Dittrich
 | Last Changed Rev: 2037 / Revision: 2159 |  | Last Changed Date: 2012-03-30 15:20:09 -0700 |  
  | lamb2  | Linux (openSUSE 11.4) / x86_64  |  OK  |  WARNINGS  |  | 
| moscato2  | Windows Server 2008 R2 Enterprise SP1 (64-bit) / x64  |  OK  |  WARNINGS  |  OK  | 
| petty  | Mac OS X Leopard (10.5.8) / i386  |  OK  |  WARNINGS  |  OK  | 
dressCheck 0.1.5 Vincent Carey
 | Last Changed Rev: 2037 / Revision: 2159 |  | Last Changed Date: 2012-03-30 15:20:09 -0700 |  
  | lamb2  | Linux (openSUSE 11.4) / x86_64  |  OK  |  OK  |  | 
| moscato2  | Windows Server 2008 R2 Enterprise SP1 (64-bit) / x64  |  OK  |  OK  |  OK  | 
| petty  | Mac OS X Leopard (10.5.8) / i386  |  OK  |  OK  |  OK  | 
dsQTL 0.0.18 VJ Carey
 | Last Changed Rev: 2100 / Revision: 2159 |  | Last Changed Date: 2012-07-14 01:32:21 -0700 |  
  | lamb2  | Linux (openSUSE 11.4) / x86_64  |  OK  |  WARNINGS  |  | 
| moscato2  | Windows Server 2008 R2 Enterprise SP1 (64-bit) / x64  |  OK  |  WARNINGS  |  OK  | 
| petty  | Mac OS X Leopard (10.5.8) / i386  |  OK  |  WARNINGS  |  OK  | 
dyebiasexamples 1.0.8 Philip Lijnzaad
 | Last Changed Rev: 2037 / Revision: 2159 |  | Last Changed Date: 2012-03-30 15:20:09 -0700 |  
  | lamb2  | Linux (openSUSE 11.4) / x86_64  |  OK  |  WARNINGS  |  | 
| moscato2  | Windows Server 2008 R2 Enterprise SP1 (64-bit) / x64  |  OK  |  WARNINGS  |  OK  | 
| petty  | Mac OS X Leopard (10.5.8) / i386  |  OK  |  WARNINGS  |  OK  | 
EatonEtAlChIPseq 0.0.7 Patrick Aboyoun
 | Last Changed Rev: 2037 / Revision: 2159 |  | Last Changed Date: 2012-03-30 15:20:09 -0700 |  
  | lamb2  | Linux (openSUSE 11.4) / x86_64  |  OK  |  OK  |  | 
| moscato2  | Windows Server 2008 R2 Enterprise SP1 (64-bit) / x64  |  OK  |  OK  |  OK  | 
| petty  | Mac OS X Leopard (10.5.8) / i386  |  OK  |  OK  |  OK  | 
ecoliLeucine 1.2.8 Laurent Gautier
 | Last Changed Rev: 2037 / Revision: 2159 |  | Last Changed Date: 2012-03-30 15:20:09 -0700 |  
  | lamb2  | Linux (openSUSE 11.4) / x86_64  |  OK  |  WARNINGS  |  | 
| moscato2  | Windows Server 2008 R2 Enterprise SP1 (64-bit) / x64  |  OK  |  WARNINGS  |  OK  | 
| petty  | Mac OS X Leopard (10.5.8) / i386  |  OK  |  WARNINGS  |  OK  | 
encoDnaseI 0.1.14 VJ Carey
 | Last Changed Rev: 2037 / Revision: 2159 |  | Last Changed Date: 2012-03-30 15:20:09 -0700 |  
  | lamb2  | Linux (openSUSE 11.4) / x86_64  |  OK  |  OK  |  | 
| moscato2  | Windows Server 2008 R2 Enterprise SP1 (64-bit) / x64  |  OK  |  OK  |  OK  | 
| petty  | Mac OS X Leopard (10.5.8) / i386  |  OK  |  OK  |  OK  | 
estrogen 1.8.8 R. Gentleman
 | Last Changed Rev: 2037 / Revision: 2159 |  | Last Changed Date: 2012-03-30 15:20:09 -0700 |  
  | lamb2  | Linux (openSUSE 11.4) / x86_64  |  OK  |  OK  |  | 
| moscato2  | Windows Server 2008 R2 Enterprise SP1 (64-bit) / x64  |  OK  |  OK  |  OK  | 
| petty  | Mac OS X Leopard (10.5.8) / i386  |  OK  |  OK  |  OK  | 
faahKO 1.2.11 Colin A. Smith
 | Last Changed Rev: 2112 / Revision: 2159 |  | Last Changed Date: 2012-07-31 10:10:38 -0700 |  
  | lamb2  | Linux (openSUSE 11.4) / x86_64  |  OK  |  WARNINGS  |  | 
| moscato2  | Windows Server 2008 R2 Enterprise SP1 (64-bit) / x64  |  OK  |  WARNINGS  |  OK  | 
| petty  | Mac OS X Leopard (10.5.8) / i386  |  OK  |  WARNINGS  |  OK  | 
facsDorit 1.4.5 Florian Hahne
 | Last Changed Rev: 2037 / Revision: 2159 |  | Last Changed Date: 2012-03-30 15:20:09 -0700 |  
  | lamb2  | Linux (openSUSE 11.4) / x86_64  |  OK  |  OK  |  | 
| moscato2  | Windows Server 2008 R2 Enterprise SP1 (64-bit) / x64  |  OK  |  OK  |  OK  | 
| petty  | Mac OS X Leopard (10.5.8) / i386  |  OK  |  OK  |  OK  | 
ffpeExampleData 1.0.1 Levi Waldron
 | Last Changed Rev: 2037 / Revision: 2159 |  | Last Changed Date: 2012-03-30 15:20:09 -0700 |  
  | lamb2  | Linux (openSUSE 11.4) / x86_64  |  OK  |  OK  |  | 
| moscato2  | Windows Server 2008 R2 Enterprise SP1 (64-bit) / x64  |  OK  |  OK  |  OK  | 
| petty  | Mac OS X Leopard (10.5.8) / i386  |  OK  |  OK  |  OK  | 
fibroEset 1.4.7 Sylvia Merk
 | Last Changed Rev: 2037 / Revision: 2159 |  | Last Changed Date: 2012-03-30 15:20:09 -0700 |  
  | lamb2  | Linux (openSUSE 11.4) / x86_64  |  OK  |  WARNINGS  |  | 
| moscato2  | Windows Server 2008 R2 Enterprise SP1 (64-bit) / x64  |  OK  |  WARNINGS  |  OK  | 
| petty  | Mac OS X Leopard (10.5.8) / i386  |  OK  |  WARNINGS  |  OK  | 
flowWorkspaceData 0.99.7 Greg Finak
 | Last Changed Rev: 2037 / Revision: 2159 |  | Last Changed Date: 2012-03-30 15:20:09 -0700 |  
  | lamb2  | Linux (openSUSE 11.4) / x86_64  |  OK  |  OK  |  | 
| moscato2  | Windows Server 2008 R2 Enterprise SP1 (64-bit) / x64  |  OK  |  OK  |  OK  | 
| petty  | Mac OS X Leopard (10.5.8) / i386  |  OK  |  OK  |  OK  | 
frmaExampleData 0.99.3 Matthew N. McCall
 | Last Changed Rev: 2037 / Revision: 2159 |  | Last Changed Date: 2012-03-30 15:20:09 -0700 |  
  | lamb2  | Linux (openSUSE 11.4) / x86_64  |  OK  |  WARNINGS  |  | 
| moscato2  | Windows Server 2008 R2 Enterprise SP1 (64-bit) / x64  |  OK  |  WARNINGS  |  OK  | 
| petty  | Mac OS X Leopard (10.5.8) / i386  |  OK  |  WARNINGS  |  OK  | 
FunciSNP.data 0.99.0 Simon G. Coetzee
 | Last Changed Rev: 2081 / Revision: 2159 |  | Last Changed Date: 2012-06-04 14:03:37 -0700 |  
  | lamb2  | Linux (openSUSE 11.4) / x86_64  |  OK  |  OK  |  | 
| moscato2  | Windows Server 2008 R2 Enterprise SP1 (64-bit) / x64  |  OK  |  OK  |  OK  | 
| petty  | Mac OS X Leopard (10.5.8) / i386  |  OK  |  OK  |  OK  | 
gageData 1.1.4 Weijun Luo
 | Last Changed Rev: 2037 / Revision: 2159 |  | Last Changed Date: 2012-03-30 15:20:09 -0700 |  
  | lamb2  | Linux (openSUSE 11.4) / x86_64  |  OK  |  WARNINGS  |  | 
| moscato2  | Windows Server 2008 R2 Enterprise SP1 (64-bit) / x64  |  OK  |  WARNINGS  |  OK  | 
| petty  | Mac OS X Leopard (10.5.8) / i386  |  OK  |  WARNINGS  |  OK  | 
gaschYHS 1.0.9 Vince Carey
 | Last Changed Rev: 2046 / Revision: 2159 |  | Last Changed Date: 2012-04-23 07:41:34 -0700 |  
  | lamb2  | Linux (openSUSE 11.4) / x86_64  |  OK  |  OK  |  | 
| moscato2  | Windows Server 2008 R2 Enterprise SP1 (64-bit) / x64  |  OK  |  OK  |  OK  | 
| petty  | Mac OS X Leopard (10.5.8) / i386  |  OK  |  OK  |  OK  | 
gatingMLData 1.0.5 Nishant Gopalakrishnan
 | Last Changed Rev: 2037 / Revision: 2159 |  | Last Changed Date: 2012-03-30 15:20:09 -0700 |  
  | lamb2  | Linux (openSUSE 11.4) / x86_64  |  OK  |  OK  |  | 
| moscato2  | Windows Server 2008 R2 Enterprise SP1 (64-bit) / x64  |  OK  |  OK  |  OK  | 
| petty  | Mac OS X Leopard (10.5.8) / i386  |  OK  |  OK  |  OK  | 
gcspikelite 1.0.7 Mark Robinson
 | Last Changed Rev: 2037 / Revision: 2159 |  | Last Changed Date: 2012-03-30 15:20:09 -0700 |  
  | lamb2  | Linux (openSUSE 11.4) / x86_64  |  OK  |  WARNINGS  |  | 
| moscato2  | Windows Server 2008 R2 Enterprise SP1 (64-bit) / x64  |  OK  |  WARNINGS  |  OK  | 
| petty  | Mac OS X Leopard (10.5.8) / i386  |  OK  |  WARNINGS  |  OK  | 
geneLenDataBase 0.99.9 Matthew Young , Nadia Davidson
 | Last Changed Rev: 2048 / Revision: 2159 |  | Last Changed Date: 2012-04-26 00:13:05 -0700 |  
  | lamb2  | Linux (openSUSE 11.4) / x86_64  |  OK  |  WARNINGS  |  | 
| moscato2  | Windows Server 2008 R2 Enterprise SP1 (64-bit) / x64  |  OK  |  WARNINGS  |  OK  | 
| petty  | Mac OS X Leopard (10.5.8) / i386  |  OK  |  WARNINGS  |  OK  | 
GGdata 1.0.19 VJ Carey
 | Last Changed Rev: 2037 / Revision: 2159 |  | Last Changed Date: 2012-03-30 15:20:09 -0700 |  
  | lamb2  | Linux (openSUSE 11.4) / x86_64  |  OK  |  OK  |  | 
| moscato2  | Windows Server 2008 R2 Enterprise SP1 (64-bit) / x64  |  OK  |  OK  |  OK  | 
| petty  | Mac OS X Leopard (10.5.8) / i386  |  OK  |  OK  |  OK  | 
ggtut 0.0.42 VJ Carey
 | Last Changed Rev: 2037 / Revision: 2159 |  | Last Changed Date: 2012-03-30 15:20:09 -0700 |  
  | lamb2  | Linux (openSUSE 11.4) / x86_64  |  OK  |  OK  |  | 
| moscato2  | Windows Server 2008 R2 Enterprise SP1 (64-bit) / x64  |  OK  |  OK  |  OK  | 
| petty  | Mac OS X Leopard (10.5.8) / i386  |  OK  |  OK  |  OK  | 
golubEsets 1.4.11 Vince Carey
 | Last Changed Rev: 2037 / Revision: 2159 |  | Last Changed Date: 2012-03-30 15:20:09 -0700 |  
  | lamb2  | Linux (openSUSE 11.4) / x86_64  |  OK  |  OK  |  | 
| moscato2  | Windows Server 2008 R2 Enterprise SP1 (64-bit) / x64  |  OK  |  OK  |  OK  | 
| petty  | Mac OS X Leopard (10.5.8) / i386  |  OK  |  OK  |  OK  | 
GSVAdata 0.99.8 Robert Castelo
 | Last Changed Rev: 2073 / Revision: 2159 |  | Last Changed Date: 2012-05-16 00:06:12 -0700 |  
  | lamb2  | Linux (openSUSE 11.4) / x86_64  |  OK  |  OK  |  | 
| moscato2  | Windows Server 2008 R2 Enterprise SP1 (64-bit) / x64  |  OK  |  OK  |  OK  | 
| petty  | Mac OS X Leopard (10.5.8) / i386  |  OK  |  OK  |  OK  | 
GWASdata 1.0.5 Stephanie Gogarten
 | Last Changed Rev: 2159 / Revision: 2159 |  | Last Changed Date: 2012-09-20 13:03:19 -0700 |  
  | lamb2  | Linux (openSUSE 11.4) / x86_64  |  OK  |  WARNINGS  |  | 
| moscato2  | Windows Server 2008 R2 Enterprise SP1 (64-bit) / x64  |  OK  |  WARNINGS  |  OK  | 
| petty  | Mac OS X Leopard (10.5.8) / i386  |  OK  |  WARNINGS  |  OK  | 
hapmap100khind 1.3.35 Benilton Carvalho
 | Last Changed Rev: 2037 / Revision: 2159 |  | Last Changed Date: 2012-03-30 15:20:09 -0700 |  
  | lamb2  | Linux (openSUSE 11.4) / x86_64  |  OK  |  OK  |  | 
| moscato2  | Windows Server 2008 R2 Enterprise SP1 (64-bit) / x64  |  OK  |  OK  |  OK  | 
| petty  | Mac OS X Leopard (10.5.8) / i386  |  OK  |  OK  |  OK  | 
hapmap100kxba 1.3.6 Benilton Carvalho
 | Last Changed Rev: 2037 / Revision: 2159 |  | Last Changed Date: 2012-03-30 15:20:09 -0700 |  
  | lamb2  | Linux (openSUSE 11.4) / x86_64  |  OK  |  OK  |  | 
| moscato2  | Windows Server 2008 R2 Enterprise SP1 (64-bit) / x64  |  OK  |  OK  |  OK  | 
| petty  | Mac OS X Leopard (10.5.8) / i386  |  OK  |  OK  |  OK  | 
hapmap500knsp 1.3.6 Benilton Carvalho
 | Last Changed Rev: 2037 / Revision: 2159 |  | Last Changed Date: 2012-03-30 15:20:09 -0700 |  
  | lamb2  | Linux (openSUSE 11.4) / x86_64  |  OK  |  OK  |  | 
| moscato2  | Windows Server 2008 R2 Enterprise SP1 (64-bit) / x64  |  OK  |  OK  |  OK  | 
| petty  | Mac OS X Leopard (10.5.8) / i386  |  OK  |  OK  |  OK  | 
hapmap500ksty 1.3.6 Benilton Carvalho
 | Last Changed Rev: 2037 / Revision: 2159 |  | Last Changed Date: 2012-03-30 15:20:09 -0700 |  
  | lamb2  | Linux (openSUSE 11.4) / x86_64  |  OK  |  OK  |  | 
| moscato2  | Windows Server 2008 R2 Enterprise SP1 (64-bit) / x64  |  OK  |  OK  |  OK  | 
| petty  | Mac OS X Leopard (10.5.8) / i386  |  OK  |  OK  |  OK  | 
hapmapsnp5 1.3.6 Benilton Carvalho
 | Last Changed Rev: 2037 / Revision: 2159 |  | Last Changed Date: 2012-03-30 15:20:09 -0700 |  
  | lamb2  | Linux (openSUSE 11.4) / x86_64  |  OK  |  OK  |  | 
| moscato2  | Windows Server 2008 R2 Enterprise SP1 (64-bit) / x64  |  OK  |  OK  |  OK  | 
| petty  | Mac OS X Leopard (10.5.8) / i386  |  OK  |  OK  |  OK  | 
hapmapsnp6 1.3.7 Benilton Carvalho
 | Last Changed Rev: 2037 / Revision: 2159 |  | Last Changed Date: 2012-03-30 15:20:09 -0700 |  
  | lamb2  | Linux (openSUSE 11.4) / x86_64  |  OK  |  OK  |  | 
| moscato2  | Windows Server 2008 R2 Enterprise SP1 (64-bit) / x64  |  OK  |  OK  |  OK  | 
| petty  | Mac OS X Leopard (10.5.8) / i386  |  OK  |  OK  |  OK  | 
harbChIP 1.0.8 VJ Carey
 | Last Changed Rev: 2037 / Revision: 2159 |  | Last Changed Date: 2012-03-30 15:20:09 -0700 |  
  | lamb2  | Linux (openSUSE 11.4) / x86_64  |  OK  |  OK  |  | 
| moscato2  | Windows Server 2008 R2 Enterprise SP1 (64-bit) / x64  |  OK  |  OK  |  OK  | 
| petty  | Mac OS X Leopard (10.5.8) / i386  |  OK  |  OK  |  OK  | 
HEEBOdata 1.0.3 Agnes Paquet
 | Last Changed Rev: 2037 / Revision: 2159 |  | Last Changed Date: 2012-03-30 15:20:09 -0700 |  
  | lamb2  | Linux (openSUSE 11.4) / x86_64  |  OK  |  WARNINGS  |  | 
| moscato2  | Windows Server 2008 R2 Enterprise SP1 (64-bit) / x64  |  OK  |  WARNINGS  |  OK  | 
| petty  | Mac OS X Leopard (10.5.8) / i386  |  OK  |  WARNINGS  |  OK  | 
hgu133abarcodevecs 1.0.4 Matthew N. McCall
 | Last Changed Rev: 2037 / Revision: 2159 |  | Last Changed Date: 2012-03-30 15:20:09 -0700 |  
  | lamb2  | Linux (openSUSE 11.4) / x86_64  |  OK  |  OK  |  | 
| moscato2  | Windows Server 2008 R2 Enterprise SP1 (64-bit) / x64  |  OK  |  OK  |  OK  | 
| petty  | Mac OS X Leopard (10.5.8) / i386  |  OK  |  OK  |  OK  | 
hgu133plus2barcodevecs 1.0.4 Matthew N. McCall
 | Last Changed Rev: 2037 / Revision: 2159 |  | Last Changed Date: 2012-03-30 15:20:09 -0700 |  
  | lamb2  | Linux (openSUSE 11.4) / x86_64  |  OK  |  OK  |  | 
| moscato2  | Windows Server 2008 R2 Enterprise SP1 (64-bit) / x64  |  OK  |  OK  |  OK  | 
| petty  | Mac OS X Leopard (10.5.8) / i386  |  OK  |  OK  |  OK  | 
hgu2beta7 1.2.6 Bioconductor Package Maintainer
 | Last Changed Rev: 2037 / Revision: 2159 |  | Last Changed Date: 2012-03-30 15:20:09 -0700 |  
  | lamb2  | Linux (openSUSE 11.4) / x86_64  |  OK  |  WARNINGS  |  | 
| moscato2  | Windows Server 2008 R2 Enterprise SP1 (64-bit) / x64  |  OK  |  WARNINGS  |  OK  | 
| petty  | Mac OS X Leopard (10.5.8) / i386  |  OK  |  WARNINGS  |  OK  | 
HIVcDNAvantWout03 1.2.6 Chris Fraley
 | Last Changed Rev: 2037 / Revision: 2159 |  | Last Changed Date: 2012-03-30 15:20:09 -0700 |  
  | lamb2  | Linux (openSUSE 11.4) / x86_64  |  OK  |  OK  |  | 
| moscato2  | Windows Server 2008 R2 Enterprise SP1 (64-bit) / x64  |  OK  |  OK  |  OK  | 
| petty  | Mac OS X Leopard (10.5.8) / i386  |  OK  |  OK  |  OK  | 
hmyriB36 0.99.15 Vincent Carey
 | Last Changed Rev: 2037 / Revision: 2159 |  | Last Changed Date: 2012-03-30 15:20:09 -0700 |  
  | lamb2  | Linux (openSUSE 11.4) / x86_64  |  OK  |  OK  |  | 
| moscato2  | Windows Server 2008 R2 Enterprise SP1 (64-bit) / x64  |  OK  |  OK  |  OK  | 
| petty  | Mac OS X Leopard (10.5.8) / i386  |  OK  |  OK  |  OK  | 
humanStemCell 0.2.6 R. Gentleman
 | Last Changed Rev: 2037 / Revision: 2159 |  | Last Changed Date: 2012-03-30 15:20:09 -0700 |  
  | lamb2  | Linux (openSUSE 11.4) / x86_64  |  OK  |  WARNINGS  |  | 
| moscato2  | Windows Server 2008 R2 Enterprise SP1 (64-bit) / x64  |  OK  |  WARNINGS  |  OK  | 
| petty  | Mac OS X Leopard (10.5.8) / i386  |  OK  |  WARNINGS  |  OK  | 
IlluminaHumanMethylation450kmanifest 0.2.1 Kasper Daniel Hansen
 | Last Changed Rev: 2040 / Revision: 2159 |  | Last Changed Date: 2012-04-04 12:40:53 -0700 |  
  | lamb2  | Linux (openSUSE 11.4) / x86_64  |  OK  |  WARNINGS  |  | 
| moscato2  | Windows Server 2008 R2 Enterprise SP1 (64-bit) / x64  |  OK  |  WARNINGS  |  OK  | 
| petty  | Mac OS X Leopard (10.5.8) / i386  |  OK  |  WARNINGS  |  OK  | 
ind1KG 0.1.13 VJ Carey
 | Last Changed Rev: 2117 / Revision: 2159 |  | Last Changed Date: 2012-08-13 17:21:02 -0700 |  
  | lamb2  | Linux (openSUSE 11.4) / x86_64  |  OK  |  OK  |  | 
| moscato2  | Windows Server 2008 R2 Enterprise SP1 (64-bit) / x64  |  OK  |  OK  |  OK  | 
| petty  | Mac OS X Leopard (10.5.8) / i386  |  OK  |  OK  |  OK  | 
iontreeData 0.99.6 Mingshu Cao
 | Last Changed Rev: 2037 / Revision: 2159 |  | Last Changed Date: 2012-03-30 15:20:09 -0700 |  
  | lamb2  | Linux (openSUSE 11.4) / x86_64  |  OK  |  WARNINGS  |  | 
| moscato2  | Windows Server 2008 R2 Enterprise SP1 (64-bit) / x64  |  OK  |  WARNINGS  |  OK  | 
| petty  | Mac OS X Leopard (10.5.8) / i386  |  OK  |  WARNINGS  |  OK  | 
ITALICSData 2.0.5 Guillem Rigaill
 | Last Changed Rev: 2037 / Revision: 2159 |  | Last Changed Date: 2012-03-30 15:20:09 -0700 |  
  | lamb2  | Linux (openSUSE 11.4) / x86_64  |  OK  |  WARNINGS  |  | 
| moscato2  | Windows Server 2008 R2 Enterprise SP1 (64-bit) / x64  |  OK  |  WARNINGS  |  OK  | 
| petty  | Mac OS X Leopard (10.5.8) / i386  |  OK  |  WARNINGS  |  OK  | 
Iyer517 1.4.10 Vince Carey
 | Last Changed Rev: 2037 / Revision: 2159 |  | Last Changed Date: 2012-03-30 15:20:09 -0700 |  
  | lamb2  | Linux (openSUSE 11.4) / x86_64  |  OK  |  OK  |  | 
| moscato2  | Windows Server 2008 R2 Enterprise SP1 (64-bit) / x64  |  OK  |  OK  |  OK  | 
| petty  | Mac OS X Leopard (10.5.8) / i386  |  OK  |  OK  |  OK  | 
kidpack 1.5.10 Wolfgang Huber
 | Last Changed Rev: 2037 / Revision: 2159 |  | Last Changed Date: 2012-03-30 15:20:09 -0700 |  
  | lamb2  | Linux (openSUSE 11.4) / x86_64  |  OK  |  WARNINGS  |  | 
| moscato2  | Windows Server 2008 R2 Enterprise SP1 (64-bit) / x64  |  OK  |  WARNINGS  |  OK  | 
| petty  | Mac OS X Leopard (10.5.8) / i386  |  OK  |  WARNINGS  |  OK  | 
leeBamViews 0.99.19 VJ Carey
 | Last Changed Rev: 2080 / Revision: 2159 |  | Last Changed Date: 2012-06-03 09:31:50 -0700 |  
  | lamb2  | Linux (openSUSE 11.4) / x86_64  |  OK  |  OK  |  | 
| moscato2  | Windows Server 2008 R2 Enterprise SP1 (64-bit) / x64  |  OK  |  OK  |  OK  | 
| petty  | Mac OS X Leopard (10.5.8) / i386  |  OK  |  OK  |  OK  | 
LiebermanAidenHiC2009 0.1.12 Felix Klein
 | Last Changed Rev: 2061 / Revision: 2159 |  | Last Changed Date: 2012-05-02 16:02:16 -0700 |  
  | lamb2  | Linux (openSUSE 11.4) / x86_64  |  OK  |  WARNINGS  |  | 
| moscato2  | Windows Server 2008 R2 Enterprise SP1 (64-bit) / x64  |  OK  |  WARNINGS  |  OK  | 
| petty  | Mac OS X Leopard (10.5.8) / i386  |  OK  |  WARNINGS  |  OK  | 
lumiBarnes 1.3.8 Pan Du
 | Last Changed Rev: 2037 / Revision: 2159 |  | Last Changed Date: 2012-03-30 15:20:09 -0700 |  
  | lamb2  | Linux (openSUSE 11.4) / x86_64  |  OK  |  WARNINGS  |  | 
| moscato2  | Windows Server 2008 R2 Enterprise SP1 (64-bit) / x64  |  OK  |  WARNINGS  |  OK  | 
| petty  | Mac OS X Leopard (10.5.8) / i386  |  OK  |  WARNINGS  |  OK  | 
lungExpression 0.0.13 Robert Scharpf
 | Last Changed Rev: 2037 / Revision: 2159 |  | Last Changed Date: 2012-03-30 15:20:09 -0700 |  
  | lamb2  | Linux (openSUSE 11.4) / x86_64  |  OK  |  OK  |  | 
| moscato2  | Windows Server 2008 R2 Enterprise SP1 (64-bit) / x64  |  OK  |  OK  |  OK  | 
| petty  | Mac OS X Leopard (10.5.8) / i386  |  OK  |  OK  |  OK  | 
maqcExpression4plex 1.4.2 Benilton Carvalho
 | Last Changed Rev: 2037 / Revision: 2159 |  | Last Changed Date: 2012-03-30 15:20:09 -0700 |  
  | lamb2  | Linux (openSUSE 11.4) / x86_64  |  OK  |  OK  |  | 
| moscato2  | Windows Server 2008 R2 Enterprise SP1 (64-bit) / x64  |  OK  |  OK  |  OK  | 
| petty  | Mac OS X Leopard (10.5.8) / i386  |  OK  |  OK  |  OK  | 
MAQCsubset 1.0.25 VJ Carey
 | Last Changed Rev: 2037 / Revision: 2159 |  | Last Changed Date: 2012-03-30 15:20:09 -0700 |  
  | lamb2  | Linux (openSUSE 11.4) / x86_64  |  OK  |  OK  |  | 
| moscato2  | Windows Server 2008 R2 Enterprise SP1 (64-bit) / x64  |  OK  |  OK  |  OK  | 
| petty  | Mac OS X Leopard (10.5.8) / i386  |  OK  |  OK  |  OK  | 
MAQCsubsetAFX 1.0.7 Laurent Gatto
 | Last Changed Rev: 2064 / Revision: 2159 |  | Last Changed Date: 2012-05-11 08:24:12 -0700 |  
  | lamb2  | Linux (openSUSE 11.4) / x86_64  |  OK  |  WARNINGS  |  | 
| moscato2  | Windows Server 2008 R2 Enterprise SP1 (64-bit) / x64  |  OK  |  WARNINGS  |  OK  | 
| petty  | Mac OS X Leopard (10.5.8) / i386  |  OK  |  WARNINGS  |  OK  | 
MAQCsubsetILM 1.0.6 Laurent Gatto
 | Last Changed Rev: 2063 / Revision: 2159 |  | Last Changed Date: 2012-05-11 08:23:58 -0700 |  
  | lamb2  | Linux (openSUSE 11.4) / x86_64  |  OK  |  WARNINGS  |  | 
| moscato2  | Windows Server 2008 R2 Enterprise SP1 (64-bit) / x64  |  OK  |  WARNINGS  |  OK  | 
| petty  | Mac OS X Leopard (10.5.8) / i386  |  OK  |  WARNINGS  |  OK  | 
MEEBOdata 1.0.3 Agnes Paquet
 | Last Changed Rev: 2037 / Revision: 2159 |  | Last Changed Date: 2012-03-30 15:20:09 -0700 |  
  | lamb2  | Linux (openSUSE 11.4) / x86_64  |  OK  |  WARNINGS  |  | 
| moscato2  | Windows Server 2008 R2 Enterprise SP1 (64-bit) / x64  |  OK  |  WARNINGS  |  OK  | 
| petty  | Mac OS X Leopard (10.5.8) / i386  |  OK  |  WARNINGS  |  OK  | 
minfiData 0.3.0 Kasper Daniel Hansen
 | Last Changed Rev: 2135 / Revision: 2159 |  | Last Changed Date: 2012-09-09 10:01:59 -0700 |  
  | lamb2  | Linux (openSUSE 11.4) / x86_64  |  OK  |  OK  |  | 
| moscato2  | Windows Server 2008 R2 Enterprise SP1 (64-bit) / x64  |  OK  |  OK  |  OK  | 
| petty  | Mac OS X Leopard (10.5.8) / i386  |  OK  |  OK  |  OK  | 
miRNATarget 0.99.1 Y-h. Taguchi
 | Last Changed Rev: 2065 / Revision: 2159 |  | Last Changed Date: 2012-05-11 14:31:35 -0700 |  
  | lamb2  | Linux (openSUSE 11.4) / x86_64  |  OK  |  OK  |  | 
| moscato2  | Windows Server 2008 R2 Enterprise SP1 (64-bit) / x64  |  OK  |  OK  |  OK  | 
| petty  | Mac OS X Leopard (10.5.8) / i386  |  OK  |  OK  |  OK  | 
mosaicsExample 0.99.6 Dongjun Chung
 | Last Changed Rev: 2037 / Revision: 2159 |  | Last Changed Date: 2012-03-30 15:20:09 -0700 |  
  | lamb2  | Linux (openSUSE 11.4) / x86_64  |  OK  |  OK  |  | 
| moscato2  | Windows Server 2008 R2 Enterprise SP1 (64-bit) / x64  |  OK  |  OK  |  OK  | 
| petty  | Mac OS X Leopard (10.5.8) / i386  |  OK  |  OK  |  OK  | 
mouse4302barcodevecs 1.0.4 Matthew N. McCall
 | Last Changed Rev: 2037 / Revision: 2159 |  | Last Changed Date: 2012-03-30 15:20:09 -0700 |  
  | lamb2  | Linux (openSUSE 11.4) / x86_64  |  OK  |  OK  |  | 
| moscato2  | Windows Server 2008 R2 Enterprise SP1 (64-bit) / x64  |  OK  |  OK  |  OK  | 
| petty  | Mac OS X Leopard (10.5.8) / i386  |  OK  |  OK  |  OK  | 
msdata 0.1.10 Steffen Neumann
 | Last Changed Rev: 2047 / Revision: 2159 |  | Last Changed Date: 2012-04-25 04:52:54 -0700 |  
  | lamb2  | Linux (openSUSE 11.4) / x86_64  |  OK  |  WARNINGS  |  | 
| moscato2  | Windows Server 2008 R2 Enterprise SP1 (64-bit) / x64  |  OK  |  WARNINGS  |  OK  | 
| petty  | Mac OS X Leopard (10.5.8) / i386  |  OK  |  WARNINGS  |  OK  | 
Mulder2012 0.2.1 Xin Wang
 | Last Changed Rev: 2085 / Revision: 2159 |  | Last Changed Date: 2012-06-18 15:33:36 -0700 |  
  | lamb2  | Linux (openSUSE 11.4) / x86_64  |  OK  |  OK  |  | 
| moscato2  | Windows Server 2008 R2 Enterprise SP1 (64-bit) / x64  |  OK  |  OK  |  OK  | 
| petty  | Mac OS X Leopard (10.5.8) / i386  |  OK  |  OK  |  OK  | 
mvoutData 0.99.8 VJ Carey
 | Last Changed Rev: 2037 / Revision: 2159 |  | Last Changed Date: 2012-03-30 15:20:09 -0700 |  
  | lamb2  | Linux (openSUSE 11.4) / x86_64  |  OK  |  OK  |  | 
| moscato2  | Windows Server 2008 R2 Enterprise SP1 (64-bit) / x64  |  OK  |  OK  |  OK  | 
| petty  | Mac OS X Leopard (10.5.8) / i386  |  OK  |  OK  |  OK  | 
NCIgraphData 0.99.4 Laurent Jacob
 | Last Changed Rev: 2037 / Revision: 2159 |  | Last Changed Date: 2012-03-30 15:20:09 -0700 |  
  | lamb2  | Linux (openSUSE 11.4) / x86_64  |  OK  |  WARNINGS  |  | 
| moscato2  | Windows Server 2008 R2 Enterprise SP1 (64-bit) / x64  |  OK  |  WARNINGS  |  OK  | 
| petty  | Mac OS X Leopard (10.5.8) / i386  |  OK  |  WARNINGS  |  OK  | 
Neve2006 0.1.14 VJ Carey
 | Last Changed Rev: 2037 / Revision: 2159 |  | Last Changed Date: 2012-03-30 15:20:09 -0700 |  
  | lamb2  | Linux (openSUSE 11.4) / x86_64  |  OK  |  OK  |  | 
| moscato2  | Windows Server 2008 R2 Enterprise SP1 (64-bit) / x64  |  OK  |  OK  |  OK  | 
| petty  | Mac OS X Leopard (10.5.8) / i386  |  OK  |  OK  |  OK  | 
pasilla 0.2.13 Alejandro Reyes
 | Last Changed Rev: 2102 / Revision: 2159 |  | Last Changed Date: 2012-07-20 03:09:18 -0700 |  
  | lamb2  | Linux (openSUSE 11.4) / x86_64  |  OK  |  WARNINGS  |  | 
| moscato2  | Windows Server 2008 R2 Enterprise SP1 (64-bit) / x64  |  OK  |  WARNINGS  |  OK  | 
| petty  | Mac OS X Leopard (10.5.8) / i386  |  OK  |  WARNINGS  |  OK  | 
pasillaBamSubset 0.0.5 H. Pages
 | Last Changed Rev: 2157 / Revision: 2159 |  | Last Changed Date: 2012-09-20 12:36:09 -0700 |  
  | lamb2  | Linux (openSUSE 11.4) / x86_64  |  OK  |  OK  |  | 
| moscato2  | Windows Server 2008 R2 Enterprise SP1 (64-bit) / x64  |  OK  |  OK  |  OK  | 
| petty  | Mac OS X Leopard (10.5.8) / i386  |  OK  |  OK  |  OK  | 
pcaGoPromoter.Hs.hg19 0.99.2 Morten Hansen,
 | Last Changed Rev: 2037 / Revision: 2159 |  | Last Changed Date: 2012-03-30 15:20:09 -0700 |  
  | lamb2  | Linux (openSUSE 11.4) / x86_64  |  OK  |  OK  |  | 
| moscato2  | Windows Server 2008 R2 Enterprise SP1 (64-bit) / x64  |  OK  |  OK  |  OK  | 
| petty  | Mac OS X Leopard (10.5.8) / i386  |  OK  |  OK  |  OK  | 
pcaGoPromoter.Mm.mm9 0.99.2 Morten Hansen,
 | Last Changed Rev: 2037 / Revision: 2159 |  | Last Changed Date: 2012-03-30 15:20:09 -0700 |  
  | lamb2  | Linux (openSUSE 11.4) / x86_64  |  OK  |  OK  |  | 
| moscato2  | Windows Server 2008 R2 Enterprise SP1 (64-bit) / x64  |  OK  |  OK  |  OK  | 
| petty  | Mac OS X Leopard (10.5.8) / i386  |  OK  |  OK  |  OK  | 
pcaGoPromoter.Rn.rn4 0.99.2 Morten Hansen,
 | Last Changed Rev: 2037 / Revision: 2159 |  | Last Changed Date: 2012-03-30 15:20:09 -0700 |  
  | lamb2  | Linux (openSUSE 11.4) / x86_64  |  OK  |  OK  |  | 
| moscato2  | Windows Server 2008 R2 Enterprise SP1 (64-bit) / x64  |  OK  |  OK  |  OK  | 
| petty  | Mac OS X Leopard (10.5.8) / i386  |  OK  |  OK  |  OK  | 
ppiData 0.1.17 Tony Chiang
 | Last Changed Rev: 2037 / Revision: 2159 |  | Last Changed Date: 2012-03-30 15:20:09 -0700 |  
  | lamb2  | Linux (openSUSE 11.4) / x86_64  |  OK  |  WARNINGS  |  | 
| moscato2  | Windows Server 2008 R2 Enterprise SP1 (64-bit) / x64  |  OK  |  WARNINGS  |  OK  | 
| petty  | Mac OS X Leopard (10.5.8) / i386  |  OK  |  WARNINGS  |  OK  | 
PREDAsampledata 0.2.5 Francesco Ferrari
 | Last Changed Rev: 2037 / Revision: 2159 |  | Last Changed Date: 2012-03-30 15:20:09 -0700 |  
  | lamb2  | Linux (openSUSE 11.4) / x86_64  |  OK  |  WARNINGS  |  | 
| moscato2  | Windows Server 2008 R2 Enterprise SP1 (64-bit) / x64  |  OK  |  WARNINGS  |  OK  | 
| petty  | Mac OS X Leopard (10.5.8) / i386  |  OK  |  WARNINGS  |  OK  | 
ProData 1.0.6 Xiaochun Li
 | Last Changed Rev: 2037 / Revision: 2159 |  | Last Changed Date: 2012-03-30 15:20:09 -0700 |  
  | lamb2  | Linux (openSUSE 11.4) / x86_64  |  OK  |  OK  |  | 
| moscato2  | Windows Server 2008 R2 Enterprise SP1 (64-bit) / x64  |  OK  |  OK  |  OK  | 
| petty  | Mac OS X Leopard (10.5.8) / i386  |  OK  |  OK  |  OK  | 
pumadata 1.99.3 Richard Pearson
 | Last Changed Rev: 2153 / Revision: 2159 |  | Last Changed Date: 2012-09-16 18:04:13 -0700 |  
  | lamb2  | Linux (openSUSE 11.4) / x86_64  |  OK  |  WARNINGS  |  | 
| moscato2  | Windows Server 2008 R2 Enterprise SP1 (64-bit) / x64  |  OK  |  WARNINGS  |  OK  | 
| petty  | Mac OS X Leopard (10.5.8) / i386  |  OK  |  WARNINGS  |  OK  | 
rheumaticConditionWOLLBOLD 1.0.1 Alejandro Quiroz-Zarate
 | Last Changed Rev: 2037 / Revision: 2159 |  | Last Changed Date: 2012-03-30 15:20:09 -0700 |  
  | lamb2  | Linux (openSUSE 11.4) / x86_64  |  OK  |  OK  |  | 
| moscato2  | Windows Server 2008 R2 Enterprise SP1 (64-bit) / x64  |  OK  |  OK  |  OK  | 
| petty  | Mac OS X Leopard (10.5.8) / i386  |  OK  |  OK  |  OK  | 
RNAinteractMAPK 1.0.6 Bernd Fischer
 | Last Changed Rev: 2037 / Revision: 2159 |  | Last Changed Date: 2012-03-30 15:20:09 -0700 |  
  | lamb2  | Linux (openSUSE 11.4) / x86_64  |  OK  |  OK  |  | 
| moscato2  | Windows Server 2008 R2 Enterprise SP1 (64-bit) / x64  |  OK  |  OK  |  OK  | 
| petty  | Mac OS X Leopard (10.5.8) / i386  |  OK  |  OK  |  OK  | 
RnaSeqTutorial 0.0.10 Nicolas Delhomme
 | Last Changed Rev: 2116 / Revision: 2159 |  | Last Changed Date: 2012-08-09 05:47:37 -0700 |  
  | lamb2  | Linux (openSUSE 11.4) / x86_64  |  OK  |  OK  |  | 
| moscato2  | Windows Server 2008 R2 Enterprise SP1 (64-bit) / x64  |  OK  |  OK  |  OK  | 
| petty  | Mac OS X Leopard (10.5.8) / i386  |  OK  |  OK  |  OK  | 
serumStimulation 0.99.2 Morten Hansen,
 | Last Changed Rev: 2037 / Revision: 2159 |  | Last Changed Date: 2012-03-30 15:20:09 -0700 |  
  | lamb2  | Linux (openSUSE 11.4) / x86_64  |  OK  |  OK  |  | 
| moscato2  | Windows Server 2008 R2 Enterprise SP1 (64-bit) / x64  |  OK  |  OK  |  OK  | 
| petty  | Mac OS X Leopard (10.5.8) / i386  |  OK  |  OK  |  OK  | 
simpIntLists 0.99.2 Kircicegi Korkmaz
 | Last Changed Rev: 2037 / Revision: 2159 |  | Last Changed Date: 2012-03-30 15:20:09 -0700 |  
  | lamb2  | Linux (openSUSE 11.4) / x86_64  |  OK  |  WARNINGS  |  | 
| moscato2  | Windows Server 2008 R2 Enterprise SP1 (64-bit) / x64  |  OK  |  WARNINGS  |  OK  | 
| petty  | Mac OS X Leopard (10.5.8) / i386  |  OK  |  WARNINGS  |  OK  | 
SNAData 1.8.4 Denise Scholtens
 | Last Changed Rev: 2037 / Revision: 2159 |  | Last Changed Date: 2012-03-30 15:20:09 -0700 |  
  | lamb2  | Linux (openSUSE 11.4) / x86_64  |  OK  |  OK  |  | 
| moscato2  | Windows Server 2008 R2 Enterprise SP1 (64-bit) / x64  |  OK  |  OK  |  OK  | 
| petty  | Mac OS X Leopard (10.5.8) / i386  |  OK  |  OK  |  OK  | 
SpikeIn 1.4.8 Rafael A. Irizarry
 | Last Changed Rev: 2037 / Revision: 2159 |  | Last Changed Date: 2012-03-30 15:20:09 -0700 |  
  | lamb2  | Linux (openSUSE 11.4) / x86_64  |  OK  |  WARNINGS  |  | 
| moscato2  | Windows Server 2008 R2 Enterprise SP1 (64-bit) / x64  |  OK  |  WARNINGS  |  OK  | 
| petty  | Mac OS X Leopard (10.5.8) / i386  |  OK  |  WARNINGS  |  OK  | 
SpikeInSubset 1.2.11 Rafael A. Irizarry
 | Last Changed Rev: 2037 / Revision: 2159 |  | Last Changed Date: 2012-03-30 15:20:09 -0700 |  
  | lamb2  | Linux (openSUSE 11.4) / x86_64  |  OK  |  WARNINGS  |  | 
| moscato2  | Windows Server 2008 R2 Enterprise SP1 (64-bit) / x64  |  OK  |  WARNINGS  |  OK  | 
| petty  | Mac OS X Leopard (10.5.8) / i386  |  OK  |  WARNINGS  |  OK  | 
stjudem 1.2.7 Joern Toedling
 | Last Changed Rev: 2037 / Revision: 2159 |  | Last Changed Date: 2012-03-30 15:20:09 -0700 |  
  | lamb2  | Linux (openSUSE 11.4) / x86_64  |  OK  |  OK  |  | 
| moscato2  | Windows Server 2008 R2 Enterprise SP1 (64-bit) / x64  |  OK  |  OK  |  OK  | 
| petty  | Mac OS X Leopard (10.5.8) / i386  |  OK  |  OK  |  OK  | 
TargetSearchData 1.0.6 Alvaro Cuadros-Inostroza
 | Last Changed Rev: 2037 / Revision: 2159 |  | Last Changed Date: 2012-03-30 15:20:09 -0700 |  
  | lamb2  | Linux (openSUSE 11.4) / x86_64  |  OK  |  OK  |  | 
| moscato2  | Windows Server 2008 R2 Enterprise SP1 (64-bit) / x64  |  OK  |  OK  |  OK  | 
| petty  | Mac OS X Leopard (10.5.8) / i386  |  OK  |  OK  |  OK  | 
TCGAMethylation450k 0.99.2 Sean Davis
 | Last Changed Rev: 2037 / Revision: 2159 |  | Last Changed Date: 2012-03-30 15:20:09 -0700 |  
  | lamb2  | Linux (openSUSE 11.4) / x86_64  |  OK  |  OK  |  | 
| moscato2  | Windows Server 2008 R2 Enterprise SP1 (64-bit) / x64  |  OK  |  OK  |  OK  | 
| petty  | Mac OS X Leopard (10.5.8) / i386  |  OK  |  OK  |  OK  | 
tinesath1cdf 1.0.7 Tine Casneuf
 | Last Changed Rev: 2037 / Revision: 2159 |  | Last Changed Date: 2012-03-30 15:20:09 -0700 |  
  | lamb2  | Linux (openSUSE 11.4) / x86_64  |  OK  |  WARNINGS  |  | 
| moscato2  | Windows Server 2008 R2 Enterprise SP1 (64-bit) / x64  |  OK  |  WARNINGS  |  OK  | 
| petty  | Mac OS X Leopard (10.5.8) / i386  |  OK  |  WARNINGS  |  OK  | 
tinesath1probe 1.0.7 Tine Casneuf
 | Last Changed Rev: 2037 / Revision: 2159 |  | Last Changed Date: 2012-03-30 15:20:09 -0700 |  
  | lamb2  | Linux (openSUSE 11.4) / x86_64  |  OK  |  WARNINGS  |  | 
| moscato2  | Windows Server 2008 R2 Enterprise SP1 (64-bit) / x64  |  OK  |  WARNINGS  |  OK  | 
| petty  | Mac OS X Leopard (10.5.8) / i386  |  OK  |  WARNINGS  |  OK  | 
tweeDEseqCountData 1.0.6 Juan R Gonzalez
 | Last Changed Rev: 2037 / Revision: 2159 |  | Last Changed Date: 2012-03-30 15:20:09 -0700 |  
  | lamb2  | Linux (openSUSE 11.4) / x86_64  |  OK  |  OK  |  | 
| moscato2  | Windows Server 2008 R2 Enterprise SP1 (64-bit) / x64  |  OK  |  OK  |  OK  | 
| petty  | Mac OS X Leopard (10.5.8) / i386  |  OK  |  OK  |  OK  | 
waveTilingData 0.99.0 Kristof De Beuf
 | Last Changed Rev: 2093 / Revision: 2159 |  | Last Changed Date: 2012-06-25 14:19:58 -0700 |  
  | lamb2  | Linux (openSUSE 11.4) / x86_64  |  OK  |  OK  |  | 
| moscato2  | Windows Server 2008 R2 Enterprise SP1 (64-bit) / x64  |  OK  |  OK  |  OK  | 
| petty  | Mac OS X Leopard (10.5.8) / i386  |  OK  |  OK  |  OK  | 
XhybCasneuf 1.0.9 Tineke Casneuf
 | Last Changed Rev: 2037 / Revision: 2159 |  | Last Changed Date: 2012-03-30 15:20:09 -0700 |  
  | lamb2  | Linux (openSUSE 11.4) / x86_64  |  OK  |  WARNINGS  |  | 
| moscato2  | Windows Server 2008 R2 Enterprise SP1 (64-bit) / x64  |  OK  |  WARNINGS  |  OK  | 
| petty  | Mac OS X Leopard (10.5.8) / i386  |  OK  |  WARNINGS  |  OK  | 
yeastCC 1.2.16 Sandrine Dudoit
 | Last Changed Rev: 2037 / Revision: 2159 |  | Last Changed Date: 2012-03-30 15:20:09 -0700 |  
  | lamb2  | Linux (openSUSE 11.4) / x86_64  |  OK  |  WARNINGS  |  | 
| moscato2  | Windows Server 2008 R2 Enterprise SP1 (64-bit) / x64  |  OK  |  WARNINGS  |  OK  | 
| petty  | Mac OS X Leopard (10.5.8) / i386  |  OK  |  WARNINGS  |  OK  | 
yeastExpData 0.9.20 R. Gentleman
 | Last Changed Rev: 2037 / Revision: 2159 |  | Last Changed Date: 2012-03-30 15:20:09 -0700 |  
  | lamb2  | Linux (openSUSE 11.4) / x86_64  |  OK  |  WARNINGS  |  | 
| moscato2  | Windows Server 2008 R2 Enterprise SP1 (64-bit) / x64  |  OK  |  WARNINGS  |  OK  | 
| petty  | Mac OS X Leopard (10.5.8) / i386  |  OK  |  WARNINGS  |  OK  | 
yeastGSData 0.1.8 R. Gentleman
 | Last Changed Rev: 2037 / Revision: 2159 |  | Last Changed Date: 2012-03-30 15:20:09 -0700 |  
  | lamb2  | Linux (openSUSE 11.4) / x86_64  |  OK  |  WARNINGS  |  | 
| moscato2  | Windows Server 2008 R2 Enterprise SP1 (64-bit) / x64  |  OK  |  WARNINGS  |  OK  | 
| petty  | Mac OS X Leopard (10.5.8) / i386  |  OK  |  WARNINGS  |  OK  | 
yeastNagalakshmi 0.99.4 Bioconductor Package Maintainer
 | Last Changed Rev: 2037 / Revision: 2159 |  | Last Changed Date: 2012-03-30 15:20:09 -0700 |  
  | lamb2  | Linux (openSUSE 11.4) / x86_64  |  OK  |  OK  |  | 
| moscato2  | Windows Server 2008 R2 Enterprise SP1 (64-bit) / x64  |  OK  |  OK  |  OK  | 
| petty  | Mac OS X Leopard (10.5.8) / i386  |  OK  |  OK  |  OK  | 
yeastRNASeq 0.0.6 J. Bullard
 | Last Changed Rev: 2037 / Revision: 2159 |  | Last Changed Date: 2012-03-30 15:20:09 -0700 |  
  | lamb2  | Linux (openSUSE 11.4) / x86_64  |  OK  |  WARNINGS  |  | 
| moscato2  | Windows Server 2008 R2 Enterprise SP1 (64-bit) / x64  |  OK  |  WARNINGS  |  OK  | 
| petty  | Mac OS X Leopard (10.5.8) / i386  |  OK  |  WARNINGS  |  OK  |