pasilla 0.2.13 Alejandro Reyes
 | Snapshot Date: 2012-09-23 10:15:26 -0700 (Sun, 23 Sep 2012) |  | URL: https://hedgehog.fhcrc.org/bioc-data/trunk/experiment/pkgs/pasilla |  | Last Changed Rev: 2102 / Revision: 2159 |  | Last Changed Date: 2012-07-20 03:09:18 -0700 (Fri, 20 Jul 2012) |  
  | lamb2  | Linux (openSUSE 11.4) / x86_64  |  OK  |  WARNINGS  |  | 
| moscato2  | Windows Server 2008 R2 Enterprise SP1 (64-bit) / x64  |  OK  |  WARNINGS  |  OK  | 
| petty  | Mac OS X Leopard (10.5.8) / i386  | [ OK ] |  WARNINGS  |  OK  | 
* checking for file 'pasilla/DESCRIPTION' ... OK
* preparing 'pasilla':
* checking DESCRIPTION meta-information ... OK
* installing the package to re-build vignettes
* creating vignettes ... OK
* checking for LF line-endings in source and make files
* checking for empty or unneeded directories
* looking to see if a 'data/datalist' file should be added
* building 'pasilla_0.2.13.tar.gz'