LiebermanAidenHiC2009 0.1.12 Felix Klein
 | Snapshot Date: 2012-09-23 10:15:26 -0700 (Sun, 23 Sep 2012) |  | URL: https://hedgehog.fhcrc.org/bioc-data/trunk/experiment/pkgs/LiebermanAidenHiC2009 |  | Last Changed Rev: 2061 / Revision: 2159 |  | Last Changed Date: 2012-05-02 16:02:16 -0700 (Wed, 02 May 2012) |  
  | lamb2  | Linux (openSUSE 11.4) / x86_64  |  OK  |  WARNINGS  |  | 
| moscato2  | Windows Server 2008 R2 Enterprise SP1 (64-bit) / x64  |  OK  |  WARNINGS  | [ OK ] | 
| petty  | Mac OS X Leopard (10.5.8) / i386  |  OK  |  WARNINGS  |  OK  | 
install for i386
* installing *source* package 'LiebermanAidenHiC2009' ...
** data
** inst
** help
No man pages found in package  'LiebermanAidenHiC2009' 
*** installing help indices
** building package indices
** installing vignettes
   'LiebermanAidenHiC2009.Rnw' 
** testing if installed package can be loaded
install for x64
* installing *source* package 'LiebermanAidenHiC2009' ...
** testing if installed package can be loaded
* MD5 sums
packaged installation of 'LiebermanAidenHiC2009' as LiebermanAidenHiC2009_0.1.12.zip
* DONE (LiebermanAidenHiC2009)