| cancerdata 1.1.0 Daniel Kosztyla
 
 | Snapshot Date: 2012-09-23 10:15:26 -0700 (Sun, 23 Sep 2012) |  | URL: https://hedgehog.fhcrc.org/bioc-data/trunk/experiment/pkgs/cancerdata |  | Last Changed Rev: 2059 / Revision: 2159 |  | Last Changed Date: 2012-04-30 14:43:03 -0700 (Mon, 30 Apr 2012) | 
 | lamb2 | Linux (openSUSE 11.4) / x86_64 | OK | OK |  | 
| moscato2 | Windows Server 2008 R2 Enterprise SP1 (64-bit) / x64 | OK | OK | [ OK ] | 
| petty | Mac OS X Leopard (10.5.8) / i386 | OK | OK | OK | 
install for i386
* installing *source* package 'cancerdata' ...
** R
** data
** preparing package for lazy loading
** help
*** installing help indices
** building package indices
** testing if installed package can be loaded
install for x64
* installing *source* package 'cancerdata' ...
** testing if installed package can be loaded
* MD5 sums
packaged installation of 'cancerdata' as cancerdata_1.1.0.zip
* DONE (cancerdata)