FunciSNP.data 0.99.0 Simon G. Coetzee
 | Snapshot Date: 2012-09-23 10:15:26 -0700 (Sun, 23 Sep 2012) |  | URL: https://hedgehog.fhcrc.org/bioc-data/trunk/experiment/pkgs/FunciSNP.data |  | Last Changed Rev: 2081 / Revision: 2159 |  | Last Changed Date: 2012-06-04 14:03:37 -0700 (Mon, 04 Jun 2012) |  
  | lamb2  | Linux (openSUSE 11.4) / x86_64  | [ OK ] |  OK  |  | 
| moscato2  | Windows Server 2008 R2 Enterprise SP1 (64-bit) / x64  |  OK  |  OK  |  OK  | 
| petty  | Mac OS X Leopard (10.5.8) / i386  |  OK  |  OK  |  OK  | 
* checking for file ‘FunciSNP.data/DESCRIPTION’ ... OK
* preparing ‘FunciSNP.data’:
* checking DESCRIPTION meta-information ... OK
* installing the package to re-build vignettes
* creating vignettes ... OK
* checking for LF line-endings in source and make files
* checking for empty or unneeded directories
* looking to see if a ‘data/datalist’ file should be added
* building ‘FunciSNP.data_0.99.0.tar.gz’