| Package STATUS - Package status is indicated by one of the following glyphs: | 
|  -  TIMEOUT  | 
BUILD, CHECK or BUILD BIN of package took more than 40 minutes | 
|  -  ERROR  | 
BUILD, CHECK or BUILD BIN of package returned an error | 
|  -  WARNINGS  | 
CHECK of package produced warnings | 
|  -  OK  | 
BUILD, CHECK or BUILD BIN of package was OK | 
|  - skipped  | 
CHECK or BUILD BIN of package was skipped because the BUILD step failed (or because something bad happened with the Build System itself) | 
| Click on any glyph in the report below to see the status details (command output). | 
| lamb2 | 
Linux (openSUSE 11.4) / x86_64  |  |  |  | 
| [moscato2] | 
Windows Server 2008 R2 Enterprise SP1 (64-bit) / x64  |  |  |  | 
| petty | 
Mac OS X Leopard (10.5.8) / i386  |  |  |  | 
 | 
| affycompData 1.1.3 | Harris Jaffee |  OK  |  OK  |  OK  | 
| affydata 1.11.16 | Harris Jaffee |  OK  |  WARNINGS  |  OK  | 
| AffymetrixDataTestFiles 0.1.4 | Henrik Bengtsson |  OK  |  OK  |  OK  | 
| ALL 1.4.12 | Robert Gentleman |  OK  |  OK  |  OK  | 
| ALLMLL 1.2.12 | B. M. Bolstad |  OK  |  OK  |  OK  | 
| AmpAffyExample 1.2.10 | Rafael A. Irizarry |  OK  |  WARNINGS  |  OK  | 
| beadarrayExampleData 1.0.4 | Mark Dunning |  OK  |  OK  |  OK  | 
| BeadArrayUseCases 1.0.8 | Mike Smith |  OK  |  OK  |  OK  | 
| beta7 1.0.3 | Jean Yang |  OK  |  WARNINGS  |  OK  | 
| bladderbatch 1.0.3 | Jeffrey T. Leek |  OK  |  WARNINGS  |  OK  | 
| breastCancerMAINZ 1.0.3 | Markus Schroeder , Benjamin Haibe-Kains |  OK  |  WARNINGS  |  OK  | 
| breastCancerNKI 1.0.3 | Markus Schroeder , Benjamin Haibe-Kains |  OK  |  WARNINGS  |  OK  | 
| breastCancerTRANSBIG 1.0.3 | Markus Schroeder , Benjamin Haibe-Kains |  OK  |  WARNINGS  |  OK  | 
| breastCancerUNT 1.0.3 | Markus Schroeder , Benjamin Haibe-Kains |  OK  |  WARNINGS  |  OK  | 
| breastCancerUPP 1.0.3 | Markus Schroeder , Benjamin Haibe-Kains |  OK  |  WARNINGS  |  OK  | 
| breastCancerVDX 1.0.3 | Markus Schroeder , Benjamin Haibe-Kains |  OK  |  WARNINGS  |  OK  | 
| bronchialIL13 1.0.9 | Vince Carey |  OK  |  OK  |  OK  | 
| cancerdata 1.1.0 | Daniel Kosztyla |  OK  |  OK  |  OK  | 
| CCl4 1.0.12 | Audrey Kauffmann |  OK  |  WARNINGS  |  OK  | 
| ccTutorial 1.0.21 | Joern Toedling |  OK  |  OK  |  OK  | 
| ceu1kg 0.0.30 | VJ Carey |  OK  |  OK  |  OK  | 
| ceuhm3 0.0.13 | VJ Carey |  OK  |  OK  |  OK  | 
| cgdv17 0.0.17 | VJ Carey |  OK  |  OK  |  OK  | 
| charmData 0.99.6 | Martin Aryee |  OK  |  WARNINGS  |  OK  | 
| cheung2010 0.0.25 | Vince Carey |  OK  |  OK  |  OK  | 
| CLL 1.2.12 | Robert Gentleman |  OK  |  OK  |  OK  | 
| cnvGSAdata 0.99.2 | Robert Ziman |  OK  |  OK  |  OK  | 
| colonCA 1.4.9 | W Sylvia Merk |  OK  |  WARNINGS  |  OK  | 
| davidTiling 1.2.15 | Wolfgang Huber |  OK  |  OK  |  OK  | 
| DLBCL 1.3.4 | Marcus Dittrich |  OK  |  WARNINGS  |  OK  | 
| dressCheck 0.1.5 | Vincent Carey |  OK  |  OK  |  OK  | 
| dsQTL 0.0.18 | VJ Carey |  OK  |  WARNINGS  |  OK  | 
| dyebiasexamples 1.0.8 | Philip Lijnzaad |  OK  |  WARNINGS  |  OK  | 
| EatonEtAlChIPseq 0.0.7 | Patrick Aboyoun |  OK  |  OK  |  OK  | 
| ecoliLeucine 1.2.8 | Laurent Gautier |  OK  |  WARNINGS  |  OK  | 
| encoDnaseI 0.1.14 | VJ Carey |  OK  |  OK  |  OK  | 
| estrogen 1.8.8 | R. Gentleman |  OK  |  OK  |  OK  | 
| faahKO 1.2.11 | Colin A. Smith |  OK  |  WARNINGS  |  OK  | 
| facsDorit 1.4.5 | Florian Hahne |  OK  |  OK  |  OK  | 
| ffpeExampleData 1.0.1 | Levi Waldron |  OK  |  OK  |  OK  | 
| fibroEset 1.4.7 | Sylvia Merk |  OK  |  WARNINGS  |  OK  | 
| flowWorkspaceData 0.99.7 | Greg Finak |  OK  |  OK  |  OK  | 
| frmaExampleData 0.99.3 | Matthew N. McCall |  OK  |  WARNINGS  |  OK  | 
| FunciSNP.data 0.99.0 | Simon G. Coetzee |  OK  |  OK  |  OK  | 
| gageData 1.1.4 | Weijun Luo |  OK  |  WARNINGS  |  OK  | 
| gaschYHS 1.0.9 | Vince Carey |  OK  |  OK  |  OK  | 
| gatingMLData 1.0.5 | Nishant Gopalakrishnan |  OK  |  OK  |  OK  | 
| gcspikelite 1.0.7 | Mark Robinson |  OK  |  WARNINGS  |  OK  | 
| geneLenDataBase 0.99.9 | Matthew Young , Nadia Davidson |  OK  |  WARNINGS  |  OK  | 
| GGdata 1.0.19 | VJ Carey |  OK  |  OK  |  OK  | 
| ggtut 0.0.42 | VJ Carey |  OK  |  OK  |  OK  | 
| golubEsets 1.4.11 | Vince Carey |  OK  |  OK  |  OK  | 
| GSVAdata 0.99.8 | Robert Castelo |  OK  |  OK  |  OK  | 
| GWASdata 1.0.5 | Stephanie Gogarten |  OK  |  WARNINGS  |  OK  | 
| hapmap100khind 1.3.35 | Benilton Carvalho |  OK  |  OK  |  OK  | 
| hapmap100kxba 1.3.6 | Benilton Carvalho |  OK  |  OK  |  OK  | 
| hapmap500knsp 1.3.6 | Benilton Carvalho |  OK  |  OK  |  OK  | 
| hapmap500ksty 1.3.6 | Benilton Carvalho |  OK  |  OK  |  OK  | 
| hapmapsnp5 1.3.6 | Benilton Carvalho |  OK  |  OK  |  OK  | 
| hapmapsnp6 1.3.7 | Benilton Carvalho |  OK  |  OK  |  OK  | 
| harbChIP 1.0.8 | VJ Carey |  OK  |  OK  |  OK  | 
| HEEBOdata 1.0.3 | Agnes Paquet |  OK  |  WARNINGS  |  OK  | 
| hgu133abarcodevecs 1.0.4 | Matthew N. McCall |  OK  |  OK  |  OK  | 
| hgu133plus2barcodevecs 1.0.4 | Matthew N. McCall |  OK  |  OK  |  OK  | 
| hgu2beta7 1.2.6 | Bioconductor Package Maintainer |  OK  |  WARNINGS  |  OK  | 
| HIVcDNAvantWout03 1.2.6 | Chris Fraley |  OK  |  OK  |  OK  | 
| hmyriB36 0.99.15 | Vincent Carey |  OK  |  OK  |  OK  | 
| humanStemCell 0.2.6 | R. Gentleman |  OK  |  WARNINGS  |  OK  | 
| IlluminaHumanMethylation450kmanifest 0.2.1 | Kasper Daniel Hansen |  OK  |  WARNINGS  |  OK  | 
| ind1KG 0.1.13 | VJ Carey |  OK  |  OK  |  OK  | 
| iontreeData 0.99.6 | Mingshu Cao |  OK  |  WARNINGS  |  OK  | 
| ITALICSData 2.0.5 | Guillem Rigaill |  OK  |  WARNINGS  |  OK  | 
| Iyer517 1.4.10 | Vince Carey |  OK  |  OK  |  OK  | 
| kidpack 1.5.10 | Wolfgang Huber |  OK  |  WARNINGS  |  OK  | 
| leeBamViews 0.99.19 | VJ Carey |  OK  |  OK  |  OK  | 
| LiebermanAidenHiC2009 0.1.12 | Felix Klein |  OK  |  WARNINGS  |  OK  | 
| lumiBarnes 1.3.8 | Pan Du |  OK  |  WARNINGS  |  OK  | 
| lungExpression 0.0.13 | Robert Scharpf |  OK  |  OK  |  OK  | 
| maqcExpression4plex 1.4.2 | Benilton Carvalho |  OK  |  OK  |  OK  | 
| MAQCsubset 1.0.25 | VJ Carey |  OK  |  OK  |  OK  | 
| MAQCsubsetAFX 1.0.7 | Laurent Gatto |  OK  |  WARNINGS  |  OK  | 
| MAQCsubsetILM 1.0.6 | Laurent Gatto |  OK  |  WARNINGS  |  OK  | 
| MEEBOdata 1.0.3 | Agnes Paquet |  OK  |  WARNINGS  |  OK  | 
| minfiData 0.3.0 | Kasper Daniel Hansen |  OK  |  OK  |  OK  | 
| miRNATarget 0.99.1 | Y-h. Taguchi |  OK  |  OK  |  OK  | 
| mosaicsExample 0.99.6 | Dongjun Chung |  OK  |  OK  |  OK  | 
| mouse4302barcodevecs 1.0.4 | Matthew N. McCall |  OK  |  OK  |  OK  | 
| msdata 0.1.10 | Steffen Neumann |  OK  |  WARNINGS  |  OK  | 
| Mulder2012 0.2.1 | Xin Wang |  OK  |  OK  |  OK  | 
| mvoutData 0.99.8 | VJ Carey |  OK  |  OK  |  OK  | 
| NCIgraphData 0.99.4 | Laurent Jacob |  OK  |  WARNINGS  |  OK  | 
| Neve2006 0.1.14 | VJ Carey |  OK  |  OK  |  OK  | 
| pasilla 0.2.13 | Alejandro Reyes |  OK  |  WARNINGS  |  OK  | 
| pasillaBamSubset 0.0.5 | H. Pages |  OK  |  OK  |  OK  | 
| pcaGoPromoter.Hs.hg19 0.99.2 | Morten Hansen, |  OK  |  OK  |  OK  | 
| pcaGoPromoter.Mm.mm9 0.99.2 | Morten Hansen, |  OK  |  OK  |  OK  | 
| pcaGoPromoter.Rn.rn4 0.99.2 | Morten Hansen, |  OK  |  OK  |  OK  | 
| ppiData 0.1.17 | Tony Chiang |  OK  |  WARNINGS  |  OK  | 
| PREDAsampledata 0.2.5 | Francesco Ferrari |  OK  |  WARNINGS  |  OK  | 
| ProData 1.0.6 | Xiaochun Li |  OK  |  OK  |  OK  | 
| pumadata 1.99.3 | Richard Pearson |  OK  |  WARNINGS  |  OK  | 
| rheumaticConditionWOLLBOLD 1.0.1 | Alejandro Quiroz-Zarate |  OK  |  OK  |  OK  | 
| RNAinteractMAPK 1.0.6 | Bernd Fischer |  OK  |  OK  |  OK  | 
| RnaSeqTutorial 0.0.10 | Nicolas Delhomme |  OK  |  OK  |  OK  | 
| serumStimulation 0.99.2 | Morten Hansen, |  OK  |  OK  |  OK  | 
| simpIntLists 0.99.2 | Kircicegi Korkmaz |  OK  |  WARNINGS  |  OK  | 
| SNAData 1.8.4 | Denise Scholtens |  OK  |  OK  |  OK  | 
| SpikeIn 1.4.8 | Rafael A. Irizarry |  OK  |  WARNINGS  |  OK  | 
| SpikeInSubset 1.2.11 | Rafael A. Irizarry |  OK  |  WARNINGS  |  OK  | 
| stjudem 1.2.7 | Joern Toedling |  OK  |  OK  |  OK  | 
| TargetSearchData 1.0.6 | Alvaro Cuadros-Inostroza |  OK  |  OK  |  OK  | 
| TCGAMethylation450k 0.99.2 | Sean Davis |  OK  |  OK  |  OK  | 
| tinesath1cdf 1.0.7 | Tine Casneuf |  OK  |  WARNINGS  |  OK  | 
| tinesath1probe 1.0.7 | Tine Casneuf |  OK  |  WARNINGS  |  OK  | 
| tweeDEseqCountData 1.0.6 | Juan R Gonzalez |  OK  |  OK  |  OK  | 
| waveTilingData 0.99.0 | Kristof De Beuf |  OK  |  OK  |  OK  | 
| XhybCasneuf 1.0.9 | Tineke Casneuf |  OK  |  WARNINGS  |  OK  | 
| yeastCC 1.2.16 | Sandrine Dudoit |  OK  |  WARNINGS  |  OK  | 
| yeastExpData 0.9.20 | R. Gentleman |  OK  |  WARNINGS  |  OK  | 
| yeastGSData 0.1.8 | R. Gentleman |  OK  |  WARNINGS  |  OK  | 
| yeastNagalakshmi 0.99.4 | Bioconductor Package Maintainer |  OK  |  OK  |  OK  | 
| yeastRNASeq 0.0.6 | J. Bullard |  OK  |  WARNINGS  |  OK  |