minfiData 0.3.0 Kasper Daniel Hansen
 | Snapshot Date: 2012-09-23 10:15:26 -0700 (Sun, 23 Sep 2012) |  | URL: https://hedgehog.fhcrc.org/bioc-data/trunk/experiment/pkgs/minfiData |  | Last Changed Rev: 2135 / Revision: 2159 |  | Last Changed Date: 2012-09-09 10:01:59 -0700 (Sun, 09 Sep 2012) |  
  | lamb2  | Linux (openSUSE 11.4) / x86_64  | [ OK ] |  OK  |  | 
| moscato2  | Windows Server 2008 R2 Enterprise SP1 (64-bit) / x64  |  OK  |  OK  |  OK  | 
| petty  | Mac OS X Leopard (10.5.8) / i386  |  OK  |  OK  |  OK  | 
* checking for file ‘minfiData/DESCRIPTION’ ... OK
* preparing ‘minfiData’:
* checking DESCRIPTION meta-information ... OK
* checking for LF line-endings in source and make files
* checking for empty or unneeded directories
* looking to see if a ‘data/datalist’ file should be added
* building ‘minfiData_0.3.0.tar.gz’