AffymetrixDataTestFiles 0.1.4 Henrik Bengtsson
 | Snapshot Date: 2012-09-23 10:15:26 -0700 (Sun, 23 Sep 2012) |  | URL: https://hedgehog.fhcrc.org/bioc-data/trunk/experiment/pkgs/AffymetrixDataTestFiles |  | Last Changed Rev: 2037 / Revision: 2159 |  | Last Changed Date: 2012-03-30 15:20:09 -0700 (Fri, 30 Mar 2012) |  
  | lamb2  | Linux (openSUSE 11.4) / x86_64  |  OK  |  OK  |  | 
| moscato2  | Windows Server 2008 R2 Enterprise SP1 (64-bit) / x64  |  OK  |  OK  |  OK  | 
| petty  | Mac OS X Leopard (10.5.8) / i386  | [ OK ] |  OK  |  OK  | 
* checking for file 'AffymetrixDataTestFiles/DESCRIPTION' ... OK
* preparing 'AffymetrixDataTestFiles':
* checking DESCRIPTION meta-information ... OK
* checking for LF line-endings in source and make files
* checking for empty or unneeded directories
* building 'AffymetrixDataTestFiles_0.1.4.tar.gz'
/usr/bin/gnutar: AffymetrixDataTestFiles/inst/annotationData/chipTypes/HG-Focus/3.ASCII/HG-Focus.CDF: file changed as we read it
/usr/bin/gnutar: AffymetrixDataTestFiles/inst/annotationData/chipTypes/Mapping10K_Xba131/1.XDA/Mapping10K_Xba131.CDF: file changed as we read it