| GLYPH TABLE - These are the glyphs used in this report to indicate the following package status: | 
| -  TIMEOUT | BUILD, CHECK or BUILD BIN of package took more than 40 minutes | 
| -  ERROR | BUILD, CHECK or BUILD BIN of package returned an error | 
| -  WARNINGS | CHECK of package produced warnings | 
| -  OK | BUILD, CHECK or BUILD BIN of package was OK | 
| - skipped | CHECK or BUILD BIN of package was skipped because the BUILD step failed (or because something bad happened with the Build System itself) | 
| Click on any glyph in the report below to see the status details (command output). | 
| [lamb1] | Linux (SUSE 10.1) | x86_64 |  |  |  | 
| wellington | Linux (SUSE 9.2) | i686 |  |  |  | 
| churchill | Solaris 2.9 | sparc |  |  |  | 
| lemming | Windows Server 2003 | x86_64 |  |  |  | 
|  | 
| ABarray 1.2.0 | Yongming Andrew Sun | OK | OK |  | 
| aCGH 1.8.0 | Jane Fridlyand | OK | OK |  | 
| adSplit 1.4.0 | Claudio Lottaz | OK | OK |  | 
| affxparser 1.6.2 | Kasper Daniel Hansen | OK | ERROR |  | 
| affy 1.12.2 | Rafael A. Irizarry | OK | OK |  | 
| affycomp 1.10.0 | Rafael A. Irizarry | OK | OK |  | 
| affycoretools 1.6.1 | James W. MacDonald | OK | OK |  | 
| affydata 1.10.0 | Laurent | OK | OK |  | 
| affyio 1.2.0 | Benjamin Milo Bolstad | OK | OK |  | 
| affylmGUI 1.8.0 | Keith Satterley | OK | OK |  | 
| affypdnn 1.8.1 | Laurent | OK | OK |  | 
| affyPLM 1.10.0 | Ben Bolstad | OK | OK |  | 
| affyQCReport 1.12.0 | Craig Parman | OK | OK |  | 
| altcdfenvs 1.8.0 | Laurent Gautier | OK | OK |  | 
| annaffy 1.6.2 | Colin A. Smith | OK | OK |  | 
| AnnBuilder 1.12.0 | J. Zhang | OK | OK |  | 
| annotate 1.12.1 | Biocore Team | OK | OK |  | 
| apComplex 1.8.0 | Denise Scholtens | OK | OK |  | 
| applera 1.4.0 | Francesca Cordero | OK | OK |  | 
| aroma.light 1.2.0 | Henrik Bengtsson | OK | OK |  | 
| arrayMagic 1.12.2 | Andreas Buness | OK | OK |  | 
| arrayQCplot 2.2.0 | Eun-kyung Lee | OK | OK |  | 
| arrayQuality 1.10.0 | A. Paquet | OK | OK |  | 
| beadarray 1.2.2 | Mark Dunning | OK | WARNINGS |  | 
| beadarraySNP 1.0.0 | Jan Oosting | OK | OK |  | 
| BeadExplorer 1.2.0 | Gareth Elvidge | OK | OK |  | 
| bim 1.01-5 | Brian S. Yandell | OK | OK |  | 
| Biobase 1.12.2 | Biocore Team | OK | OK |  | 
| biocViews 1.2.0 | Seth Falcon | OK | OK |  | 
| bioDist 1.6.0 | Biocore Team | OK | OK |  | 
| biomaRt 1.8.2 | Steffen Durinck | OK | OK |  | 
| BioMVCClass 1.2.0 | Elizabeth Whalen | OK | OK |  | 
| Biostrings 2.2.1 | H. Pages | OK | OK |  | 
| bridge 1.6.0 | Raphael Gottardo | OK | OK |  | 
| BSgenome 1.2.3 | H. Pages | OK | OK |  | 
| Category 2.0.3 | S. Falcon | OK | WARNINGS |  | 
| cellHTS 1.4.0 | Ligia Bras | OK | OK |  | 
| cghMCR 1.4.0 | J. Zhang | OK | OK |  | 
| ChromoViz 1.6.0 | Jihoon Kim | OK | OK |  | 
| clusterStab 1.6.0 | James W. MacDonald | OK | OK |  | 
| CoCiteStats 1.6.0 | R. Gentleman | OK | OK |  | 
| codelink 1.2.2 | Diego Diez | OK | OK |  | 
| convert 1.8.0 | Yee Hwa (Jean) Yang | OK | OK |  | 
| copa 1.2.0 | James W. MacDonald | OK | OK |  | 
| ctc 1.8.0 | Antoine Lucas | OK | OK |  | 
| daMA 1.6.0 | Jobst Landgrebe | OK | OK |  | 
| DEDS 1.6.0 | Yuanyuan Xiao | OK | OK |  | 
| diffGeneAnalysis 1.16.0 | Choudary Jagarlamudi | OK | OK |  | 
| DNAcopy 1.8.1 | E. S. Venkatraman | OK | OK |  | 
| DynDoc 1.12.0 | Biocore Team | OK | OK |  | 
| EBarrays 1.6.0 | Deepayan Sarkar | OK | OK |  | 
| EBImage 1.6.1 | Oleg Sklyar | ERROR | skipped |  | 
| ecolitk 1.6.0 | Laurent | OK | OK |  | 
| edd 1.12.0 | Vince Carey | OK | OK |  | 
| factDesign 1.8.0 | Denise Scholtens | OK | OK |  | 
| fdrame 1.6.0 | Effi Kenigsberg | OK | OK |  | 
| gaggle 1.2.0 | Paul Shannon | OK | ERROR |  | 
| gcrma 2.6.0 | Z. Wu | OK | OK |  | 
| genArise 1.10.0 | IFC Development Team | OK | OK |  | 
| genefilter 1.12.0 | Biocore Team | OK | OK |  | 
| GeneMeta 1.6.0 | Biocore Team | OK | OK |  | 
| geneplotter 1.12.0 | Biocore Team | OK | OK |  | 
| GeneR 2.4.0 | Y. d'Aubenton-Carafa | OK | OK |  | 
| geneRecommender 1.6.0 | Greg Hather | OK | OK |  | 
| GeneSpring 2.6.0 | Thon de Boer | OK | OK |  | 
| GeneTraffic 1.6.0 | Daniel Iordan | OK | OK |  | 
| GeneTS 2.12.0 | Korbinian Strimmer | OK | OK |  | 
| GEOquery 1.8.0 | Sean Davis | OK | OK |  | 
| gff3Plotter 1.10.0 | Oleg Sklyar | OK | OK |  | 
| GGtools 1.2.0 | stvjc | OK | OK |  | 
| GLAD 1.8.0 | Philippe Hupe | OK | OK |  | 
| GlobalAncova 2.4.0 | R. Meister | OK | OK |  | 
| globaltest 4.4.0 | Jelle Goeman | OK | OK |  | 
| GOstats 2.0.4 | S. Falcon | OK | WARNINGS |  | 
| goTools 1.6.0 | Agnes Paquet | OK | TIMEOUT |  | 
| gpls 1.6.0 | Biocore Team | OK | OK |  | 
| graph 1.12.1 | Seth Falcon | OK | OK |  | 
| GraphAT 1.6.0 | Thomas LaFramboise | OK | OK |  | 
| Harshlight 1.2.0 | Maurizio Pellegrino | OK | OK |  | 
| Heatplus 1.4.0 | Alexander Ploner | OK | OK |  | 
| HEM 1.6.0 | HyungJun Cho | OK | OK |  | 
| hexbin 1.8.0 | Nicholas Lewin-Koh | OK | OK |  | 
| hopach 1.8.0 | Katherine S. Pollard | OK | OK |  | 
| hypergraph 1.6.0 | Seth Falcon | OK | OK |  | 
| Icens 1.6.0 | Biocore Team | OK | OK |  | 
| idiogram 1.8.0 | Karl J. Dykema | OK | OK |  | 
| impute 1.6.0 | Balasubramanian Narasimhan | OK | ERROR |  | 
| iSNetwork 1.4.0 | Elizabeth Whalen | OK | WARNINGS |  | 
| iSPlot 1.8.0 | Elizabeth Whalen | OK | OK |  | 
| KEGGSOAP 1.8.3 | J. Zhang | OK | OK |  | 
| lapmix 1.0.0 | Yann Ruffieux | OK | OK |  | 
| limma 2.8.1 | Gordon Smyth | OK | OK |  | 
| limmaGUI 1.10.0 | Keith Satterley | OK | OK |  | 
| LMGene 1.2.0 | Geun Cheol Lee | OK | OK |  | 
| logicFS 1.4.0 | Holger Schwender | OK | OK |  | 
| LPE 1.8.0 | Nitin Jain | OK | OK |  | 
| maanova 1.4.0 | Lei Wu | OK | OK |  | 
| macat 1.8.0 | Joern Toedling | OK | OK |  | 
| maCorrPlot 1.4.0 | Alexander Ploner | OK | OK |  | 
| maDB 1.6.0 | Johannes Rainer | OK | OK |  | 
| made4 1.8.0 | Aedin Culhane | OK | OK |  | 
| makecdfenv 1.12.0 | James W. MacDonald | OK | OK |  | 
| MANOR 1.6.0 | Pierre Neuvial | OK | OK |  | 
| MantelCorr 1.4.0 | Brian Steinmeyer | OK | OK |  | 
| marray 1.12.0 | Yee Hwa (Jean) Yang | OK | WARNINGS |  | 
| maSigPro 1.6.0 | Ana Conesa | OK | OK |  | 
| matchprobes 1.6.0 | Biocore Team | ERROR | skipped |  | 
| MCRestimate 1.8.0 | Markus Ruschhaupt | OK | OK |  | 
| MeasurementError.cor 1.6.0 | Beiying Ding | OK | OK |  | 
| MergeMaid 2.6.0 | Xiaogang Zhong | OK | OK |  | 
| metaArray 1.6.0 | Hyungwon Choi | OK | OK |  | 
| Mfuzz 1.2.0 | Matthias Futschik | OK | OK |  | 
| MLInterfaces 1.8.1 | V. Carey | OK | OK |  | 
| mmgmos 1.6.0 | Xuejun Liu | OK | OK |  | 
| multtest 1.12.0 | Katherine S. Pollard | OK | OK |  | 
| MVCClass 1.8.0 | Elizabeth Whalen | OK | OK |  | 
| nem 1.2.0 | Florian Markowetz | OK | OK |  | 
| nnNorm 1.10.0 | Tarca Laurentiu | OK | OK |  | 
| nudge 1.4.0 | N. Dean | OK | OK |  | 
| OCplus 1.8.0 | Alexander Ploner | OK | OK |  | 
| OLIN 1.10.0 | Matthias Futschik | OK | OK |  | 
| OLINgui 1.8.0 | Matthias Futschik | OK | OK |  | 
| ontoTools 1.10.0 | Vince Carey | OK | OK |  | 
| OrderedList 1.6.0 | Claudio Lottaz | OK | OK |  | 
| pairseqsim 1.8.0 | Witold Wolski | OK | OK |  | 
| pamr 1.32.0 | Rob TIbshirani | OK | OK |  | 
| panp 1.4.0 | Peter Warren | OK | OK |  | 
| pathRender 1.2.0 | Li Long | OK | OK |  | 
| pcaMethods 1.2.3 | Wolfram Stacklies | OK | OK |  | 
| pcot2 1.2.0 | Sarah Song | OK | OK |  | 
| pdmclass 1.6.0 | James W. MacDonald | OK | OK |  | 
| pgUtils 1.6.0 | Johannes Rainer | OK | OK |  | 
| pickgene 1.6.0 | Brian S. Yandell | OK | OK |  | 
| pkgDepTools 1.0.1 | Seth Falcon | OK | OK |  | 
| plgem 1.6.0 | Mattia Pelizzola | OK | OK |  | 
| plier 1.4.0 | Crispin Miller | OK | OK |  | 
| ppiStats 1.0.0 | Tony Chiang | OK | OK |  | 
| prada 1.10.1 | Florian Hahne | OK | OK |  | 
| PROcess 1.10.0 | Xiaochun Li | OK | OK |  | 
| quantsmooth 1.0.0 | Jan Oosting | OK | OK |  | 
| qvalue 1.8.0 | John D. Storey | OK | OK |  | 
| rama 1.6.0 | Raphael Gottardo | OK | OK |  | 
| RankProd 2.6.0 | Fangxin Hong | OK | OK |  | 
| RbcBook1 1.2.0 | Vince Carey | OK | OK |  | 
| RBGL 1.10.0 | Li Long | OK | OK |  | 
| Rdbi 1.8.0 | Jianhua Zhang | OK | OK |  | 
| RdbiPgSQL 1.8.0 | Jianhua Zhang | OK | OK |  | 
| reb 1.6.0 | Karl J. Dykema | OK | OK |  | 
| Resourcerer 1.8.0 | Jianhua Zhang | OK | OK |  | 
| rflowcyt 1.6.0 | N. Le Meur | OK | WARNINGS |  | 
| Rgraphviz 1.12.3 | Jeff Gentry | OK | OK |  | 
| RMAGEML 2.8.0 | Steffen Durinck | ERROR | skipped |  | 
| RMAPPER 1.4.0 | VJ Carey | OK | OK |  | 
| ROC 1.8.0 | Vince Carey | OK | OK |  | 
| Rredland 1.2.0 | VJ Carey | OK | OK |  | 
| RSNPper 1.8.0 | VJ Carey | OK | OK |  | 
| Ruuid 1.12.0 | Biocore Team | OK | OK |  | 
| safe 1.6.0 | William T. Barry | OK | OK |  | 
| SAGElyzer 1.12.0 | Jianhua Zhang | OK | OK |  | 
| sagenhaft 1.6.0 | Tim Beissbarth | OK | OK |  | 
| SAGx 1.7.1 | Per Broberg | OK | OK |  | 
| SBMLR 1.28.0 | Tomas Radivoyevitch | OK | OK |  | 
| ScISI 1.4.0 | Tony Chiang | OK | OK |  | 
| siggenes 1.8.0 | Holger Schwender | OK | OK |  | 
| sigPathway 1.2.0 | Weil Lai | OK | OK |  | 
| simpleaffy 2.8.0 | Crispin Miller | OK | WARNINGS |  | 
| simulatorAPMS 1.6.0 | Tony Chiang | OK | OK |  | 
| sizepower 1.4.0 | Weiliang Qiu | OK | OK |  | 
| snapCGH 1.2.0 | Mike Smith | OK | OK |  | 
| spikeLI 1.2.0 | Enrico Carlon | OK | OK |  | 
| splicegear 1.6.0 | Laurent | OK | OK |  | 
| splots 1.2.0 | Oleg Sklyar | OK | OK |  | 
| spotSegmentation 1.9.0 | Chris Fraley | OK | OK |  | 
| sscore 1.6.0 | Richard Kennedy | ERROR | skipped |  | 
| ssize 1.6.0 | Gregory R. Warnes | OK | OK |  | 
| stam 1.6.0 | Claudio Lottaz | OK | OK |  | 
| stepNorm 1.6.0 | Yuanyuan Xiao | OK | OK |  | 
| tilingArray 1.12.0 | W. Huber | OK | OK |  | 
| timecourse 1.6.0 | Yu Chuan Tai | OK | OK |  | 
| tkWidgets 1.12.2 | J. Zhang | OK | OK |  | 
| twilight 1.10.0 | Stefanie Scheid | OK | OK |  | 
| TypeInfo 1.0.0 | Duncan Temple Lang | OK | OK |  | 
| vsn 1.12.0 | Wolfgang Huber | OK | WARNINGS |  | 
| weaver 1.0.1 | Seth Falcon | OK | OK |  | 
| webbioc 1.6.0 | Colin A. Smith | OK | OK |  | 
| widgetInvoke 1.6.0 | Jeff Gentry | OK | OK |  | 
| widgetTools 1.10.0 | Jianhua Zhang | OK | OK |  | 
| xcms 1.6.1 | Colin A. Smith | OK | OK |  |