Back to the "Multiple platform build/check report"
| Package 90/188 | Hostname | OS | Arch | BUILD | CHECK | BUILD BIN |
KEGGSOAP1.8.3J. ZhangLast Changed Date: 2006-11-30 14:05:25 -0800 Last Changed Rev: 21324 | lamb1 | Linux (SUSE 10.1) | x86_64 | [ OK ] | OK | |
| wellington | Linux (SUSE 9.2) | i686 | OK | OK | ||
| churchill | Solaris 2.9 | sparc | OK | OK | ||
| lemming | Windows Server 2003 | x86_64 | OK | OK | OK |
| Package: KEGGSOAP |
| Version: 1.8.3 |
| Command: /home/biocbuild/bbs-1.9/R/bin/R CMD build KEGGSOAP |
| RetCode: 0 |
| Time: 1.5 seconds |
| Status: OK |
| PackageFile: KEGGSOAP_1.8.3.tar.gz |
* checking for file 'KEGGSOAP/DESCRIPTION' ... OK * preparing 'KEGGSOAP': * checking DESCRIPTION meta-information ... OK * removing junk files * checking for LF line-endings in source files * checking for empty or unneeded directories * building 'KEGGSOAP_1.8.3.tar.gz'