Back to the "Multiple platform build/check report"
| Package 72/188 | Hostname | OS | Arch | BUILD | CHECK | BUILD BIN |
GlobalAncova2.4.0R. MeisterLast Changed Date: 2006-10-03 12:16:03 -0700 Last Changed Rev: 20373 | lamb1 | Linux (SUSE 10.1) | x86_64 | [ OK ] | OK | |
| wellington | Linux (SUSE 9.2) | i686 | OK | OK | ||
| churchill | Solaris 2.9 | sparc | OK | OK | ||
| lemming | Windows Server 2003 | x86_64 | OK | OK | OK |
| Package: GlobalAncova |
| Version: 2.4.0 |
| Command: /home/biocbuild/bbs-1.9/R/bin/R CMD build GlobalAncova |
| RetCode: 0 |
| Time: 67.8 seconds |
| Status: OK |
| PackageFile: GlobalAncova_2.4.0.tar.gz |
* checking for file 'GlobalAncova/DESCRIPTION' ... OK
* preparing 'GlobalAncova':
* checking DESCRIPTION meta-information ... OK
* installing the package to re-build vignettes
* Installing *source* package 'GlobalAncova' ...
** R
** data
** inst
** preparing package for lazy loading
** help
>>> Building/Updating help pages for package 'GlobalAncova'
Formats: text html latex example
GlobalAncova-methods text html latex
GlobalAncova text html latex example
GlobalAncova.closed-methods text html latex
GlobalAncova.closed text html latex
Plot.genes-methods text html latex
Plot.genes text html latex example
Plot.subjects-methods text html latex
Plot.subjects text html latex example
pathways text html latex example
phenodata text html latex example
vantVeer text html latex example
** building package indices ...
* DONE (GlobalAncova)
* creating vignettes ... OK
* removing junk files
* checking for LF line-endings in source files
* checking for empty or unneeded directories
* building 'GlobalAncova_2.4.0.tar.gz'