Back to the "Multiple platform build/check report"
| Package 69/188 | Hostname | OS | Arch | BUILD | CHECK | BUILD BIN |
gff3Plotter1.10.0Oleg SklyarLast Changed Date: 2006-10-03 12:16:03 -0700 Last Changed Rev: 20373 | lamb1 | Linux (SUSE 10.1) | x86_64 | [ OK ] | OK | |
| wellington | Linux (SUSE 9.2) | i686 | OK | OK | ||
| churchill | Solaris 2.9 | sparc | OK | OK | ||
| lemming | Windows Server 2003 | x86_64 | OK | OK | OK |
| Package: gff3Plotter |
| Version: 1.10.0 |
| Command: /home/biocbuild/bbs-1.9/R/bin/R CMD build gff3Plotter |
| RetCode: 0 |
| Time: 3.5 seconds |
| Status: OK |
| PackageFile: gff3Plotter_1.10.0.tar.gz |
* checking for file 'gff3Plotter/DESCRIPTION' ... OK
* preparing 'gff3Plotter':
* checking DESCRIPTION meta-information ... OK
* installing the package to re-build vignettes
* Installing *source* package 'gff3Plotter' ...
** R
** inst
** save image
[1] "plot.gff"
[1] "plot.gff"
** help
>>> Building/Updating help pages for package 'gff3Plotter'
Formats: text html latex example
getAttr text html latex example
getTickCoords text html latex example
internals text html latex
plot.gff text html latex example
plot.gff.toFile text html latex example
read.gff text html latex example
** building package indices ...
* DONE (gff3Plotter)
* creating vignettes ... OK
* removing junk files
* checking for LF line-endings in source files
* checking for empty or unneeded directories
* building 'gff3Plotter_1.10.0.tar.gz'