Back to the "Multiple platform build/check report"
| Package 179/188 | Hostname | OS | Arch | BUILD | CHECK | BUILD BIN |
timecourse1.6.0Yu Chuan TaiLast Changed Date: 2006-10-03 12:16:03 -0700 Last Changed Rev: 20373 | lamb1 | Linux (SUSE 10.1) | x86_64 | OK | [ OK ] | |
| wellington | Linux (SUSE 9.2) | i686 | OK | OK | ||
| churchill | Solaris 2.9 | sparc | OK | OK | ||
| lemming | Windows Server 2003 | x86_64 | OK | OK | OK |
| Package: timecourse |
| Version: 1.6.0 |
| Command: /home/biocbuild/bbs-1.9/R/bin/R CMD check timecourse_1.6.0.tar.gz |
| RetCode: 0 |
| Time: 59.5 seconds |
| Status: OK |
| CheckDir: timecourse.Rcheck |
| Warnings: 0 |
* checking for working latex ... OK * using log directory '/home/biocbuild/bbs-1.9/meat/timecourse.Rcheck' * using R version 2.4.1 (2006-12-18) * checking for file 'timecourse/DESCRIPTION' ... OK * this is package 'timecourse' version '1.6.0' * checking package dependencies ... OK * checking if this is a source package ... OK * checking whether package 'timecourse' can be installed ... OK * checking package directory ... OK * checking for portable file names ... OK * checking for sufficient/correct file permissions ... OK * checking DESCRIPTION meta-information ... OK * checking top-level files ... OK * checking index information ... OK * checking package subdirectories ... OK * checking R files for syntax errors ... OK * checking R files for non-ASCII characters ... OK * checking whether the package can be loaded ... OK * checking whether the package can be loaded with stated dependencies ... OK * checking S3 generic/method consistency ... OK * checking replacement functions ... OK * checking foreign function calls ... OK * checking R code for possible problems ... OK * checking Rd files ... OK * checking Rd cross-references ... OK * checking for missing documentation entries ... OK * checking for code/documentation mismatches ... OK * checking Rd \usage sections ... OK * creating timecourse-Ex.R ... OK * checking examples ... OK * checking package vignettes in 'inst/doc' ... OK * creating timecourse-manual.tex ... OK * checking timecourse-manual.tex ... OK
timecourse.Rcheck/00install.out:
* Installing *source* package 'timecourse' ...
** R
** data
** inst
** preparing package for lazy loading
Loading required package: limma
Loading required package: MASS
Loading required package: Biobase
Loading required package: tools
Welcome to Bioconductor
Vignettes contain introductory material. To view, type
'openVignette()' or start with 'help(Biobase)'. For details
on reading vignettes, see the openVignette help page.
** help
>>> Building/Updating help pages for package 'timecourse'
Formats: text html latex example
abs2ratio text html latex
fruitfly text html latex
marrayTC-class text html latex
matrix.cov text html latex
mb.MANOVA text html latex example
mb.long text html latex example
ot.helmert text html latex
plotProfile text html latex
univ.func text html latex
** building package indices ...
* DONE (timecourse)