Back to the "Multiple platform build/check report"
| Package 110/188 | Hostname | OS | Arch | BUILD | CHECK | BUILD BIN |
MergeMaid2.6.0Xiaogang ZhongLast Changed Date: 2006-10-03 12:16:03 -0700 Last Changed Rev: 20373 | lamb1 | Linux (SUSE 10.1) | x86_64 | OK | [ OK ] | |
| wellington | Linux (SUSE 9.2) | i686 | OK | OK | ||
| churchill | Solaris 2.9 | sparc | OK | OK | ||
| lemming | Windows Server 2003 | x86_64 | OK | OK | OK |
| Package: MergeMaid |
| Version: 2.6.0 |
| Command: /home/biocbuild/bbs-1.9/R/bin/R CMD check MergeMaid_2.6.0.tar.gz |
| RetCode: 0 |
| Time: 89.5 seconds |
| Status: OK |
| CheckDir: MergeMaid.Rcheck |
| Warnings: 0 |
* checking for working latex ... OK * using log directory '/home/biocbuild/bbs-1.9/meat/MergeMaid.Rcheck' * using R version 2.4.1 (2006-12-18) * checking for file 'MergeMaid/DESCRIPTION' ... OK * this is package 'MergeMaid' version '2.6.0' * checking package dependencies ... OK * checking if this is a source package ... OK * checking whether package 'MergeMaid' can be installed ... OK * checking package directory ... OK * checking for portable file names ... OK * checking for sufficient/correct file permissions ... OK * checking DESCRIPTION meta-information ... OK * checking top-level files ... OK * checking index information ... OK * checking package subdirectories ... OK * checking R files for syntax errors ... OK * checking R files for non-ASCII characters ... OK * checking whether the package can be loaded ... OK * checking whether the package can be loaded with stated dependencies ... OK * checking S3 generic/method consistency ... OK * checking replacement functions ... OK * checking foreign function calls ... OK * checking R code for possible problems ... OK * checking Rd files ... OK * checking Rd cross-references ... OK * checking for missing documentation entries ... OK * checking for code/documentation mismatches ... OK * checking Rd \usage sections ... OK * creating MergeMaid-Ex.R ... OK * checking examples ... OK * checking package vignettes in 'inst/doc' ... OK * creating MergeMaid-manual.tex ... OK * checking MergeMaid-manual.tex ... OK
MergeMaid.Rcheck/00install.out:
* Installing *source* package 'MergeMaid' ...
** R
** data
** inst
** preparing package for lazy loading
Loading required package: survival
Loading required package: splines
Loading required package: Biobase
Loading required package: tools
Welcome to Bioconductor
Vignettes contain introductory material. To view, type
'openVignette()' or start with 'help(Biobase)'. For details
on reading vignettes, see the openVignette help page.
Loading required package: MASS
** help
>>> Building/Updating help pages for package 'MergeMaid'
Formats: text html latex example
class.mergeCoeff text html latex example
class.mergeCor text html latex example
class.mergeExpressionSet text html latex example
intCor text html latex example
intcorDens text html latex example
intersection text html latex example
mergeData text html latex
mergeExprs text html latex example
modelOutcome text html latex example
** building package indices ...
* DONE (MergeMaid)