Back to the "Multiple platform build/check report"
| Package 24/188 | Hostname | OS | Arch | BUILD | CHECK | BUILD BIN |
beadarray1.2.2Mark DunningLast Changed Date: 2006-11-06 09:55:43 -0800 Last Changed Rev: 21004 | lamb1 | Linux (SUSE 10.1) | x86_64 | [ OK ] | WARNINGS | |
| wellington | Linux (SUSE 9.2) | i686 | OK | WARNINGS | ||
| churchill | Solaris 2.9 | sparc | OK | WARNINGS | ||
| lemming | Windows Server 2003 | x86_64 | OK | WARNINGS | OK |
| Package: beadarray |
| Version: 1.2.2 |
| Command: /home/biocbuild/bbs-1.9/R/bin/R CMD build beadarray |
| RetCode: 0 |
| Time: 2.5 seconds |
| Status: OK |
| PackageFile: beadarray_1.2.2.tar.gz |
* checking for file 'beadarray/DESCRIPTION' ... OK
* preparing 'beadarray':
* checking DESCRIPTION meta-information ... OK
* cleaning src
* removing junk files
* checking for LF line-endings in source files
file 'beadarray/src/BLImagePlot.c' had CRLF line endings
* checking for empty or unneeded directories
* building 'beadarray_1.2.2.tar.gz'