Back to Build/check report for BioC 3.23:   simplified   long
AB[C]DEFGHIJKLMNOPQRSTUVWXYZ

This page was generated on 2025-11-05 11:32 -0500 (Wed, 05 Nov 2025).

HostnameOSArch (*)R versionInstalled pkgs
nebbiolo1Linux (Ubuntu 24.04.3 LTS)x86_64R Under development (unstable) (2025-10-20 r88955) -- "Unsuffered Consequences" 4818
Click on any hostname to see more info about the system (e.g. compilers)      (*) as reported by 'uname -p', except on Windows and Mac OS X

All results for package ComplexHeatmap


To the developers/maintainers of the ComplexHeatmap package:
- Allow up to 24 hours (and sometimes 48 hours) for your latest push to git@git.bioconductor.org:packages/ComplexHeatmap.git to reflect on this report. See Troubleshooting Build Report for more information.
- Use the following Renviron settings to reproduce errors and warnings.
- If 'R CMD check' started to fail recently on the Linux builder(s) over a missing dependency, add the missing dependency to 'Suggests:' in your DESCRIPTION file. See Renviron.bioc for more information.

raw results

Package 422/2323HostnameOS / ArchINSTALLBUILDCHECKBUILD BIN
ComplexHeatmap 2.27.0  (landing page)
Zuguang Gu
Snapshot Date: 2025-11-04 13:40 -0500 (Tue, 04 Nov 2025)
git_url: https://git.bioconductor.org/packages/ComplexHeatmap
git_branch: devel
git_last_commit: 4b45578
git_last_commit_date: 2025-10-29 10:25:04 -0500 (Wed, 29 Oct 2025)
nebbiolo1Linux (Ubuntu 24.04.3 LTS) / x86_64  OK    OK    OK  UNNEEDED, same version is already published



Results for Bioconductor software packages that depend directly on package ComplexHeatmap

QUICK STATSOS / ArchINSTALLBUILDCHECKBUILD BIN
nebbiolo1Linux (Ubuntu 24.04.3 LTS) / x86_64
0197
0395
02786
Package 1/98HostnameOS / ArchINSTALLBUILDCHECKBUILD BIN
airpart 1.19.0  (landing page)
Wancen Mu
git_last_commit: b69681a
git_last_commit_date: 2025-10-29 11:07:36 -0500
nebbiolo1Linux (Ubuntu 24.04.3 LTS) / x86_64  OK    OK    OK  UNNEEDED, same version is already published
Package 2/98HostnameOS / ArchINSTALLBUILDCHECKBUILD BIN
AMARETTO 1.27.0  (landing page)
Olivier Gevaert
git_last_commit: 87c41a4
git_last_commit_date: 2025-10-29 10:50:47 -0500
nebbiolo1Linux (Ubuntu 24.04.3 LTS) / x86_64  OK    OK    WARNINGS  UNNEEDED, same version is already published
Package 3/98HostnameOS / ArchINSTALLBUILDCHECKBUILD BIN
ASURAT 1.15.0  (landing page)
Keita Iida
git_last_commit: 8ae6e6f
git_last_commit_date: 2025-10-29 11:15:46 -0500
nebbiolo1Linux (Ubuntu 24.04.3 LTS) / x86_64  OK    OK    OK  UNNEEDED, same version is already published
Package 4/98HostnameOS / ArchINSTALLBUILDCHECKBUILD BIN
barbieQ 1.3.0  (landing page)
Liyang Fei
git_last_commit: 7a0202b
git_last_commit_date: 2025-10-29 11:36:03 -0500
nebbiolo1Linux (Ubuntu 24.04.3 LTS) / x86_64  OK    OK    OK  UNNEEDED, same version is already published
Package 5/98HostnameOS / ArchINSTALLBUILDCHECKBUILD BIN
bettr 1.7.0  (landing page)
Charlotte Soneson
git_last_commit: b97c673
git_last_commit_date: 2025-10-29 11:28:28 -0500
nebbiolo1Linux (Ubuntu 24.04.3 LTS) / x86_64  OK    OK    OK  UNNEEDED, same version is already published
Package 6/98HostnameOS / ArchINSTALLBUILDCHECKBUILD BIN
BindingSiteFinder 2.9.0  (landing page)
Mirko Brüggemann
git_last_commit: 885c4f6
git_last_commit_date: 2025-10-29 11:10:55 -0500
nebbiolo1Linux (Ubuntu 24.04.3 LTS) / x86_64  OK    OK    OK  YES
Package 7/98HostnameOS / ArchINSTALLBUILDCHECKBUILD BIN
BioNERO 1.19.0  (landing page)
Fabricio Almeida-Silva
git_last_commit: 632a85b
git_last_commit_date: 2025-10-29 11:07:25 -0500
nebbiolo1Linux (Ubuntu 24.04.3 LTS) / x86_64  OK    OK    OK  UNNEEDED, same version is already published
Package 8/98HostnameOS / ArchINSTALLBUILDCHECKBUILD BIN
blacksheepr 1.25.0  (landing page)
RugglesLab
git_last_commit: 0a6ceb6
git_last_commit_date: 2025-10-29 10:54:55 -0500
nebbiolo1Linux (Ubuntu 24.04.3 LTS) / x86_64  OK    OK    OK  UNNEEDED, same version is already published
Package 9/98HostnameOS / ArchINSTALLBUILDCHECKBUILD BIN
BloodGen3Module 1.19.0  (landing page)
Darawan Rinchai
git_last_commit: 825e116
git_last_commit_date: 2025-10-29 11:09:33 -0500
nebbiolo1Linux (Ubuntu 24.04.3 LTS) / x86_64  OK    OK    WARNINGS  UNNEEDED, same version is already published
Package 10/98HostnameOS / ArchINSTALLBUILDCHECKBUILD BIN
BreastSubtypeR 1.3.0  (landing page)
Qiao Yang
git_last_commit: 208bd46
git_last_commit_date: 2025-10-29 11:36:09 -0500
nebbiolo1Linux (Ubuntu 24.04.3 LTS) / x86_64  OK    OK    OK  UNNEEDED, same version is already published
Package 11/98HostnameOS / ArchINSTALLBUILDCHECKBUILD BIN
BulkSignalR 1.3.0  (landing page)
Jean-Philippe Villemin
git_last_commit: 9cefe87
git_last_commit_date: 2025-10-29 11:33:26 -0500
nebbiolo1Linux (Ubuntu 24.04.3 LTS) / x86_64  OK    OK    OK  UNNEEDED, same version is already published
Package 12/98HostnameOS / ArchINSTALLBUILDCHECKBUILD BIN
CATALYST 1.35.0  (landing page)
Helena L. Crowell
git_last_commit: 2e03f66
git_last_commit_date: 2025-10-29 10:38:04 -0500
nebbiolo1Linux (Ubuntu 24.04.3 LTS) / x86_64  OK    OK    OK  UNNEEDED, same version is already published
Package 13/98HostnameOS / ArchINSTALLBUILDCHECKBUILD BIN
CCPlotR 1.9.0  (landing page)
Sarah Ennis
git_last_commit: 18aee23
git_last_commit_date: 2025-10-29 11:25:49 -0500
nebbiolo1Linux (Ubuntu 24.04.3 LTS) / x86_64  OK    OK    OK  UNNEEDED, same version is already published
Package 14/98HostnameOS / ArchINSTALLBUILDCHECKBUILD BIN
celda 1.27.0  (landing page)
Joshua Campbell
git_last_commit: 9bcee6f
git_last_commit_date: 2025-10-29 10:52:12 -0500
nebbiolo1Linux (Ubuntu 24.04.3 LTS) / x86_64  OK    OK    OK  YES
Package 15/98HostnameOS / ArchINSTALLBUILDCHECKBUILD BIN
CeTF 1.23.0  (landing page)
Carlos Alberto Oliveira de Biagi Junior
git_last_commit: d8786fc
git_last_commit_date: 2025-10-29 10:56:07 -0500
nebbiolo1Linux (Ubuntu 24.04.3 LTS) / x86_64  OK    OK    OK  UNNEEDED, same version is already published
Package 16/98HostnameOS / ArchINSTALLBUILDCHECKBUILD BIN
chevreulPlot 1.3.0  (landing page)
Kevin Stachelek
git_last_commit: a18fe12
git_last_commit_date: 2025-10-29 11:34:14 -0500
nebbiolo1Linux (Ubuntu 24.04.3 LTS) / x86_64  OK    OK    OK  YES
Package 17/98HostnameOS / ArchINSTALLBUILDCHECKBUILD BIN
chevreulShiny 1.3.0  (landing page)
Kevin Stachelek
git_last_commit: 7845161
git_last_commit_date: 2025-10-29 11:34:20 -0500
nebbiolo1Linux (Ubuntu 24.04.3 LTS) / x86_64  OK    OK    OK  NO, package depends on 'EnhancedVolcano' which is not available
Package 18/98HostnameOS / ArchINSTALLBUILDCHECKBUILD BIN
ClustAll 1.7.0  (landing page)
Asier Ortega-Legarreta
git_last_commit: e78dc53
git_last_commit_date: 2025-10-29 11:29:16 -0500
nebbiolo1Linux (Ubuntu 24.04.3 LTS) / x86_64  OK    OK    OK  UNNEEDED, same version is already published
Package 19/98HostnameOS / ArchINSTALLBUILDCHECKBUILD BIN
COCOA 2.25.0  (landing page)
John Lawson
git_last_commit: a245a29
git_last_commit_date: 2025-10-29 10:48:30 -0500
nebbiolo1Linux (Ubuntu 24.04.3 LTS) / x86_64  OK    OK    OK  YES
Package 20/98HostnameOS / ArchINSTALLBUILDCHECKBUILD BIN
cola 2.17.0  (landing page)
Zuguang Gu
git_last_commit: 7589392
git_last_commit_date: 2025-10-29 10:49:39 -0500
nebbiolo1Linux (Ubuntu 24.04.3 LTS) / x86_64  OK    OK    OK  UNNEEDED, same version is already published
Package 21/98HostnameOS / ArchINSTALLBUILDCHECKBUILD BIN
COTAN 2.11.0  (landing page)
Galfrè Silvia Giulia
git_last_commit: cf71097
git_last_commit_date: 2025-10-29 11:14:37 -0500
nebbiolo1Linux (Ubuntu 24.04.3 LTS) / x86_64  OK    OK    OK  UNNEEDED, same version is already published
Package 22/98HostnameOS / ArchINSTALLBUILDCHECKBUILD BIN
CRISPRball 1.7.0  (landing page)
Jared Andrews
git_last_commit: 43680fe
git_last_commit_date: 2025-10-29 11:27:09 -0500
nebbiolo1Linux (Ubuntu 24.04.3 LTS) / x86_64  OK    OK    OK  NO, package depends on 'PCAtools' which is not available
Package 23/98HostnameOS / ArchINSTALLBUILDCHECKBUILD BIN
CTexploreR 1.7.0  (landing page)
Axelle Loriot
git_last_commit: db48290
git_last_commit_date: 2025-10-29 11:26:51 -0500
nebbiolo1Linux (Ubuntu 24.04.3 LTS) / x86_64  OK    OK    OK  UNNEEDED, same version is already published
Package 24/98HostnameOS / ArchINSTALLBUILDCHECKBUILD BIN
cytoKernel 1.17.0  (landing page)
Tusharkanti Ghosh
git_last_commit: 25ec3e0
git_last_commit_date: 2025-10-29 11:12:20 -0500
nebbiolo1Linux (Ubuntu 24.04.3 LTS) / x86_64  OK    OK    OK  UNNEEDED, same version is already published
Package 25/98HostnameOS / ArchINSTALLBUILDCHECKBUILD BIN
Damsel 1.7.0  (landing page)
Caitlin Page
git_last_commit: 4c35e04
git_last_commit_date: 2025-10-29 11:29:38 -0500
nebbiolo1Linux (Ubuntu 24.04.3 LTS) / x86_64  OK    OK    WARNINGS  YES
Package 26/98HostnameOS / ArchINSTALLBUILDCHECKBUILD BIN
dar 1.7.0  (landing page)
Francesc Catala-Moll
git_last_commit: 6a93481
git_last_commit_date: 2025-10-29 11:27:31 -0500
nebbiolo1Linux (Ubuntu 24.04.3 LTS) / x86_64  OK    OK    OK  UNNEEDED, same version is already published
Package 27/98HostnameOS / ArchINSTALLBUILDCHECKBUILD BIN
DEGreport 1.47.0  (landing page)
Lorena Pantano
git_last_commit: 792957e
git_last_commit_date: 2025-10-29 10:19:57 -0500
nebbiolo1Linux (Ubuntu 24.04.3 LTS) / x86_64  OK    OK    OK  UNNEEDED, same version is already published
Package 28/98HostnameOS / ArchINSTALLBUILDCHECKBUILD BIN
diffcyt 1.31.0  (landing page)
Lukas M. Weber
git_last_commit: 5b52099
git_last_commit_date: 2025-10-29 10:44:30 -0500
nebbiolo1Linux (Ubuntu 24.04.3 LTS) / x86_64  OK    OK    OK  UNNEEDED, same version is already published
Package 29/98HostnameOS / ArchINSTALLBUILDCHECKBUILD BIN
diffUTR 1.19.0  (landing page)
Pierre-Luc Germain
git_last_commit: 2f86b30
git_last_commit_date: 2025-10-29 11:09:14 -0500
nebbiolo1Linux (Ubuntu 24.04.3 LTS) / x86_64  OK    OK    OK  YES
Package 30/98HostnameOS / ArchINSTALLBUILDCHECKBUILD BIN
dinoR 1.7.0  (landing page)
Michaela Schwaiger
git_last_commit: ad3d7ac
git_last_commit_date: 2025-10-29 11:28:52 -0500
nebbiolo1Linux (Ubuntu 24.04.3 LTS) / x86_64  OK    OK    OK  UNNEEDED, same version is already published
Package 31/98HostnameOS / ArchINSTALLBUILDCHECKBUILD BIN
dominoSignal 1.5.0  (landing page)
Jacob T Mitchell
git_last_commit: a76eebf
git_last_commit_date: 2025-10-29 11:31:35 -0500
nebbiolo1Linux (Ubuntu 24.04.3 LTS) / x86_64  OK    OK    OK  UNNEEDED, same version is already published
Package 32/98HostnameOS / ArchINSTALLBUILDCHECKBUILD BIN
ELMER 2.35.0  (landing page)
Tiago Chedraoui Silva
git_last_commit: 642227c
git_last_commit_date: 2025-10-29 10:26:17 -0500
nebbiolo1Linux (Ubuntu 24.04.3 LTS) / x86_64  OK    ERROR  skipped
Package 33/98HostnameOS / ArchINSTALLBUILDCHECKBUILD BIN
ELViS 1.3.0  (landing page)
Jin-Young Lee
git_last_commit: 7ceb696
git_last_commit_date: 2025-10-29 11:34:26 -0500
nebbiolo1Linux (Ubuntu 24.04.3 LTS) / x86_64  OK    OK    OK  YES
Package 34/98HostnameOS / ArchINSTALLBUILDCHECKBUILD BIN
EnrichedHeatmap 1.41.0  (landing page)
Zuguang Gu
git_last_commit: f3ffa10
git_last_commit_date: 2025-10-29 10:27:54 -0500
nebbiolo1Linux (Ubuntu 24.04.3 LTS) / x86_64  OK    OK    OK  UNNEEDED, same version is already published
Package 35/98HostnameOS / ArchINSTALLBUILDCHECKBUILD BIN
epiregulon.extra 1.7.0  (landing page)
Xiaosai Yao
git_last_commit: a48846b
git_last_commit_date: 2025-10-29 11:30:15 -0500
nebbiolo1Linux (Ubuntu 24.04.3 LTS) / x86_64  OK    OK    OK  YES
Package 36/98HostnameOS / ArchINSTALLBUILDCHECKBUILD BIN
fCCAC 1.37.0  (landing page)
Pedro Madrigal
git_last_commit: 5500c70
git_last_commit_date: 2025-10-29 10:35:32 -0500
nebbiolo1Linux (Ubuntu 24.04.3 LTS) / x86_64  OK    OK    OK  YES
Package 37/98HostnameOS / ArchINSTALLBUILDCHECKBUILD BIN
FLAMES 2.5.1  (landing page)
Changqing Wang
git_last_commit: 7887658
git_last_commit_date: 2025-10-31 02:11:54 -0500
nebbiolo1Linux (Ubuntu 24.04.3 LTS) / x86_64  OK    OK    OK  YES
Package 38/98HostnameOS / ArchINSTALLBUILDCHECKBUILD BIN
gCrisprTools 2.17.0  (landing page)
Russell Bainer
git_last_commit: d372d36
git_last_commit_date: 2025-10-29 10:34:14 -0500
nebbiolo1Linux (Ubuntu 24.04.3 LTS) / x86_64  OK    OK    OK  UNNEEDED, same version is already published
Package 39/98HostnameOS / ArchINSTALLBUILDCHECKBUILD BIN
GeDi 1.7.0  (landing page)
Annekathrin Nedwed
git_last_commit: 5d8ba6c
git_last_commit_date: 2025-10-29 11:29:41 -0500
nebbiolo1Linux (Ubuntu 24.04.3 LTS) / x86_64  OK    OK    ERROR  
Package 40/98HostnameOS / ArchINSTALLBUILDCHECKBUILD BIN
GeneTonic 3.5.0  (landing page)
Federico Marini
git_last_commit: 0340f38
git_last_commit_date: 2025-10-29 10:56:40 -0500
nebbiolo1Linux (Ubuntu 24.04.3 LTS) / x86_64  OK    OK    OK  YES
Package 41/98HostnameOS / ArchINSTALLBUILDCHECKBUILD BIN
GenomicPlot 1.9.0  (landing page)
Shuye Pu
git_last_commit: 6794637
git_last_commit_date: 2025-10-29 11:24:51 -0500
nebbiolo1Linux (Ubuntu 24.04.3 LTS) / x86_64  OK    OK    OK  YES
Package 42/98HostnameOS / ArchINSTALLBUILDCHECKBUILD BIN
GenomicSuperSignature 1.19.0  (landing page)
Sehyun Oh
git_last_commit: 7a9c399
git_last_commit_date: 2025-10-29 11:09:57 -0500
nebbiolo1Linux (Ubuntu 24.04.3 LTS) / x86_64  OK    OK    WARNINGS  UNNEEDED, same version is already published
Package 43/98HostnameOS / ArchINSTALLBUILDCHECKBUILD BIN
geyser 1.3.0  (landing page)
David McGaughey
git_last_commit: 339131f
git_last_commit_date: 2025-10-29 11:33:40 -0500
nebbiolo1Linux (Ubuntu 24.04.3 LTS) / x86_64  OK    OK    OK  UNNEEDED, same version is already published
Package 44/98HostnameOS / ArchINSTALLBUILDCHECKBUILD BIN
gINTomics 1.7.0  (landing page)
Angelo Velle
git_last_commit: 4cacafe
git_last_commit_date: 2025-10-29 11:30:01 -0500
nebbiolo1Linux (Ubuntu 24.04.3 LTS) / x86_64  OK    OK    OK  NO, package depends on 'OmnipathR' which is not available
Package 45/98HostnameOS / ArchINSTALLBUILDCHECKBUILD BIN
gmoviz 1.23.0  (landing page)
Kathleen Zeglinski
git_last_commit: 13acb8f
git_last_commit_date: 2025-10-29 10:57:48 -0500
nebbiolo1Linux (Ubuntu 24.04.3 LTS) / x86_64  OK    OK    OK  YES
Package 46/98HostnameOS / ArchINSTALLBUILDCHECKBUILD BIN
goatea 1.1.0  (landing page)
Maurits Unkel
git_last_commit: 15d475f
git_last_commit_date: 2025-10-29 11:37:58 -0500
nebbiolo1Linux (Ubuntu 24.04.3 LTS) / x86_64  OK    ERROR  skipped
Package 47/98HostnameOS / ArchINSTALLBUILDCHECKBUILD BIN
GRaNIE 1.15.0  (landing page)
Christian Arnold
git_last_commit: 43246b6
git_last_commit_date: 2025-10-29 11:16:56 -0500
nebbiolo1Linux (Ubuntu 24.04.3 LTS) / x86_64  OK    OK    ERROR  
Package 48/98HostnameOS / ArchINSTALLBUILDCHECKBUILD BIN
gVenn 1.1.0  (landing page)
Christophe Tav
git_last_commit: 617952c
git_last_commit_date: 2025-10-29 11:38:01 -0500
nebbiolo1Linux (Ubuntu 24.04.3 LTS) / x86_64  OK    OK    OK  YES
Package 49/98HostnameOS / ArchINSTALLBUILDCHECKBUILD BIN
hermes 1.15.0  (landing page)
Daniel Sabanés Bové
git_last_commit: da21eaa
git_last_commit_date: 2025-10-29 11:14:07 -0500
nebbiolo1Linux (Ubuntu 24.04.3 LTS) / x86_64  OK    OK    OK  UNNEEDED, same version is already published
Package 50/98HostnameOS / ArchINSTALLBUILDCHECKBUILD BIN
hoodscanR 1.9.0  (landing page)
Ning Liu
git_last_commit: fbbd399
git_last_commit_date: 2025-10-29 11:25:11 -0500
nebbiolo1Linux (Ubuntu 24.04.3 LTS) / x86_64  OK    OK    OK  UNNEEDED, same version is already published
Package 51/98HostnameOS / ArchINSTALLBUILDCHECKBUILD BIN
HybridExpress 1.7.0  (landing page)
Fabricio Almeida-Silva
git_last_commit: 0f48849
git_last_commit_date: 2025-10-29 11:28:44 -0500
nebbiolo1Linux (Ubuntu 24.04.3 LTS) / x86_64  OK    OK    OK  UNNEEDED, same version is already published
Package 52/98HostnameOS / ArchINSTALLBUILDCHECKBUILD BIN
iModMix 1.1.0  (landing page)
Isis Narvaez-Bandera
git_last_commit: 096c0d6
git_last_commit_date: 2025-10-29 11:38:57 -0500
nebbiolo1Linux (Ubuntu 24.04.3 LTS) / x86_64  OK    OK    OK  UNNEEDED, same version is already published
Package 53/98HostnameOS / ArchINSTALLBUILDCHECKBUILD BIN
InteractiveComplexHeatmap 1.19.0  (landing page)
Zuguang Gu
git_last_commit: c1cbc91
git_last_commit_date: 2025-10-29 11:05:41 -0500
nebbiolo1Linux (Ubuntu 24.04.3 LTS) / x86_64  OK    OK    OK  UNNEEDED, same version is already published
Package 54/98HostnameOS / ArchINSTALLBUILDCHECKBUILD BIN
InterCellar 2.17.0  (landing page)
Marta Interlandi
git_last_commit: bb10717
git_last_commit_date: 2025-10-29 11:07:02 -0500
nebbiolo1Linux (Ubuntu 24.04.3 LTS) / x86_64  OK    OK    OK  UNNEEDED, same version is already published
Package 55/98HostnameOS / ArchINSTALLBUILDCHECKBUILD BIN
iSEE 2.23.0  (landing page)
Kevin Rue-Albrecht
git_last_commit: bbed327
git_last_commit_date: 2025-10-29 10:43:55 -0500
nebbiolo1Linux (Ubuntu 24.04.3 LTS) / x86_64  OK    OK    OK  UNNEEDED, same version is already published
Package 56/98HostnameOS / ArchINSTALLBUILDCHECKBUILD BIN
MAPFX 1.7.0  (landing page)
Hsiao-Chi Liao
git_last_commit: e9f080c
git_last_commit_date: 2025-10-29 11:30:04 -0500
nebbiolo1Linux (Ubuntu 24.04.3 LTS) / x86_64  OK    OK    OK  UNNEEDED, same version is already published
Package 57/98HostnameOS / ArchINSTALLBUILDCHECKBUILD BIN
markeR 1.1.0  (landing page)
Rita Martins-Silva
git_last_commit: 7a7e63f
git_last_commit_date: 2025-10-29 11:38:06 -0500
nebbiolo1Linux (Ubuntu 24.04.3 LTS) / x86_64  OK    OK    OK  UNNEEDED, same version is already published
Package 58/98HostnameOS / ArchINSTALLBUILDCHECKBUILD BIN
MatrixQCvis 1.19.0  (landing page)
Thomas Naake
git_last_commit: 0b99d49
git_last_commit_date: 2025-10-29 11:09:24 -0500
nebbiolo1Linux (Ubuntu 24.04.3 LTS) / x86_64  OK    OK    OK  NO, package depends on 'proDA' which is not available
Package 59/98HostnameOS / ArchINSTALLBUILDCHECKBUILD BIN
MesKit 1.21.0  (landing page)
Mengni Liu
git_last_commit: 15660f6
git_last_commit_date: 2025-10-29 11:01:00 -0500
nebbiolo1Linux (Ubuntu 24.04.3 LTS) / x86_64  OK    OK    WARNINGS  UNNEEDED, same version is already published
Package 60/98HostnameOS / ArchINSTALLBUILDCHECKBUILD BIN
mitology 1.3.0  (landing page)
Stefania Pirrotta
git_last_commit: ada0939
git_last_commit_date: 2025-10-29 11:36:14 -0500
nebbiolo1Linux (Ubuntu 24.04.3 LTS) / x86_64  OK    OK    OK  UNNEEDED, same version is already published
Package 61/98HostnameOS / ArchINSTALLBUILDCHECKBUILD BIN
MOMA 1.23.0  (landing page)
Sunny Jones
git_last_commit: 099cb9e
git_last_commit_date: 2025-10-29 10:59:02 -0500
nebbiolo1Linux (Ubuntu 24.04.3 LTS) / x86_64  OK    OK    OK  UNNEEDED, same version is already published
Package 62/98HostnameOS / ArchINSTALLBUILDCHECKBUILD BIN
monaLisa 1.17.0  (landing page)
Michael Stadler
git_last_commit: abfee88
git_last_commit_date: 2025-10-29 11:12:31 -0500
nebbiolo1Linux (Ubuntu 24.04.3 LTS) / x86_64  OK    OK    OK  YES
Package 63/98HostnameOS / ArchINSTALLBUILDCHECKBUILD BIN
Moonlight2R 1.9.0  (landing page)
Matteo Tiberti
git_last_commit: b5e3244
git_last_commit_date: 2025-10-29 11:25:19 -0500
nebbiolo1Linux (Ubuntu 24.04.3 LTS) / x86_64  OK    OK    OK  YES
Package 64/98HostnameOS / ArchINSTALLBUILDCHECKBUILD BIN
MOSClip 1.5.0  (landing page)
Paolo Martini
git_last_commit: feb3c8b
git_last_commit_date: 2025-10-29 11:32:56 -0500
nebbiolo1Linux (Ubuntu 24.04.3 LTS) / x86_64  OK    OK    OK  YES
Package 65/98HostnameOS / ArchINSTALLBUILDCHECKBUILD BIN
MPAC 1.5.0  (landing page)
Peng Liu
git_last_commit: f287ddc
git_last_commit_date: 2025-10-29 11:30:37 -0500
nebbiolo1Linux (Ubuntu 24.04.3 LTS) / x86_64  OK    OK    OK  UNNEEDED, same version is already published
Package 66/98HostnameOS / ArchINSTALLBUILDCHECKBUILD BIN
MultiRNAflow 1.9.0  (landing page)
Rodolphe Loubaton
git_last_commit: 3c2e28d
git_last_commit_date: 2025-10-29 11:24:54 -0500
nebbiolo1Linux (Ubuntu 24.04.3 LTS) / x86_64  OK    OK    OK  UNNEEDED, same version is already published
Package 67/98HostnameOS / ArchINSTALLBUILDCHECKBUILD BIN
multistateQTL 2.3.0  (landing page)
Amelia Dunstone
git_last_commit: b4ce60c
git_last_commit_date: 2025-10-29 11:29:43 -0500
nebbiolo1Linux (Ubuntu 24.04.3 LTS) / x86_64  OK    OK    OK  UNNEEDED, same version is already published
Package 68/98HostnameOS / ArchINSTALLBUILDCHECKBUILD BIN
muscat 1.25.0  (landing page)
Helena L. Crowell
git_last_commit: 7a0ebff
git_last_commit_date: 2025-10-29 10:53:55 -0500
nebbiolo1Linux (Ubuntu 24.04.3 LTS) / x86_64  OK    OK    OK  UNNEEDED, same version is already published
Package 69/98HostnameOS / ArchINSTALLBUILDCHECKBUILD BIN
musicatk 2.5.0  (landing page)
Joshua D. Campbell
git_last_commit: ec6bf01
git_last_commit_date: 2025-10-29 11:03:52 -0500
nebbiolo1Linux (Ubuntu 24.04.3 LTS) / x86_64  OK    OK    OK  YES
Package 70/98HostnameOS / ArchINSTALLBUILDCHECKBUILD BIN
MWASTools 1.35.0  (landing page)
Andrea Rodriguez-Martinez , Rafael Ayala
git_last_commit: 8cc5c70
git_last_commit_date: 2025-10-29 10:35:43 -0500
nebbiolo1Linux (Ubuntu 24.04.3 LTS) / x86_64  OK    OK    OK  UNNEEDED, same version is already published
Package 71/98HostnameOS / ArchINSTALLBUILDCHECKBUILD BIN
nipalsMCIA 1.9.0  (landing page)
Maximilian Mattessich
git_last_commit: 9adbe20
git_last_commit_date: 2025-10-29 11:25:22 -0500
nebbiolo1Linux (Ubuntu 24.04.3 LTS) / x86_64  OK    OK    OK  UNNEEDED, same version is already published
Package 72/98HostnameOS / ArchINSTALLBUILDCHECKBUILD BIN
pathlinkR 1.7.0  (landing page)
Travis Blimkie
git_last_commit: 5b0516b
git_last_commit_date: 2025-10-29 11:26:48 -0500
nebbiolo1Linux (Ubuntu 24.04.3 LTS) / x86_64  OK    OK    OK  UNNEEDED, same version is already published
Package 73/98HostnameOS / ArchINSTALLBUILDCHECKBUILD BIN
PathoStat 1.37.0  (landing page)
Solaiappan Manimaran
git_last_commit: b2188f7
git_last_commit_date: 2025-10-29 10:34:57 -0500
nebbiolo1Linux (Ubuntu 24.04.3 LTS) / x86_64  OK    OK    OK  UNNEEDED, same version is already published
Package 74/98HostnameOS / ArchINSTALLBUILDCHECKBUILD BIN
PeacoQC 1.21.0  (landing page)
Annelies Emmaneel
git_last_commit: 9324ee3
git_last_commit_date: 2025-10-29 11:00:07 -0500
nebbiolo1Linux (Ubuntu 24.04.3 LTS) / x86_64  OK    OK    OK  UNNEEDED, same version is already published
Package 75/98HostnameOS / ArchINSTALLBUILDCHECKBUILD BIN
pipeComp 1.21.0  (landing page)
Pierre-Luc Germain
git_last_commit: 826f159
git_last_commit_date: 2025-10-29 11:00:20 -0500
nebbiolo1Linux (Ubuntu 24.04.3 LTS) / x86_64  OK    OK    OK  UNNEEDED, same version is already published
Package 76/98HostnameOS / ArchINSTALLBUILDCHECKBUILD BIN
POMA 1.21.0  (landing page)
Pol Castellano-Escuder
git_last_commit: e8ab1e6
git_last_commit_date: 2025-10-29 11:01:06 -0500
nebbiolo1Linux (Ubuntu 24.04.3 LTS) / x86_64  OK    OK    OK  UNNEEDED, same version is already published
Package 77/98HostnameOS / ArchINSTALLBUILDCHECKBUILD BIN
profileplyr 1.27.0  (landing page)
Tom Carroll , Doug Barrows
git_last_commit: c441d3c
git_last_commit_date: 2025-10-29 10:51:25 -0500
nebbiolo1Linux (Ubuntu 24.04.3 LTS) / x86_64  ERROR    ERROR  skipped
Package 78/98HostnameOS / ArchINSTALLBUILDCHECKBUILD BIN
PRONE 1.5.0  (landing page)
Lis Arend
git_last_commit: cfe6a55
git_last_commit_date: 2025-10-29 11:32:38 -0500
nebbiolo1Linux (Ubuntu 24.04.3 LTS) / x86_64  OK    OK    OK  UNNEEDED, same version is already published
Package 79/98HostnameOS / ArchINSTALLBUILDCHECKBUILD BIN
recoup 1.39.0  (landing page)
Panagiotis Moulos
git_last_commit: 66d3f66
git_last_commit_date: 2025-10-29 10:31:02 -0500
nebbiolo1Linux (Ubuntu 24.04.3 LTS) / x86_64  OK    OK    OK  YES
Package 80/98HostnameOS / ArchINSTALLBUILDCHECKBUILD BIN
RFLOMICS 1.3.0  (landing page)
Nadia Bessoltane
git_last_commit: a7a98e3
git_last_commit_date: 2025-10-29 11:35:35 -0500
nebbiolo1Linux (Ubuntu 24.04.3 LTS) / x86_64  OK    OK    OK  UNNEEDED, same version is already published
Package 81/98HostnameOS / ArchINSTALLBUILDCHECKBUILD BIN
RiboCrypt 1.17.0  (landing page)
Michal Swirski
git_last_commit: da58451
git_last_commit_date: 2025-10-29 11:13:40 -0500
nebbiolo1Linux (Ubuntu 24.04.3 LTS) / x86_64  OK    OK    OK  YES
Package 82/98HostnameOS / ArchINSTALLBUILDCHECKBUILD BIN
RUCova 1.3.0  (landing page)
Rosario Astaburuaga-García
git_last_commit: cdd0481
git_last_commit_date: 2025-10-29 11:35:49 -0500
nebbiolo1Linux (Ubuntu 24.04.3 LTS) / x86_64  OK    OK    OK  UNNEEDED, same version is already published
Package 83/98HostnameOS / ArchINSTALLBUILDCHECKBUILD BIN
scafari 1.1.0  (landing page)
Sophie Wind
git_last_commit: 0bee2a7
git_last_commit_date: 2025-10-29 11:36:58 -0500
nebbiolo1Linux (Ubuntu 24.04.3 LTS) / x86_64  OK    OK    OK  YES
Package 84/98HostnameOS / ArchINSTALLBUILDCHECKBUILD BIN
scRNAseqApp 1.11.0  (landing page)
Jianhong Ou
git_last_commit: 781d06f
git_last_commit_date: 2025-10-29 11:20:39 -0500
nebbiolo1Linux (Ubuntu 24.04.3 LTS) / x86_64  OK    OK    OK  YES
Package 85/98HostnameOS / ArchINSTALLBUILDCHECKBUILD BIN
sechm 1.19.0  (landing page)
Pierre-Luc Germain
git_last_commit: 80bb3d7
git_last_commit_date: 2025-10-29 11:08:11 -0500
nebbiolo1Linux (Ubuntu 24.04.3 LTS) / x86_64  OK    OK    OK  UNNEEDED, same version is already published
Package 86/98HostnameOS / ArchINSTALLBUILDCHECKBUILD BIN
segmenter 1.17.0  (landing page)
Mahmoud Ahmed
git_last_commit: 64fe618
git_last_commit_date: 2025-10-29 11:10:27 -0500
nebbiolo1Linux (Ubuntu 24.04.3 LTS) / x86_64  OK    OK    OK  YES
Package 87/98HostnameOS / ArchINSTALLBUILDCHECKBUILD BIN
shinyDSP 1.3.0  (landing page)
Seung J. Kim
git_last_commit: cdbba28
git_last_commit_date: 2025-10-29 11:35:46 -0500
nebbiolo1Linux (Ubuntu 24.04.3 LTS) / x86_64  OK    OK    OK  YES
Package 88/98HostnameOS / ArchINSTALLBUILDCHECKBUILD BIN
signifinder 1.13.0  (landing page)
Stefania Pirrotta
git_last_commit: 2e1efc9
git_last_commit_date: 2025-10-29 11:19:34 -0500
nebbiolo1Linux (Ubuntu 24.04.3 LTS) / x86_64  OK    OK    OK  YES
Package 89/98HostnameOS / ArchINSTALLBUILDCHECKBUILD BIN
simona 1.9.0  (landing page)
Zuguang Gu
git_last_commit: 799cc83
git_last_commit_date: 2025-10-29 11:25:30 -0500
nebbiolo1Linux (Ubuntu 24.04.3 LTS) / x86_64  OK    OK    OK  UNNEEDED, same version is already published
Package 90/98HostnameOS / ArchINSTALLBUILDCHECKBUILD BIN
simplifyEnrichment 2.5.0  (landing page)
Zuguang Gu
git_last_commit: 6159a31
git_last_commit_date: 2025-10-29 10:59:50 -0500
nebbiolo1Linux (Ubuntu 24.04.3 LTS) / x86_64  OK    OK    OK  UNNEEDED, same version is already published
Package 91/98HostnameOS / ArchINSTALLBUILDCHECKBUILD BIN
singleCellTK 2.21.0  (landing page)
Joshua David Campbell
git_last_commit: 4895b66
git_last_commit_date: 2025-10-29 11:29:49 -0500
nebbiolo1Linux (Ubuntu 24.04.3 LTS) / x86_64  OK    OK    OK  YES
Package 92/98HostnameOS / ArchINSTALLBUILDCHECKBUILD BIN
sparrow 1.17.0  (landing page)
Steve Lianoglou
git_last_commit: 03b668b
git_last_commit_date: 2025-10-29 11:12:41 -0500
nebbiolo1Linux (Ubuntu 24.04.3 LTS) / x86_64  OK    OK    OK  UNNEEDED, same version is already published
Package 93/98HostnameOS / ArchINSTALLBUILDCHECKBUILD BIN
SPONGE 1.33.0  (landing page)
Markus List
git_last_commit: 6ba4e2d
git_last_commit_date: 2025-10-29 10:40:24 -0500
nebbiolo1Linux (Ubuntu 24.04.3 LTS) / x86_64  OK    OK    WARNINGS  UNNEEDED, same version is already published
Package 94/98HostnameOS / ArchINSTALLBUILDCHECKBUILD BIN
TBSignatureProfiler 1.23.0  (landing page)
Kiloni Quiles
git_last_commit: fa5ed4c
git_last_commit_date: 2025-10-29 10:58:59 -0500
nebbiolo1Linux (Ubuntu 24.04.3 LTS) / x86_64  OK    OK    OK  YES
Package 95/98HostnameOS / ArchINSTALLBUILDCHECKBUILD BIN
TMSig 1.5.0  (landing page)
Tyler Sagendorf
git_last_commit: cf64558
git_last_commit_date: 2025-10-29 11:33:04 -0500
nebbiolo1Linux (Ubuntu 24.04.3 LTS) / x86_64  OK    OK    OK  UNNEEDED, same version is already published
Package 96/98HostnameOS / ArchINSTALLBUILDCHECKBUILD BIN
ViSEAGO 1.25.0  (landing page)
Aurelien Brionne
git_last_commit: 646645b
git_last_commit_date: 2025-10-29 10:53:03 -0500
nebbiolo1Linux (Ubuntu 24.04.3 LTS) / x86_64  OK    OK    WARNINGS  UNNEEDED, same version is already published
Package 97/98HostnameOS / ArchINSTALLBUILDCHECKBUILD BIN
Xeva 1.27.0  (landing page)
Benjamin Haibe-Kains
git_last_commit: ca1a253
git_last_commit_date: 2025-10-29 10:50:21 -0500
nebbiolo1Linux (Ubuntu 24.04.3 LTS) / x86_64  OK    OK    OK  UNNEEDED, same version is already published
Package 98/98HostnameOS / ArchINSTALLBUILDCHECKBUILD BIN
YAPSA 1.37.0  (landing page)
Zuguang Gu
git_last_commit: f37ad09
git_last_commit_date: 2025-10-29 10:34:03 -0500
nebbiolo1Linux (Ubuntu 24.04.3 LTS) / x86_64  OK    OK    OK  YES