| Back to Multiple platform build/check report for BioC 3.22: simplified long |
|
This page was generated on 2025-10-23 12:03 -0400 (Thu, 23 Oct 2025).
| Hostname | OS | Arch (*) | R version | Installed pkgs |
|---|---|---|---|---|
| nebbiolo2 | Linux (Ubuntu 24.04.3 LTS) | x86_64 | 4.5.1 Patched (2025-08-23 r88802) -- "Great Square Root" | 4894 |
| lconway | macOS 12.7.6 Monterey | x86_64 | 4.5.1 Patched (2025-09-10 r88807) -- "Great Square Root" | 4684 |
| kjohnson3 | macOS 13.7.7 Ventura | arm64 | 4.5.1 Patched (2025-09-10 r88807) -- "Great Square Root" | 4629 |
| taishan | Linux (openEuler 24.03 LTS) | aarch64 | 4.5.0 (2025-04-11) -- "How About a Twenty-Six" | 4642 |
| Click on any hostname to see more info about the system (e.g. compilers) (*) as reported by 'uname -p', except on Windows and Mac OS X | ||||
| Package 616/2355 | Hostname | OS / Arch | INSTALL | BUILD | CHECK | BUILD BIN | ||||||||
| dominoSignal 1.3.0 (landing page) Jacob T Mitchell
| nebbiolo2 | Linux (Ubuntu 24.04.3 LTS) / x86_64 | OK | OK | OK | |||||||||
| lconway | macOS 12.7.6 Monterey / x86_64 | OK | OK | OK | OK | |||||||||
| kjohnson3 | macOS 13.7.7 Ventura / arm64 | OK | OK | OK | OK | |||||||||
| taishan | Linux (openEuler 24.03 LTS) / aarch64 | OK | OK | ERROR | ||||||||||
|
To the developers/maintainers of the dominoSignal package: - Allow up to 24 hours (and sometimes 48 hours) for your latest push to git@git.bioconductor.org:packages/dominoSignal.git to reflect on this report. See Troubleshooting Build Report for more information. - Use the following Renviron settings to reproduce errors and warnings. - If 'R CMD check' started to fail recently on the Linux builder(s) over a missing dependency, add the missing dependency to 'Suggests:' in your DESCRIPTION file. See Renviron.bioc for more information. |
| Package: dominoSignal |
| Version: 1.3.0 |
| Command: /home/biocbuild/bbs-3.22-bioc/R/bin/R CMD check --install=check:dominoSignal.install-out.txt --library=/home/biocbuild/bbs-3.22-bioc/R/site-library --timings dominoSignal_1.3.0.tar.gz |
| StartedAt: 2025-10-22 23:23:12 -0400 (Wed, 22 Oct 2025) |
| EndedAt: 2025-10-22 23:27:59 -0400 (Wed, 22 Oct 2025) |
| EllapsedTime: 286.2 seconds |
| RetCode: 0 |
| Status: OK |
| CheckDir: dominoSignal.Rcheck |
| Warnings: 0 |
##############################################################################
##############################################################################
###
### Running command:
###
### /home/biocbuild/bbs-3.22-bioc/R/bin/R CMD check --install=check:dominoSignal.install-out.txt --library=/home/biocbuild/bbs-3.22-bioc/R/site-library --timings dominoSignal_1.3.0.tar.gz
###
##############################################################################
##############################################################################
* using log directory ‘/home/biocbuild/bbs-3.22-bioc/meat/dominoSignal.Rcheck’
* using R version 4.5.1 Patched (2025-08-23 r88802)
* using platform: x86_64-pc-linux-gnu
* R was compiled by
gcc (Ubuntu 13.3.0-6ubuntu2~24.04) 13.3.0
GNU Fortran (Ubuntu 13.3.0-6ubuntu2~24.04) 13.3.0
* running under: Ubuntu 24.04.3 LTS
* using session charset: UTF-8
* checking for file ‘dominoSignal/DESCRIPTION’ ... OK
* this is package ‘dominoSignal’ version ‘1.3.0’
* package encoding: UTF-8
* checking package namespace information ... OK
* checking package dependencies ... OK
* checking if this is a source package ... OK
* checking if there is a namespace ... OK
* checking for hidden files and directories ... OK
* checking for portable file names ... OK
* checking for sufficient/correct file permissions ... OK
* checking whether package ‘dominoSignal’ can be installed ... OK
* checking installed package size ... OK
* checking package directory ... OK
* checking ‘build’ directory ... OK
* checking DESCRIPTION meta-information ... OK
* checking top-level files ... OK
* checking for left-over files ... OK
* checking index information ... OK
* checking package subdirectories ... OK
* checking code files for non-ASCII characters ... OK
* checking R files for syntax errors ... OK
* checking whether the package can be loaded ... OK
* checking whether the package can be loaded with stated dependencies ... OK
* checking whether the package can be unloaded cleanly ... OK
* checking whether the namespace can be loaded with stated dependencies ... OK
* checking whether the namespace can be unloaded cleanly ... OK
* checking loading without being on the library search path ... OK
* checking dependencies in R code ... OK
* checking S3 generic/method consistency ... OK
* checking replacement functions ... OK
* checking foreign function calls ... OK
* checking R code for possible problems ... OK
* checking Rd files ... OK
* checking Rd metadata ... OK
* checking Rd cross-references ... OK
* checking for missing documentation entries ... OK
* checking for code/documentation mismatches ... OK
* checking Rd \usage sections ... OK
* checking Rd contents ... OK
* checking for unstated dependencies in examples ... OK
* checking contents of ‘data’ directory ... OK
* checking data for non-ASCII characters ... OK
* checking data for ASCII and uncompressed saves ... OK
* checking R/sysdata.rda ... NOTE
Note: significantly better compression could be obtained
by using R CMD build --resave-data
old_size new_size compress
sysdata.rda 132Kb 30Kb xz
* checking files in ‘vignettes’ ... OK
* checking examples ... OK
* checking for unstated dependencies in ‘tests’ ... OK
* checking tests ...
Running ‘testthat.R’
OK
* checking for unstated dependencies in vignettes ... OK
* checking package vignettes ... OK
* checking re-building of vignette outputs ... OK
* checking PDF version of manual ... OK
* DONE
Status: 1 NOTE
See
‘/home/biocbuild/bbs-3.22-bioc/meat/dominoSignal.Rcheck/00check.log’
for details.
dominoSignal.Rcheck/00install.out
############################################################################## ############################################################################## ### ### Running command: ### ### /home/biocbuild/bbs-3.22-bioc/R/bin/R CMD INSTALL dominoSignal ### ############################################################################## ############################################################################## * installing to library ‘/home/biocbuild/bbs-3.22-bioc/R/site-library’ * installing *source* package ‘dominoSignal’ ... ** this is package ‘dominoSignal’ version ‘1.3.0’ ** using staged installation ** R ** data ** inst ** byte-compile and prepare package for lazy loading ** help *** installing help indices *** copying figures ** building package indices ** installing vignettes ** testing if installed package can be loaded from temporary location ** testing if installed package can be loaded from final location ** testing if installed package keeps a record of temporary installation path * DONE (dominoSignal)
dominoSignal.Rcheck/tests/testthat.Rout
R version 4.5.1 Patched (2025-08-23 r88802) -- "Great Square Root"
Copyright (C) 2025 The R Foundation for Statistical Computing
Platform: x86_64-pc-linux-gnu
R is free software and comes with ABSOLUTELY NO WARRANTY.
You are welcome to redistribute it under certain conditions.
Type 'license()' or 'licence()' for distribution details.
R is a collaborative project with many contributors.
Type 'contributors()' for more information and
'citation()' on how to cite R or R packages in publications.
Type 'demo()' for some demos, 'help()' for on-line help, or
'help.start()' for an HTML browser interface to help.
Type 'q()' to quit R.
> library("testthat")
> library("dominoSignal")
>
> test_check("dominoSignal")
[ FAIL 0 | WARN 0 | SKIP 0 | PASS 65 ]
>
> proc.time()
user system elapsed
8.386 0.497 8.866
dominoSignal.Rcheck/dominoSignal-Ex.timings
| name | user | system | elapsed | |
| add_rl_column | 0.031 | 0.000 | 0.031 | |
| build_domino | 0.135 | 0.012 | 0.147 | |
| circos_ligand_receptor | 0.561 | 0.011 | 0.572 | |
| cor_heatmap | 3.798 | 0.113 | 3.911 | |
| cor_scatter | 0.469 | 0.013 | 0.482 | |
| count_linkage | 0.003 | 0.000 | 0.004 | |
| create_domino | 0.084 | 0.003 | 0.087 | |
| create_regulon_list_scenic | 0.008 | 0.001 | 0.009 | |
| create_rl_map_cellphonedb | 0.012 | 0.001 | 0.012 | |
| dom_clusters | 0.114 | 0.007 | 0.121 | |
| dom_correlations | 0.092 | 0.003 | 0.095 | |
| dom_counts | 0.092 | 0.002 | 0.094 | |
| dom_database | 0.093 | 0.001 | 0.095 | |
| dom_de | 0.095 | 0.001 | 0.097 | |
| dom_info | 0.104 | 0.001 | 0.105 | |
| dom_linkages | 0.091 | 0.002 | 0.093 | |
| dom_network_items | 0.094 | 0.001 | 0.096 | |
| dom_signaling | 0.094 | 0.016 | 0.110 | |
| dom_tf_activation | 0.104 | 0.014 | 0.118 | |
| dom_zscores | 0.090 | 0.009 | 0.099 | |
| feat_heatmap | 0.932 | 0.018 | 0.951 | |
| gene_network | 0.159 | 0.001 | 0.160 | |
| incoming_signaling_heatmap | 0.217 | 0.003 | 0.221 | |
| mean_ligand_expression | 0.095 | 0.002 | 0.097 | |
| obtain_circos_expression | 0.096 | 0.002 | 0.098 | |
| plot_differential_linkages | 0.276 | 0.003 | 0.279 | |
| print-domino-method | 0.093 | 0.002 | 0.095 | |
| rename_clusters | 0.094 | 0.003 | 0.098 | |
| render_circos_ligand_receptor | 0.288 | 0.003 | 0.291 | |
| show-domino-method | 0.098 | 0.001 | 0.100 | |
| signaling_heatmap | 0.435 | 0.030 | 0.465 | |
| signaling_network | 0.149 | 0.021 | 0.169 | |
| summarize_linkages | 0.157 | 0.003 | 0.160 | |
| test_differential_linkages | 0.007 | 0.000 | 0.007 | |