Back to Multiple platform build/check report for BioC 3.22:   simplified   long
AB[C]DEFGHIJKLMNOPQRSTUVWXYZ

This page was generated on 2025-10-11 12:03 -0400 (Sat, 11 Oct 2025).

HostnameOSArch (*)R versionInstalled pkgs
nebbiolo2Linux (Ubuntu 24.04.3 LTS)x86_644.5.1 Patched (2025-08-23 r88802) -- "Great Square Root" 4864
lconwaymacOS 12.7.1 Montereyx86_644.5.1 Patched (2025-09-10 r88807) -- "Great Square Root" 4652
kjohnson3macOS 13.7.7 Venturaarm644.5.1 Patched (2025-09-10 r88807) -- "Great Square Root" 4597
taishanLinux (openEuler 24.03 LTS)aarch644.5.0 (2025-04-11) -- "How About a Twenty-Six" 4586
Click on any hostname to see more info about the system (e.g. compilers)      (*) as reported by 'uname -p', except on Windows and Mac OS X

Package 455/2346HostnameOS / ArchINSTALLBUILDCHECKBUILD BIN
COTAN 2.9.7  (landing page)
Galfrè Silvia Giulia
Snapshot Date: 2025-10-10 13:45 -0400 (Fri, 10 Oct 2025)
git_url: https://git.bioconductor.org/packages/COTAN
git_branch: devel
git_last_commit: 6b2782c
git_last_commit_date: 2025-10-09 11:51:25 -0400 (Thu, 09 Oct 2025)
nebbiolo2Linux (Ubuntu 24.04.3 LTS) / x86_64  OK    OK    ERROR  
lconwaymacOS 12.7.1 Monterey / x86_64  OK    OK    ERROR    OK  
kjohnson3macOS 13.7.7 Ventura / arm64  OK    OK    ERROR    OK  
taishanLinux (openEuler 24.03 LTS) / aarch64  OK    OK    ERROR  


CHECK results for COTAN on nebbiolo2

To the developers/maintainers of the COTAN package:
- Allow up to 24 hours (and sometimes 48 hours) for your latest push to git@git.bioconductor.org:packages/COTAN.git to reflect on this report. See Troubleshooting Build Report for more information.
- Use the following Renviron settings to reproduce errors and warnings.
- If 'R CMD check' started to fail recently on the Linux builder(s) over a missing dependency, add the missing dependency to 'Suggests:' in your DESCRIPTION file. See Renviron.bioc for more information.

raw results


Summary

Package: COTAN
Version: 2.9.7
Command: /home/biocbuild/bbs-3.22-bioc/R/bin/R CMD check --install=check:COTAN.install-out.txt --library=/home/biocbuild/bbs-3.22-bioc/R/site-library --timings COTAN_2.9.7.tar.gz
StartedAt: 2025-10-10 22:45:16 -0400 (Fri, 10 Oct 2025)
EndedAt: 2025-10-10 23:23:43 -0400 (Fri, 10 Oct 2025)
EllapsedTime: 2306.7 seconds
RetCode: 1
Status:   ERROR  
CheckDir: COTAN.Rcheck
Warnings: NA

Command output

##############################################################################
##############################################################################
###
### Running command:
###
###   /home/biocbuild/bbs-3.22-bioc/R/bin/R CMD check --install=check:COTAN.install-out.txt --library=/home/biocbuild/bbs-3.22-bioc/R/site-library --timings COTAN_2.9.7.tar.gz
###
##############################################################################
##############################################################################


* using log directory ‘/home/biocbuild/bbs-3.22-bioc/meat/COTAN.Rcheck’
* using R version 4.5.1 Patched (2025-08-23 r88802)
* using platform: x86_64-pc-linux-gnu
* R was compiled by
    gcc (Ubuntu 13.3.0-6ubuntu2~24.04) 13.3.0
    GNU Fortran (Ubuntu 13.3.0-6ubuntu2~24.04) 13.3.0
* running under: Ubuntu 24.04.3 LTS
* using session charset: UTF-8
* checking for file ‘COTAN/DESCRIPTION’ ... OK
* checking extension type ... Package
* this is package ‘COTAN’ version ‘2.9.7’
* package encoding: UTF-8
* checking package namespace information ... OK
* checking package dependencies ... INFO
Imports includes 26 non-default packages.
Importing from so many packages makes the package vulnerable to any of
them becoming unavailable.  Move as many as possible to Suggests and
use conditionally.
* checking if this is a source package ... OK
* checking if there is a namespace ... OK
* checking for hidden files and directories ... OK
* checking for portable file names ... OK
* checking for sufficient/correct file permissions ... OK
* checking whether package ‘COTAN’ can be installed ... OK
* checking installed package size ... OK
* checking package directory ... OK
* checking ‘build’ directory ... OK
* checking DESCRIPTION meta-information ... OK
* checking top-level files ... OK
* checking for left-over files ... OK
* checking index information ... OK
* checking package subdirectories ... OK
* checking code files for non-ASCII characters ... OK
* checking R files for syntax errors ... OK
* checking whether the package can be loaded ... OK
* checking whether the package can be loaded with stated dependencies ... OK
* checking whether the package can be unloaded cleanly ... OK
* checking whether the namespace can be loaded with stated dependencies ... OK
* checking whether the namespace can be unloaded cleanly ... OK
* checking loading without being on the library search path ... OK
* checking whether startup messages can be suppressed ... OK
* checking dependencies in R code ... OK
* checking S3 generic/method consistency ... OK
* checking replacement functions ... OK
* checking foreign function calls ... OK
* checking R code for possible problems ... OK
* checking Rd files ... OK
* checking Rd metadata ... OK
* checking Rd cross-references ... OK
* checking for missing documentation entries ... OK
* checking for code/documentation mismatches ... OK
* checking Rd \usage sections ... OK
* checking Rd contents ... OK
* checking for unstated dependencies in examples ... OK
* checking contents of ‘data’ directory ... OK
* checking data for non-ASCII characters ... OK
* checking data for ASCII and uncompressed saves ... OK
* checking files in ‘vignettes’ ... OK
* checking examples ... OK
Examples with CPU (user + system) or elapsed time > 5s
                            user system elapsed
UniformClusters         1390.946  3.598 124.947
CalculatingCOEX         1316.089  2.357 100.573
HeatmapPlots             934.811  1.284  67.218
HandlingClusterizations  383.409  0.545  59.381
COTAN_ObjectCreation     353.657  0.746  23.140
GenesStatistics          345.215  0.099  22.192
ParametersEstimations     27.000  0.763  26.678
RawDataCleaning            5.465  0.024   5.805
Conversions                5.184  0.060   5.355
* checking for unstated dependencies in ‘tests’ ... OK
* checking tests ...
  Running ‘outputTestDatasetCreation.R’
  Running ‘spelling.R’
  Running ‘testthat.R’
 ERROR
Running the tests in ‘tests/testthat.R’ failed.
Last 13 lines of output:
   [1] 0.1588375  - 0.1588393    [1]            
   [2] 0.5920400  - 0.5920375    [2]            
   [3] 0.5631372  - 0.5631452    [3]            
   [4] 1.3469346  - 1.3469312    [4]            
   [5] 0.1624305  - 0.1624447    [5]            
   [6] 0.0980751  - 0.0980681    [6]            
   [7] 2.0990181  - 2.0990188    [7]            
   [8] 0.3256293  - 0.3256359    [8]            
   [9] 0.7567358  - 0.7567377    [9]            
  [10] 1.2053130  - 1.2053087    [10]           
   ... ...          ...          and 50 more ...
  
  [ FAIL 1 | WARN 3 | SKIP 0 | PASS 572 ]
  Error: Test failures
  Execution halted
* checking for unstated dependencies in vignettes ... OK
* checking package vignettes ... OK
* checking re-building of vignette outputs ... OK
* checking PDF version of manual ... OK
* DONE

Status: 1 ERROR
See
  ‘/home/biocbuild/bbs-3.22-bioc/meat/COTAN.Rcheck/00check.log’
for details.


Installation output

COTAN.Rcheck/00install.out

##############################################################################
##############################################################################
###
### Running command:
###
###   /home/biocbuild/bbs-3.22-bioc/R/bin/R CMD INSTALL COTAN
###
##############################################################################
##############################################################################


* installing to library ‘/home/biocbuild/bbs-3.22-bioc/R/site-library’
* installing *source* package ‘COTAN’ ...
** this is package ‘COTAN’ version ‘2.9.7’
** using staged installation
** R
** data
** inst
** byte-compile and prepare package for lazy loading
** help
*** installing help indices
** building package indices
** installing vignettes
** testing if installed package can be loaded from temporary location
** testing if installed package can be loaded from final location
** testing if installed package keeps a record of temporary installation path
* DONE (COTAN)

Tests output

COTAN.Rcheck/tests/outputTestDatasetCreation.Rout


R version 4.5.1 Patched (2025-08-23 r88802) -- "Great Square Root"
Copyright (C) 2025 The R Foundation for Statistical Computing
Platform: x86_64-pc-linux-gnu

R is free software and comes with ABSOLUTELY NO WARRANTY.
You are welcome to redistribute it under certain conditions.
Type 'license()' or 'licence()' for distribution details.

R is a collaborative project with many contributors.
Type 'contributors()' for more information and
'citation()' on how to cite R or R packages in publications.

Type 'demo()' for some demos, 'help()' for on-line help, or
'help.start()' for an HTML browser interface to help.
Type 'q()' to quit R.

> 
> # Creates the files to be reloaded by the tests for comparisons
> 
> outputTestDatasetCreation <-
+   function(testsDir = file.path("tests", "testthat")) {
+   utils::data("test.dataset", package = "COTAN")
+   options(parallelly.fork.enable = TRUE)
+   setLoggingLevel(3L)
+ 
+   obj <- COTAN(raw = test.dataset)
+   obj <- initializeMetaDataset(objCOTAN = obj, GEO = " ",
+                                sequencingMethod = "artificial",
+                                sampleCondition = "test")
+ 
+   obj <- proceedToCoex(objCOTAN = obj, cores = 6L, saveObj = FALSE)
+ 
+   if (FALSE) {
+     saveRDS(obj, file = file.path(testsDir,"test.COTAN.RDS"))
+   }
+ 
+   cells.names.test <-
+     getCells(objCOTAN = obj)[c(1L:10L, 591L:610L, 991L:1000L)]
+   genes.names.test <-
+     getGenes(objCOTAN = obj)[c(131L:140L, 291L:310L, 591L: 600L)]
+   saveRDS(cells.names.test, file.path(testsDir, "cells.names.test.RDS"))
+   saveRDS(genes.names.test, file.path(testsDir, "genes.names.test.RDS"))
+ 
+   pcaRaw <- runPCA(x = getRawData(objCOTAN = obj), rank = 10L,
+                    BSPARAM = IrlbaParam(), get.rotation = FALSE)[["x"]]
+ 
+   pca.raw.test <- pcaRaw[genes.names.test, ]
+   saveRDS(pca.raw.test, file.path(testsDir, "pca.raw.test.RDS"))
+ 
+   dispersion.test <- getDispersion(objCOTAN = obj)[genes.names.test]
+   saveRDS(dispersion.test, file.path(testsDir, "dispersion.test.RDS"))
+ 
+   raw.norm.test <-
+     getNuNormData(objCOTAN = obj)[genes.names.test, cells.names.test]
+   saveRDS(raw.norm.test, file.path(testsDir, "raw.norm.test.RDS"))
+ 
+   coex.test <-
+     getGenesCoex(objCOTAN = obj, genes = genes.names.test, zeroDiagonal = FALSE)
+   saveRDS(coex.test, file.path(testsDir, "coex.test.RDS"))
+ 
+   lambda.test <- getLambda(objCOTAN = obj)[genes.names.test]
+   saveRDS(lambda.test, file.path(testsDir, "lambda.test.RDS"))
+ 
+   GDI.test <- calculateGDI(objCOTAN = obj)
+   GDI.test <- GDI.test[genes.names.test, ]
+   saveRDS(GDI.test, file.path(testsDir, "GDI.test.RDS"))
+ 
+   nu.test <- getNu(objCOTAN = obj)[cells.names.test]
+   saveRDS(nu.test, file.path(testsDir, "nu.test.RDS"))
+ 
+   pvalues.test <- calculatePValue(objCOTAN = obj,
+                                   geneSubsetCol = genes.names.test,
+                                   geneSubsetRow = genes.names.test)
+   saveRDS(pvalues.test, file.path(testsDir, "pvalues.test.RDS"))
+ 
+   groupMarkers <- list(G1 = c("g-000010", "g-000020", "g-000138"),
+                        G2 = c("g-000300", "g-000330", "g-000660"),
+                        G3 = c("g-000510", "g-000530", "g-000550",
+                               "g-000570", "g-000590"))
+ 
+   gcsData <- genesCoexSpace(objCOTAN = obj,
+                             primaryMarkers = unlist(groupMarkers),
+                             numGenesPerMarker = 11L)
+ 
+   genes.coex.space.test <- gcsData[["GCS"]]
+   saveRDS(genes.coex.space.test,
+           file.path(testsDir, "genes.coex.space.test.RDS"))
+ 
+   genesClustersData <-
+     establishGenesClusters(objCOTAN = obj,
+                            groupMarkers = groupMarkers,
+                            numGenesPerMarker = 11L,
+                            kCuts = 6L, distance = "cosine",
+                            hclustMethod = "ward.D2")
+ 
+   pca.genes.clusters.test <- genesClustersData[["pca_clusters"]]
+   saveRDS(pca.genes.clusters.test,
+           file.path(testsDir, "pca.genes.clusters.test.RDS"))
+ 
+   # Make it a less strict check as it is only for testing
+   checker <- new("AdvancedGDIUniformityCheck")
+   checker <- shiftCheckerThresholds(checker, 0.1)
+ 
+   initialResolution <- 1.3
+   splitData <- cellsUniformClustering(objCOTAN = obj,
+                                       checker = checker,
+                                       initialResolution = initialResolution,
+                                       useCoexEigen = TRUE,
+                                       dataMethod = "LL",
+                                       numReducedComp = 50L,
+                                       cores = 6L, optimizeForSpeed = TRUE,
+                                       deviceStr = "cuda", saveObj = FALSE)
+ 
+   split.clusters.test <- splitData[["clusters"]]
+   saveRDS(split.clusters.test,
+           file = file.path(testsDir, "split.clusters.test.RDS"))
+ 
+   test.dataset.clusters1 <- split.clusters.test
+   save(test.dataset.clusters1, compress = TRUE,
+        file = file.path("data", "test.dataset.clusters1.rda"))
+ 
+   obj <- addClusterization(objCOTAN = obj,
+                            clName = "split",
+                            clusters = splitData[["clusters"]],
+                            coexDF = splitData[["coex"]])
+ 
+   coex.clusters.test <- splitData[["coex"]][genes.names.test, ]
+   saveRDS(coex.clusters.test, file.path(testsDir, "coex.clusters.test.RDS"))
+ 
+   pvalDF <- pValueFromDEA(splitData[["coex"]],
+                           getNumCells(objCOTAN = obj),
+                           adjustmentMethod = "none")
+ 
+   pvalues.clusters.test <- pvalDF[genes.names.test, ]
+   saveRDS(pvalues.clusters.test,
+           file.path(testsDir, "pvalues.clusters.test.RDS"))
+ 
+   mergedData <- mergeUniformCellsClusters(objCOTAN = obj,
+                                           clusters = splitData[["clusters"]],
+                                           checkers = checker,
+                                           batchSize = 1L,
+                                           cores = 6L,
+                                           distance = "cosine",
+                                           hclustMethod = "ward.D2",
+                                           saveObj = FALSE)
+ 
+   merge.clusters.test <- mergedData[["clusters"]]
+   saveRDS(merge.clusters.test,
+           file = file.path(testsDir, "merge.clusters.test.RDS"))
+ 
+   test.dataset.clusters2 <- merge.clusters.test
+   save(test.dataset.clusters2, compress = TRUE,
+        file = file.path("data", "test.dataset.clusters2.rda"))
+ 
+   obj <- addClusterization(objCOTAN = obj,
+                            clName = "merge",
+                            clusters = mergedData[["clusters"]],
+                            coexDF = mergedData[["coex"]])
+ }
> 
> proc.time()
   user  system elapsed 
  0.248   0.030   0.287 

COTAN.Rcheck/tests/spelling.Rout


R version 4.5.1 Patched (2025-08-23 r88802) -- "Great Square Root"
Copyright (C) 2025 The R Foundation for Statistical Computing
Platform: x86_64-pc-linux-gnu

R is free software and comes with ABSOLUTELY NO WARRANTY.
You are welcome to redistribute it under certain conditions.
Type 'license()' or 'licence()' for distribution details.

R is a collaborative project with many contributors.
Type 'contributors()' for more information and
'citation()' on how to cite R or R packages in publications.

Type 'demo()' for some demos, 'help()' for on-line help, or
'help.start()' for an HTML browser interface to help.
Type 'q()' to quit R.

> if (requireNamespace("spelling", quietly = TRUE))
+   spelling::spell_check_test(vignettes = TRUE, error = FALSE,
+                              skip_on_cran = TRUE)
All Done!
> 
> proc.time()
   user  system elapsed 
  0.177   0.035   0.228 

COTAN.Rcheck/tests/testthat.Rout.fail


R version 4.5.1 Patched (2025-08-23 r88802) -- "Great Square Root"
Copyright (C) 2025 The R Foundation for Statistical Computing
Platform: x86_64-pc-linux-gnu

R is free software and comes with ABSOLUTELY NO WARRANTY.
You are welcome to redistribute it under certain conditions.
Type 'license()' or 'licence()' for distribution details.

R is a collaborative project with many contributors.
Type 'contributors()' for more information and
'citation()' on how to cite R or R packages in publications.

Type 'demo()' for some demos, 'help()' for on-line help, or
'help.start()' for an HTML browser interface to help.
Type 'q()' to quit R.

> Sys.setenv(R_TESTS = "")
> library(testthat)
> library(COTAN)
> library(zeallot)
> test_check("COTAN")
Setting new log level to 4
Initializing `COTAN` meta-data
Genes/cells selection done: dropped [0] genes and [0] cells
Working on [10] genes and [20] cells
Estimate `dispersion`: START
Effective number of cores used: 1
Executing 1 genes batches
Parallel dispersion Newton-Raphson: used up to 5 iterations
Total calculations elapsed time: 1.53145980834961
Estimate `dispersion`: DONE
Estimate `dispersion`: DONE
`dispersion` | min: 0.903596292963576 | max: 4.67949426963453 | % negative: 10
Calculate genes' COEX (legacy): START
Retrieving expected genes' contingency table
calculating NN.. done
calculating NY..YN..YY..t().. done
Expected genes' contingency table elapsed time: 2.48614764213562
Calculating genes' COEX normalization factor
Calculate genes' normalization factor elapsed time: 0.000502586364746094
Retrieving observed genes' yes/yes contingency table
calculating YY.. done
Observed genes' contingency table elapsed time: 0.00597691535949707
Estimating genes' COEX
Calculate genes' COEX elapsed time: 0.800556182861328
Total calculations elapsed time: 3.29318332672119
Calculate genes' COEX (legacy): DONE
Genes/cells selection done: dropped [0] genes and [0] cells
Working on [10] genes and [20] cells
Estimate `dispersion`: START
Effective number of cores used: 1
Executing 5 genes batches
Parallel dispersion Newton-Raphson: used up to 5 iterations
Parallel dispersion Newton-Raphson: used up to 4 iterations
Parallel dispersion Newton-Raphson: used up to 5 iterations
Parallel dispersion Newton-Raphson: used up to 5 iterations
Parallel dispersion Newton-Raphson: used up to 5 iterations
Total calculations elapsed time: 5.26294779777527
Estimate `dispersion`: DONE
Estimate `dispersion`: DONE
`dispersion` | min: 0.903596292963576 | max: 4.67949426963453 | % negative: 10
Estimate `nu`: START
Effective number of cores used: 1
Executing 7 cells batches
Total calculations elapsed time: 0.923202276229858
Estimate `nu`: DONE
`nu` change (abs) | max: 1.75595238095238 | median:  1.07156808035714 | mean:  1.07156808035714
Estimate `dispersion`/`nu`: START
Estimate `dispersion`: START
Effective number of cores used: 1
Executing 1 genes batches
Parallel dispersion Newton-Raphson: used up to 5 iterations
Total calculations elapsed time: 1.63520169258118
Estimate `dispersion`: DONE
Estimate `dispersion`: DONE
`dispersion` | min: 1.03734183779544 | max: 4.61112297272667 | % negative: 10
Estimate `nu`: START
Effective number of cores used: 1
Executing 1 cells batches
Total calculations elapsed time: 0.800663232803345
Estimate `nu`: DONE
`nu` change (abs) | max: 0.0295487661210321 | median:  0.016072261901129 | mean:  0.016072261901129
`nu` mean: 1.69786080481514
Marginal errors | max: 1.95799528048 | median 1.32268477389029 | mean: 1.33563364783916
Estimate `dispersion`: START
Effective number of cores used: 1
Executing 1 genes batches
Parallel dispersion Newton-Raphson: used up to 5 iterations
Total calculations elapsed time: 1.8072407245636
Estimate `dispersion`: DONE
Estimate `dispersion`: DONE
`dispersion` | min: 0.0585450475968788 | max: 3.52739274166646 | % negative: 10
Estimate `nu`: START
Effective number of cores used: 1
Executing 1 cells batches
Total calculations elapsed time: 0.903061389923096
Estimate `nu`: DONE
`nu` change (abs) | max: 0.417150556912302 | median:  0.240156504520849 | mean:  0.240156504520849
`nu` mean: 0.823005947608547
Marginal errors | max: 0.837672524335755 | median 0.704691669139065 | mean: 0.646575831699997
Estimate `dispersion`: START
Effective number of cores used: 1
Executing 1 genes batches
Parallel dispersion Newton-Raphson: used up to 5 iterations
Total calculations elapsed time: 1.82841944694519
Estimate `dispersion`: DONE
Estimate `dispersion`: DONE
`dispersion` | min: 0.328845855849147 | max: 4.03031691940854 | % negative: 10
Estimate `nu`: START
Effective number of cores used: 1
Executing 1 cells batches
Total calculations elapsed time: 0.921732902526855
Estimate `nu`: DONE
`nu` change (abs) | max: 0.164439840041 | median:  0.0957105992188852 | mean:  0.0957105992188852
`nu` mean: 1.06872924082212
Marginal errors | max: 0.260109847946692 | median 0.21392791155499 | mean: 0.197565106613054
Estimate `dispersion`: START
Effective number of cores used: 1
Executing 1 genes batches
Parallel dispersion Newton-Raphson: used up to 5 iterations
Total calculations elapsed time: 1.8409264087677
Estimate `dispersion`: DONE
Estimate `dispersion`: DONE
`dispersion` | min: 0.229469002841045 | max: 3.87206403670079 | % negative: 10
Estimate `nu`: START
Effective number of cores used: 1
Executing 1 cells batches
Total calculations elapsed time: 0.995125770568848
Estimate `nu`: DONE
`nu` change (abs) | max: 0.05539667181205 | median:  0.0321044921874999 | mean:  0.0321044921874999
`nu` mean: 0.97670782037545
Marginal errors | max: 0.095347789718808 | median 0.0796003827042702 | mean: 0.0725509735761708
Estimate `dispersion`: START
Effective number of cores used: 1
Executing 1 genes batches
Parallel dispersion Newton-Raphson: used up to 5 iterations
Total calculations elapsed time: 1.66481423377991
Estimate `dispersion`: DONE
Estimate `dispersion`: DONE
`dispersion` | min: 0.263830434255107 | max: 3.92953043775907 | % negative: 10
Estimate `nu`: START
Effective number of cores used: 1
Executing 1 cells batches
Total calculations elapsed time: 1.06775045394897
Estimate `nu`: DONE
`nu` change (abs) | max: 0.0196209299693411 | median:  0.0114037947200925 | mean:  0.0114037947200925
`nu` mean: 1.00821713524925
Marginal errors | max: 0.0329495161656741 | median 0.0273479725376324 | mean: 0.025029675152131
Estimate `dispersion`: START
Effective number of cores used: 1
Executing 1 genes batches
Parallel dispersion Newton-Raphson: used up to 5 iterations
Total calculations elapsed time: 2.38725733757019
Estimate `dispersion`: DONE
Estimate `dispersion`: DONE
`dispersion` | min: 0.251734659898779 | max: 3.9096133246649 | % negative: 10
Estimate `nu`: START
Effective number of cores used: 1
Executing 1 cells batches
Total calculations elapsed time: 1.15722465515137
Estimate `nu`: DONE
`nu` change (abs) | max: 0.0069104540740097 | median:  0.0040109538496062 | mean:  0.0040109538496062
`nu` mean: 0.997100499775596
Marginal errors | max: 0.0116950057438405 | median 0.00972280144873849 | mean: 0.00889105008777538
Estimate `dispersion`: START
Effective number of cores used: 1
Executing 1 genes batches
Parallel dispersion Newton-Raphson: used up to 5 iterations
Total calculations elapsed time: 2.01201820373535
Estimate `dispersion`: DONE
Estimate `dispersion`: DONE
`dispersion` | min: 0.256009779031907 | max: 3.91667271750655 | % negative: 10
Estimate `nu`: START
Effective number of cores used: 1
Executing 1 cells batches
Total calculations elapsed time: 0.868233203887939
Estimate `nu`: DONE
`nu` change (abs) | max: 0.00251004753849005 | median:  0.00146484374999994 | mean:  0.00146484374999994
`nu` mean: 1.00104520378849
Marginal errors | max: 0.00430755646112857 | median 0.00358203399504298 | mean: 0.00327684342604062
Estimate `dispersion`: START
Effective number of cores used: 1
Executing 1 genes batches
Parallel dispersion Newton-Raphson: used up to 5 iterations
Total calculations elapsed time: 1.86604857444763
Estimate `dispersion`: DONE
Estimate `dispersion`: DONE
`dispersion` | min: 0.254429717857093 | max: 3.91406908073254 | % negative: 10
Estimate `nu`: START
Effective number of cores used: 1
Executing 1 cells batches
Total calculations elapsed time: 0.781516551971436
Estimate `nu`: DONE
`nu` change (abs) | max: 0.00104629156456748 | median:  0.000592910406456731 | mean:  0.000592910406456731
`nu` mean: 0.999546618841889
Marginal errors | max: 0.00162038706091039 | median 0.00134441676098973 | mean: 0.00123030512553282
Estimate `dispersion`: START
Effective number of cores used: 1
Executing 1 genes batches
Parallel dispersion Newton-Raphson: used up to 5 iterations
Total calculations elapsed time: 1.67485737800598
Estimate `dispersion`: DONE
Estimate `dispersion`: DONE
`dispersion` | min: 0.255022049769696 | max: 3.91504587939868 | % negative: 10
Estimate `nu`: START
Effective number of cores used: 1
Executing 1 cells batches
Total calculations elapsed time: 0.855257034301758
Estimate `nu`: DONE
`nu` change (abs) | max: 0.000418450901304768 | median:  0.000244140625000028 | mean:  0.000244140625000028
`nu` mean: 1.0001743102763
Marginal errors | max: 0.00071569233034019 | median 0.000597297218559056 | mean: 0.00054590699507937
Total calculations elapsed time: 50.1540858745575
Estimate `dispersion`/`nu`: DONE
Estimate `dispersion`/`nu`: START
Initializing `COTAN` meta-data
Genes/cells selection done: dropped [0] genes and [0] cells
Working on [10] genes and [20] cells
Estimate `dispersion`: START
Effective number of cores used: 1
Executing 1 genes batches
Parallel dispersion Newton-Raphson: used up to 5 iterations
Total calculations elapsed time: 1.67568445205688
Estimate `dispersion`: DONE
Estimate `dispersion`: DONE
`dispersion` | min: 0.903596292963576 | max: 4.67949426963453 | % negative: 10
While trying to load the `torch` library Error in doTryCatch(return(expr), name, parentenv, handler): The `torch` library is installed but the required additional libraries are not available yet

Calculate genes' COEX (legacy): START
Retrieving expected genes' contingency table
calculating NN.. done
calculating NY..YN..YY..t().. done
Expected genes' contingency table elapsed time: 3.14158082008362
Calculating genes' COEX normalization factor
Fraction of genes' with very low expected contingency tables: 0.181818181818182
Calculate genes' normalization factor elapsed time: 0.000704050064086914
Retrieving observed genes' yes/yes contingency table
calculating YY.. done
Observed genes' contingency table elapsed time: 0.00342679023742676
Estimating genes' COEX
Calculate genes' COEX elapsed time: 1.03567171096802
Total calculations elapsed time: 4.18138337135315
Calculate genes' COEX (legacy): DONE
Calculate cells' COEX (legacy): START
Retrieving expected cells' contingency table
calculating NN.. done
calculating YN..NY..YY..t().. done
Expected cells' contingency table elapsed time: 2.98760938644409
Calculating cells' COEX normalization factor
Fraction of cells' with very low expected contingency tables: 0
Calculate cells' normalization factor elapsed time: 0.000661611557006836
Retrieving observed cells' yes/yes contingency table
calculating YY.. done
Observed cells' contingency table elapsed time: 0.00211310386657715
Estimating cells' COEX
Calculate cells' COEX elapsed time: 0.852308511734009
Total calculations elapsed time: 3.84269261360168
Calculate cells' COEX (legacy): DONE
Calculate GDI dataframe: START
Using S
Calculating S: START
Calculating S: DONE
Calculate `GDI`: START
Effective number of cores used: 1
Executing 1 genes batches
Total calculations elapsed time: 0.0108692646026611
Calculate `GDI`: DONE
Total calculations elapsed time: 2.84963965415955
Calculate GDI dataframe: DONE
Calculate GDI dataframe: START
Using S
Calculating S: START
Calculating S: DONE
Calculate `GDI`: START
Effective number of cores used: 1
Executing 1 genes batches
Total calculations elapsed time: 0.0029454231262207
Calculate `GDI`: DONE
Total calculations elapsed time: 2.77823328971863
Calculate GDI dataframe: DONE
Included 1 genes with GDI below 1.3
Selected 10 genes using HGDI selector
Running genes' selection: DONE
Running genes' selection: START
Included 1 genes with GDI below 1.3
Selected 10 genes using HGDI selector
Running genes' selection: DONE
Running genes' selection: START
Included 1 genes with GDI below 1.3
Selected 10 genes using HGDI selector
Running genes' selection: DONE
Running genes' selection: START
Selected 5 genes using HGDI selector
Running genes' selection: DONE
Running genes' selection: START
Normalizing layer: counts
Performing log-normalization
0%   10   20   30   40   50   60   70   80   90   100%
[----|----|----|----|----|----|----|----|----|----|
**************************************************|
Finding variable features for layer counts
Calculating gene variances
0%   10   20   30   40   50   60   70   80   90   100%
[----|----|----|----|----|----|----|----|----|----|
**************************************************|
Calculating feature variances of standardized and clipped values
0%   10   20   30   40   50   60   70   80   90   100%
[----|----|----|----|----|----|----|----|----|----|
**************************************************|
Selected 5 genes using HVG_Seurat selector
Running genes' selection: DONE
Running genes' selection: START
Normalizing layer: counts
Performing log-normalization
0%   10   20   30   40   50   60   70   80   90   100%
[----|----|----|----|----|----|----|----|----|----|
**************************************************|
Finding variable features for layer data
Calculating gene means
0%   10   20   30   40   50   60   70   80   90   100%
[----|----|----|----|----|----|----|----|----|----|
**************************************************|
Calculating gene variance to mean ratios
0%   10   20   30   40   50   60   70   80   90   100%
[----|----|----|----|----|----|----|----|----|----|
**************************************************|
Running genes' selection: START
Given 5 genes as input
Running genes' selection: DONE
Elaborating Reduced dimensionality Data Matrix - START
Running genes' selection: START
Included 1 genes with GDI below 1.3
Selected 10 genes using HGDI selector
Running genes' selection: DONE
Elaborating PCA - START
Elaborating PCA - DONE
Total calculations elapsed time: 2.21666669845581
Elaborating Reduced dimensionality Data Matrix - DONE
Elaborating Reduced dimensionality Data Matrix - START
Running genes' selection: START
Included 1 genes with GDI below 1.3
Selected 10 genes using HGDI selector
Running genes' selection: DONE
Elaborating PCA - START
Elaborating PCA - DONE
Total calculations elapsed time: 1.82220244407654
Elaborating Reduced dimensionality Data Matrix - DONE
Elaborating Reduced dimensionality Data Matrix - START
Running genes' selection: START
Selected 8 genes using HGDI selector
Running genes' selection: DONE
Elaborating PCA - START
Elaborating PCA - DONE
Total calculations elapsed time: 1.80951333045959
Elaborating Reduced dimensionality Data Matrix - DONE
Elaborating Reduced dimensionality Data Matrix - START
Running genes' selection: START
Normalizing layer: counts
Performing log-normalization
0%   10   20   30   40   50   60   70   80   90   100%
[----|----|----|----|----|----|----|----|----|----|
**************************************************|
Finding variable features for layer counts
Calculating gene variances
0%   10   20   30   40   50   60   70   80   90   100%
[----|----|----|----|----|----|----|----|----|----|
**************************************************|
Calculating feature variances of standardized and clipped values
0%   10   20   30   40   50   60   70   80   90   100%
[----|----|----|----|----|----|----|----|----|----|
**************************************************|
Selected 8 genes using HVG_Seurat selector
Running genes' selection: DONE
Elaborating PCA - START
Elaborating PCA - DONE
Total calculations elapsed time: 2.89562511444092
Elaborating Reduced dimensionality Data Matrix - DONE
Elaborating Reduced dimensionality Data Matrix - START
Elaborating COEX Eigen Vectors - START
Elaborating COEX Eigen Vectors - DONE
Total calculations elapsed time: 2.89063215255737
Elaborating Reduced dimensionality Data Matrix - DONE
Elaborating Reduced dimensionality Data Matrix - START
Elaborating COEX Eigen Vectors - START
Elaborating COEX Eigen Vectors - DONE
Total calculations elapsed time: 2.65475583076477
Elaborating Reduced dimensionality Data Matrix - DONE
Initializing `COTAN` meta-data
Initializing `COTAN` meta-data
Genes/cells selection done: dropped [0] genes and [0] cells
Working on [10] genes and [20] cells
Estimate `dispersion`/`nu`: START
Estimate `dispersion`: START
Effective number of cores used: 1
Executing 1 genes batches
Parallel dispersion Newton-Raphson: used up to 5 iterations
Total calculations elapsed time: 1.92062401771545
Estimate `dispersion`: DONE
Estimate `dispersion`: DONE
`dispersion` | min: 0.903596292963576 | max: 4.67949426963453 | % negative: 10
Estimate `nu`: START
Effective number of cores used: 1
Executing 1 cells batches
Total calculations elapsed time: 0.916211605072021
Estimate `nu`: DONE
`nu` change (abs) | max: 1.75719246031746 | median:  1.07229953342014 | mean:  1.07229953342014
`nu` mean: 1.68489292689732
Marginal errors | max: 1.735699617106 | median 1.37997441333659 | mean: 1.32181397451301
Estimate `dispersion`: START
Effective number of cores used: 1
Executing 1 genes batches
Parallel dispersion Newton-Raphson: used up to 5 iterations
Total calculations elapsed time: 1.79859924316406
Estimate `dispersion`: DONE
Estimate `dispersion`: DONE
`dispersion` | min: 0.0655494303592343 | max: 3.54400580804152 | % negative: 10
Estimate `nu`: START
Effective number of cores used: 1
Executing 1 cells batches
Total calculations elapsed time: 0.867582321166992
Estimate `nu`: DONE
`nu` change (abs) | max: 0.402649984216273 | median:  0.231868788425666 | mean:  0.231868788425666
`nu` mean: 0.829218804209393
Marginal errors | max: 0.803248939260364 | median 0.677504196374571 | mean: 0.619386446933351
Estimate `dispersion`: START
Effective number of cores used: 1
Executing 1 genes batches
Parallel dispersion Newton-Raphson: used up to 5 iterations
Total calculations elapsed time: 1.87185263633728
Estimate `dispersion`: DONE
Estimate `dispersion`: DONE
`dispersion` | min: 0.326019058449519 | max: 4.02612397202046 | % negative: 10
Estimate `nu`: START
Effective number of cores used: 1
Executing 1 cells batches
Total calculations elapsed time: 0.927942514419556
Estimate `nu`: DONE
`nu` change (abs) | max: 0.158004893526231 | median:  0.0919692884670312 | mean:  0.0919692884670312
`nu` mean: 1.0660356050592
Marginal errors | max: 0.25067700287536 | median 0.206241644985115 | mean: 0.190402167377958
Estimate `dispersion`: START
Effective number of cores used: 1
Executing 1 genes batches
Parallel dispersion Newton-Raphson: used up to 5 iterations
Total calculations elapsed time: 2.03593635559082
Estimate `dispersion`: DONE
Estimate `dispersion`: DONE
`dispersion` | min: 0.230397316576369 | max: 3.87365659194104 | % negative: 10
Estimate `nu`: START
Effective number of cores used: 1
Executing 1 cells batches
Total calculations elapsed time: 0.901268005371094
Estimate `nu`: DONE
`nu` change (abs) | max: 0.0532774732102337 | median:  0.0308837890624999 | mean:  0.0308837890624999
`nu` mean: 0.977606315852266
Marginal errors | max: 0.0916920322976189 | median 0.0765360853958175 | mean: 0.0697673030094085
Estimate `dispersion`: START
Effective number of cores used: 1
Executing 1 genes batches
Parallel dispersion Newton-Raphson: used up to 5 iterations
Total calculations elapsed time: 1.783118724823
Estimate `dispersion`: DONE
Estimate `dispersion`: DONE
`dispersion` | min: 0.263457616228195 | max: 3.928924407347 | % negative: 10
Estimate `nu`: START
Effective number of cores used: 1
Executing 1 cells batches
Total calculations elapsed time: 0.955687522888184
Estimate `nu`: DONE
`nu` change (abs) | max: 0.0187878665732679 | median:  0.0109155550210726 | mean:  0.0109155550210726
`nu` mean: 1.0078723115522
Marginal errors | max: 0.0315207323253404 | median 0.0261635598193228 | mean: 0.0239435763640456
Estimate `dispersion`: START
Effective number of cores used: 1
Executing 1 genes batches
Parallel dispersion Newton-Raphson: used up to 5 iterations
Total calculations elapsed time: 1.74610185623169
Estimate `dispersion`: DONE
Estimate `dispersion`: DONE
`dispersion` | min: 0.251890641847533 | max: 3.90987172241566 | % negative: 10
Estimate `nu`: START
Effective number of cores used: 1
Executing 1 cells batches
Total calculations elapsed time: 0.85100531578064
Estimate `nu`: DONE
`nu` change (abs) | max: 0.00649137083358098 | median:  0.00376680890457393 | mean:  0.00376680890457393
`nu` mean: 0.997275438070993
Marginal errors | max: 0.0109748802265024 | median 0.00912386940474796 | mean: 0.00834350038184244
Estimate `dispersion`: START
Effective number of cores used: 1
Executing 1 genes batches
Parallel dispersion Newton-Raphson: used up to 5 iterations
Total calculations elapsed time: 1.82255005836487
Estimate `dispersion`: DONE
Estimate `dispersion`: DONE
`dispersion` | min: 0.255902752363649 | max: 3.91649655995187 | % negative: 10
Estimate `nu`: START
Effective number of cores used: 1
Executing 1 cells batches
Total calculations elapsed time: 0.927582263946533
Estimate `nu`: DONE
`nu` change (abs) | max: 0.00230094227000666 | median:  0.00132529141000018 | mean:  0.00132529141000018
`nu` mean: 1.00097565086001
Marginal errors | max: 0.00376864912836616 | median 0.00313421412286008 | mean: 0.00286709489297579
Estimate `dispersion`: START
Effective number of cores used: 1
Executing 1 genes batches
Parallel dispersion Newton-Raphson: used up to 5 iterations
Total calculations elapsed time: 1.81090259552002
Estimate `dispersion`: DONE
Estimate `dispersion`: DONE
`dispersion` | min: 0.254520292119112 | max: 3.91421850264948 | % negative: 10
Estimate `nu`: START
Effective number of cores used: 1
Executing 1 cells batches
Total calculations elapsed time: 0.957221031188965
Estimate `nu`: DONE
`nu` change (abs) | max: 0.000837013154366462 | median:  0.000488281250000028 | mean:  0.000488281250000028
`nu` mean: 0.999651268095634
Marginal errors | max: 0.00144055320514802 | median 0.00119489364392944 | mean: 0.00109355439757213
Estimate `dispersion`: START
Effective number of cores used: 1
Executing 1 genes batches
Parallel dispersion Newton-Raphson: used up to 5 iterations
Total calculations elapsed time: 1.79047775268555
Estimate `dispersion`: DONE
Estimate `dispersion`: DONE
`dispersion` | min: 0.255046800817986 | max: 3.9150866760965 | % negative: 10
Estimate `nu`: START
Effective number of cores used: 1
Executing 1 cells batches
Total calculations elapsed time: 0.966063499450684
Estimate `nu`: DONE
`nu` change (abs) | max: 0.000418448154490214 | median:  0.000244140624999917 | mean:  0.000244140624999917
`nu` mean: 1.00017430752949
Marginal errors | max: 0.000715683388516908 | median 0.0005972847342397 | mean: 0.00054589991652243
Total calculations elapsed time: 50.1693003177643
Estimate `dispersion`/`nu`: DONE
While trying to load the `torch` library Error in doTryCatch(return(expr), name, parentenv, handler): The `torch` library is installed but the required additional libraries are not available yet

Calculate genes' COEX (legacy): START
Retrieving expected genes' contingency table
calculating NN.. done
calculating NY..YN..YY..t().. done
Expected genes' contingency table elapsed time: 2.98031973838806
Calculating genes' COEX normalization factor
Calculate genes' normalization factor elapsed time: 0.000746250152587891
Retrieving observed genes' yes/yes contingency table
calculating YY.. done
Observed genes' contingency table elapsed time: 0.0019383430480957
Estimating genes' COEX
Calculate genes' COEX elapsed time: 0.877611398696899
Total calculations elapsed time: 3.86061573028564
Calculate genes' COEX (legacy): DONE
Calculate cells' COEX (legacy): START
Retrieving expected cells' contingency table
calculating NN.. done
calculating YN..NY..YY..t().. done
Expected cells' contingency table elapsed time: 3.14262223243713
Calculating cells' COEX normalization factor
Calculate cells' normalization factor elapsed time: 0.000621557235717773
Retrieving observed cells' yes/yes contingency table
calculating YY.. done
Observed cells' contingency table elapsed time: 0.0016334056854248
Estimating cells' COEX
Calculate cells' COEX elapsed time: 0.957556247711182
Total calculations elapsed time: 4.10243344306946
Calculate cells' COEX (legacy): DONE
Calculate GDI dataframe: START
Using S
Calculating S: START
Calculating S: DONE
Calculate `GDI`: START
Effective number of cores used: 1
Executing 1 genes batches
Total calculations elapsed time: 0.00461196899414062
Calculate `GDI`: DONE
Total calculations elapsed time: 2.65784883499146
Calculate GDI dataframe: DONE
Calculate genes' partial COEX: START
Retrieving expected genes' partial contingency table
calculating partial NN.. done
calculating partial NY..YN..YY.. done
Calculating genes' partial COEX normalization factor
Fraction of genes with very low expected contingency tables: 0.325
Retrieving observed genes' yes/yes partial contingency table
calculating partial YY.. done
Estimating genes' partial COEX
Total calculations elapsed time: 7.68350625038147
Calculate genes' partial COEX: DONE
Calculate cells' partial COEX: START
Retrieving expected cells' partial contingency table
calculating partial NN.. done
calculating partial YN..NY..YY.. done
Calculating cells' partial COEX normalization factor
Fraction of genes with very low expected contingency tables: 0
Retrieving observed cells' yes/yes partial contingency table
calculating partial YY.. done
Estimating cells' partial COEX
Total calculations elapsed time: 7.73416352272034
Calculate cells' partial COEX: DONE
Asked to drop 2 genes and 0 cells
Asked to drop 0 genes and 4 cells
Asked to drop 2 genes and 2 cells

Attaching package: 'rlang'

The following objects are masked from 'package:testthat':

    is_false, is_null, is_true

Genes/cells selection done: dropped [0] genes and [0] cells
Working on [10] genes and [20] cells
calculating YY.. done
calculating YY.. done
calculating YN..NY..NN..t().. done
Estimate `dispersion`: START
Effective number of cores used: 1
Executing 3 genes batches
Parallel dispersion Newton-Raphson: used up to 5 iterations
Parallel dispersion Newton-Raphson: used up to 5 iterations
Parallel dispersion Newton-Raphson: used up to 5 iterations
Total calculations elapsed time: 3.6880829334259
Estimate `dispersion`: DONE
Estimate `dispersion`: DONE
`dispersion` | min: 0.903596292963576 | max: 4.67949426963453 | % negative: 10
calculating NN.. done
calculating NN.. done
calculating NY..YN..YY..t().. done
Calculate genes' COEX (legacy): START
Retrieving expected genes' contingency table
calculating NN.. done
calculating NY..YN..YY..t().. done
Expected genes' contingency table elapsed time: 3.24078321456909
Calculating genes' COEX normalization factor
Fraction of genes' with very low expected contingency tables: 0.181818181818182
Calculate genes' normalization factor elapsed time: 0.000781774520874023
Retrieving observed genes' yes/yes contingency table
calculating YY.. done
Observed genes' contingency table elapsed time: 0.00162410736083984
Estimating genes' COEX
Calculate genes' COEX elapsed time: 0.876401424407959
Total calculations elapsed time: 4.11959052085876
Calculate genes' COEX (legacy): DONE
While trying to load the `torch` library Error in doTryCatch(return(expr), name, parentenv, handler): The `torch` library is installed but the required additional libraries are not available yet

Calculate genes' COEX (legacy): START
Retrieving expected genes' contingency table
calculating NN.. done
calculating NY..YN..YY..t().. done
Expected genes' contingency table elapsed time: 3.15739226341248
Calculating genes' COEX normalization factor
Calculate genes' normalization factor elapsed time: 0.000719070434570312
Retrieving observed genes' yes/yes contingency table
calculating YY.. done
Observed genes' contingency table elapsed time: 0.00179672241210938
Estimating genes' COEX
Calculate genes' COEX elapsed time: 1.13319253921509
Total calculations elapsed time: 4.29310059547424
Calculate genes' COEX (legacy): DONE
Calculate genes' partial COEX: START
Retrieving expected genes' partial contingency table
calculating partial NN.. done
calculating partial NY..YN..YY.. done
Calculating genes' partial COEX normalization factor
Fraction of genes with very low expected contingency tables: 0.1
Retrieving observed genes' yes/yes partial contingency table
calculating partial YY.. done
Estimating genes' partial COEX
Total calculations elapsed time: 8.08202600479126
Calculate genes' partial COEX: DONE
Calculate genes' partial COEX: START
Retrieving expected genes' partial contingency table
calculating partial NN.. done
calculating partial NY..YN..YY.. done
Calculating genes' partial COEX normalization factor
Fraction of genes with very low expected contingency tables: 0.4
Retrieving observed genes' yes/yes partial contingency table
calculating partial YY.. done
Estimating genes' partial COEX
Total calculations elapsed time: 8.07213354110718
Calculate genes' partial COEX: DONE
Genes/cells selection done: dropped [0] genes and [0] cells
Working on [10] genes and [20] cells
calculating YY.. done
calculating YY.. done
calculating NY..YN..NN..t().. done
Estimate `dispersion`/`nu`: START
Estimate `dispersion`: START
Effective number of cores used: 1
Executing 3 genes batches
Parallel dispersion Newton-Raphson: used up to 5 iterations
Parallel dispersion Newton-Raphson: used up to 5 iterations
Parallel dispersion Newton-Raphson: used up to 5 iterations
Total calculations elapsed time: 3.8045289516449
Estimate `dispersion`: DONE
Estimate `dispersion`: DONE
`dispersion` | min: 0.903596292963576 | max: 4.67949426963453 | % negative: 10
Estimate `nu`: START
Effective number of cores used: 1
Executing 5 cells batches
Total calculations elapsed time: 1.08800077438354
Estimate `nu`: DONE
`nu` change (abs) | max: 1.75719246031746 | median:  1.07229953342014 | mean:  1.07229953342014
`nu` mean: 1.68489292689732
Marginal errors | max: 0.255290533439036 | median 0.080731376500534 | mean: 0.101968565509112
Estimate `dispersion`: START
Effective number of cores used: 1
Executing 3 genes batches
Parallel dispersion Newton-Raphson: used up to 5 iterations
Parallel dispersion Newton-Raphson: used up to 5 iterations
Parallel dispersion Newton-Raphson: used up to 5 iterations
Total calculations elapsed time: 3.73840641975403
Estimate `dispersion`: DONE
Estimate `dispersion`: DONE
`dispersion` | min: 1.03709166563768 | max: 4.61069655774133 | % negative: 10
Estimate `nu`: START
Effective number of cores used: 1
Executing 5 cells batches
Total calculations elapsed time: 0.927622079849243
Estimate `nu`: DONE
`nu` change (abs) | max: 0.0273438105507502 | median:  0.0148852611818011 | mean:  0.0148852611818011
`nu` mean: 1.69735147626627
Marginal errors | max: 0.00330148418741594 | median 0.00111713187082163 | mean: 0.00132007186542964
Estimate `dispersion`: START
Effective number of cores used: 1
Executing 3 genes batches
Parallel dispersion Newton-Raphson: used up to 5 iterations
Parallel dispersion Newton-Raphson: used up to 5 iterations
Parallel dispersion Newton-Raphson: used up to 5 iterations
Total calculations elapsed time: 3.61426186561584
Estimate `dispersion`: DONE
Estimate `dispersion`: DONE
`dispersion` | min: 1.03887279473672 | max: 4.60974134092906 | % negative: 10
Estimate `nu`: START
Effective number of cores used: 1
Executing 5 cells batches
Total calculations elapsed time: 0.932351112365723
Estimate `nu`: DONE
`nu` change (abs) | max: 0 | median:  0 | mean:  0
`nu` mean: 1.69735147626627
Marginal errors | max: 5.14174422185931e-05 | median 1.6818224857218e-07 | mean: 5.57649710835051e-06
Total calculations elapsed time: 22.661737203598
Estimate `dispersion`/`nu`: DONE
calculating NN.. done
calculating NN.. done
calculating YN..NY..YY..t().. done
Calculate cells' COEX (legacy): START
Retrieving expected cells' contingency table
calculating NN.. done
calculating YN..NY..YY..t().. done
Expected cells' contingency table elapsed time: 3.26160788536072
Calculating cells' COEX normalization factor
Fraction of cells' with very low expected contingency tables: 0
Calculate cells' normalization factor elapsed time: 0.00110554695129395
Retrieving observed cells' yes/yes contingency table
calculating YY.. done
Observed cells' contingency table elapsed time: 0.00213027000427246
Estimating cells' COEX
Calculate cells' COEX elapsed time: 0.935766458511353
Total calculations elapsed time: 4.20061016082764
Calculate cells' COEX (legacy): DONE
Calculate cells' partial COEX: START
Retrieving expected cells' partial contingency table
calculating partial NN.. done
calculating partial YN..NY..YY.. done
Calculating cells' partial COEX normalization factor
Fraction of genes with very low expected contingency tables: 0
Retrieving observed cells' yes/yes partial contingency table
calculating partial YY.. done
Estimating cells' partial COEX
Total calculations elapsed time: 7.38544344902039
Calculate cells' partial COEX: DONE
Calculate cells' partial COEX: START
Retrieving expected cells' partial contingency table
calculating partial NN.. done
calculating partial YN..NY..YY.. done
Calculating cells' partial COEX normalization factor
Fraction of genes with very low expected contingency tables: 0
Retrieving observed cells' yes/yes partial contingency table
calculating partial YY.. done
Estimating cells' partial COEX
Total calculations elapsed time: 7.67146444320679
Calculate cells' partial COEX: DONE
Genes/cells selection done: dropped [0] genes and [0] cells
Working on [10] genes and [20] cells
Estimate `dispersion`/`nu`: START
Estimate `dispersion`: START
Effective number of cores used: 1
Executing 3 genes batches
Parallel dispersion Newton-Raphson: used up to 5 iterations
Parallel dispersion Newton-Raphson: used up to 5 iterations
Parallel dispersion Newton-Raphson: used up to 5 iterations
Total calculations elapsed time: 3.94534540176392
Estimate `dispersion`: DONE
Estimate `dispersion`: DONE
`dispersion` | min: 0.903596292963576 | max: 4.67949426963453 | % negative: 10
Estimate `nu`: START
Effective number of cores used: 1
Executing 5 cells batches
Total calculations elapsed time: 0.961398363113403
Estimate `nu`: DONE
`nu` change (abs) | max: 1.75719246031746 | median:  1.07229953342014 | mean:  1.07229953342014
`nu` mean: 1.68489292689732
Marginal errors | max: 0.255290533439036 | median 0.080731376500534 | mean: 0.101968565509112
Estimate `dispersion`: START
Effective number of cores used: 1
Executing 3 genes batches
Parallel dispersion Newton-Raphson: used up to 5 iterations
Parallel dispersion Newton-Raphson: used up to 5 iterations
Parallel dispersion Newton-Raphson: used up to 5 iterations
Total calculations elapsed time: 3.88850736618042
Estimate `dispersion`: DONE
Estimate `dispersion`: DONE
`dispersion` | min: 1.03709166563768 | max: 4.61069655774133 | % negative: 10
Estimate `nu`: START
Effective number of cores used: 1
Executing 5 cells batches
Total calculations elapsed time: 0.997687816619873
Estimate `nu`: DONE
`nu` change (abs) | max: 0.0273438105507502 | median:  0.0148852611818011 | mean:  0.0148852611818011
`nu` mean: 1.69735147626627
Marginal errors | max: 0.00330148418741594 | median 0.00111713187082163 | mean: 0.00132007186542964
Estimate `dispersion`: START
Effective number of cores used: 1
Executing 3 genes batches
Parallel dispersion Newton-Raphson: used up to 5 iterations
Parallel dispersion Newton-Raphson: used up to 5 iterations
Parallel dispersion Newton-Raphson: used up to 5 iterations
Total calculations elapsed time: 4.11983680725098
Estimate `dispersion`: DONE
Estimate `dispersion`: DONE
`dispersion` | min: 1.03887279473672 | max: 4.60974134092906 | % negative: 10
Estimate `nu`: START
Effective number of cores used: 1
Executing 5 cells batches
Total calculations elapsed time: 0.993763208389282
Estimate `nu`: DONE
`nu` change (abs) | max: 0 | median:  0 | mean:  0
`nu` mean: 1.69735147626627
Marginal errors | max: 5.14174422185931e-05 | median 1.6818224857218e-07 | mean: 5.57649710835051e-06
Total calculations elapsed time: 23.8833405971527
Estimate `dispersion`/`nu`: DONE
Calculate genes' COEX (legacy): START
Retrieving expected genes' contingency table
calculating NN.. done
calculating NY..YN..YY..t().. done
Expected genes' contingency table elapsed time: 3.58971643447876
Calculating genes' COEX normalization factor
Calculate genes' normalization factor elapsed time: 0.000613212585449219
Retrieving observed genes' yes/yes contingency table
calculating YY.. done
Observed genes' contingency table elapsed time: 0.0056297779083252
Estimating genes' COEX
Calculate genes' COEX elapsed time: 1.00192952156067
Total calculations elapsed time: 4.5978889465332
Calculate genes' COEX (legacy): DONE
Calculating S: START
Calculating S: DONE
Calculating G: START
calculating YY.. done
calculating YN..NY..NN..t().. done
calculating NN.. done
calculating NY..YN..YY..t().. done
Estimating G
Total calculations elapsed time: 7.3023476600647
Calculating G: DONE
Using S
Calculating S: START
Calculating S: DONE
calculating PValues: START
Get p-values genome wide on columns and genome wide on rows
Total calculations elapsed time: 0.00242352485656738
calculating PValues: DONE
Using G
Calculating G: START
calculating YY.. done
calculating YN..NY..NN..t().. done
calculating NN.. done
calculating NY..YN..YY..t().. done
Estimating G
Total calculations elapsed time: 8.01251101493835
Calculating G: DONE
calculating PValues: START
Get p-values on a set of genes on columns and on a set of genes on rows
Total calculations elapsed time: 8.0178816318512
calculating PValues: DONE
Calculate GDI dataframe: START
Using S
Calculating S: START
Calculating S: DONE
Calculate `GDI`: START
Effective number of cores used: 1
Executing 1 genes batches
Total calculations elapsed time: 0.0076596736907959
Calculate `GDI`: DONE
Total calculations elapsed time: 3.34751772880554
Calculate GDI dataframe: DONE
Calculate GDI dataframe: START
Using G
Calculating G: START
calculating YY.. done
calculating YN..NY..NN..t().. done
calculating NN.. done
calculating NY..YN..YY..t().. done
Estimating G
Total calculations elapsed time: 8.41926097869873
Calculating G: DONE
Calculate `GDI`: START
Effective number of cores used: 1
Executing 1 genes batches
Total calculations elapsed time: 0.00391697883605957
Calculate `GDI`: DONE
Total calculations elapsed time: 11.8642838001251
Calculate GDI dataframe: DONE
Calculate `GDI`: START
Calculating S: START
Calculating S: DONE
Effective number of cores used: 1
Executing 1 genes batches
Total calculations elapsed time: 0.00543951988220215
Calculate `GDI`: DONE
Calculate `GDI`: START
Effective number of cores used: 1
Executing 1 genes batches
Total calculations elapsed time: 0.00425457954406738
Calculate `GDI`: DONE
Initializing `COTAN` meta-data
COTAN dataset analysis: START
Genes/cells selection done: dropped [0] genes and [0] cells
Working on [600] genes and [1000] cells
Dataset cleaning elapsed time: 1.10925674438477
Estimate `dispersion`: START
Effective number of cores used: 1
Executing 1 genes batches
Parallel dispersion Newton-Raphson: used up to 7 iterations
Total calculations elapsed time: 2.13938426971436
Estimate `dispersion`: DONE
Estimate `dispersion`: DONE
`dispersion` | min: -0.0529252975916502 | max: 462.908586418992 | % negative: 17.3333333333333
Model parameter estimation elapsed time: 3.04005289077759
COTAN genes' COEX estimation: START
While trying to load the `torch` library Error in doTryCatch(return(expr), name, parentenv, handler): The `torch` library is installed but the required additional libraries are not available yet

Calculate genes' COEX (legacy): START
Retrieving expected genes' contingency table
calculating NN.. done
calculating NY..YN..YY..t().. done
Expected genes' contingency table elapsed time: 14.9877331256866
Calculating genes' COEX normalization factor
Calculate genes' normalization factor elapsed time: 0.00818967819213867
Retrieving observed genes' yes/yes contingency table
calculating YY.. done
Observed genes' contingency table elapsed time: 0.0894663333892822
Estimating genes' COEX
Calculate genes' COEX elapsed time: 1.06437110900879
Total calculations elapsed time: 16.1497602462769
Calculate genes' COEX (legacy): DONE
Only genes' COEX elapsed time: 17.266788482666
Dataset analysis elapsed time: 21.4160981178284
COTAN dataset analysis: DONE
Initializing `COTAN` meta-data
Condition test
n cells 1000
COTAN dataset analysis: START
Genes/cells selection done: dropped [0] genes and [0] cells
Working on [600] genes and [1000] cells
Dataset cleaning elapsed time: 0.998638868331909
Estimate `dispersion`: START
Effective number of cores used: 1
Executing 1 genes batches
Parallel dispersion Newton-Raphson: used up to 7 iterations
Total calculations elapsed time: 2.07677793502808
Estimate `dispersion`: DONE
Estimate `dispersion`: DONE
`dispersion` | min: -0.0529252975916502 | max: 462.908586418992 | % negative: 17.3333333333333
Model parameter estimation elapsed time: 3.16167044639587
COTAN genes' COEX estimation: START
While trying to load the `torch` library Error in doTryCatch(return(expr), name, parentenv, handler): The `torch` library is installed but the required additional libraries are not available yet

Calculate genes' COEX (legacy): START
Retrieving expected genes' contingency table
calculating NN.. done
calculating NY..YN..YY..t().. done
Expected genes' contingency table elapsed time: 16.1800127029419
Calculating genes' COEX normalization factor
Calculate genes' normalization factor elapsed time: 0.00960755348205566
Retrieving observed genes' yes/yes contingency table
calculating YY.. done
Observed genes' contingency table elapsed time: 0.0946228504180908
Estimating genes' COEX
Calculate genes' COEX elapsed time: 1.26804685592651
Total calculations elapsed time: 17.5522899627686
Calculate genes' COEX (legacy): DONE
Only genes' COEX elapsed time: 18.7991800308228
Dataset analysis elapsed time: 22.9594893455505
COTAN dataset analysis: DONE
Using S
Calculating S: START
Calculating S: DONE
calculating PValues: START
Get p-values on a set of genes on columns and on a set of genes on rows
Total calculations elapsed time: 0.0276851654052734
calculating PValues: DONE
Calculate GDI dataframe: START
Using S
Calculating S: START
Calculating S: DONE
Calculate `GDI`: START
Effective number of cores used: 1
Executing 1 genes batches
Total calculations elapsed time: 0.0353090763092041
Calculate `GDI`: DONE
Total calculations elapsed time: 4.03556203842163
Calculate GDI dataframe: DONE
Initializing `COTAN` meta-data
Condition test
n cells 1000
COTAN dataset analysis: START
Genes/cells selection done: dropped [0] genes and [0] cells
Working on [600] genes and [1000] cells
Dataset cleaning elapsed time: 1.35184049606323
Estimate `dispersion`: START
Effective number of cores used: 1
Executing 1 genes batches
Parallel dispersion Newton-Raphson: used up to 7 iterations
Total calculations elapsed time: 2.54775238037109
Estimate `dispersion`: DONE
Estimate `dispersion`: DONE
`dispersion` | min: -0.0529252975916502 | max: 462.908586418992 | % negative: 17.3333333333333
Model parameter estimation elapsed time: 3.64262962341309
COTAN genes' COEX estimation: START
While trying to load the `torch` library Error in doTryCatch(return(expr), name, parentenv, handler): The `torch` library is installed but the required additional libraries are not available yet

Calculate genes' COEX (legacy): START
Retrieving expected genes' contingency table
calculating NN.. done
calculating NY..YN..YY..t().. done
Expected genes' contingency table elapsed time: 16.2017652988434
Calculating genes' COEX normalization factor
Calculate genes' normalization factor elapsed time: 0.0074615478515625
Retrieving observed genes' yes/yes contingency table
calculating YY.. done
Observed genes' contingency table elapsed time: 0.106057405471802
Estimating genes' COEX
Calculate genes' COEX elapsed time: 1.05227303504944
Total calculations elapsed time: 17.3675572872162
Calculate genes' COEX (legacy): DONE
Only genes' COEX elapsed time: 18.529381275177
Dataset analysis elapsed time: 23.5238513946533
COTAN dataset analysis: DONE
Using S
Calculating S: START
Calculating S: DONE
calculating PValues: START
Get p-values on a set of genes on columns and genome wide on rows
Total calculations elapsed time: 0.0212733745574951
calculating PValues: DONE
Calculate GDI dataframe: START
Using S
Calculating S: START
Calculating S: DONE
Calculate `GDI`: START
Effective number of cores used: 1
Executing 1 genes batches
Total calculations elapsed time: 0.0387845039367676
Calculate `GDI`: DONE
Total calculations elapsed time: 3.63245487213135
Calculate GDI dataframe: DONE
Initializing `COTAN` meta-data
Condition test
n cells 1000
COTAN dataset analysis: START
Genes/cells selection done: dropped [0] genes and [0] cells
Working on [600] genes and [1000] cells
Dataset cleaning elapsed time: 1.14123392105103
Estimate `dispersion`: START
Effective number of cores used: 1
Executing 1 genes batches
Parallel dispersion Newton-Raphson: used up to 7 iterations
Total calculations elapsed time: 2.45555233955383
Estimate `dispersion`: DONE
Estimate `dispersion`: DONE
`dispersion` | min: -0.0529252975916502 | max: 462.908586418992 | % negative: 17.3333333333333
Model parameter estimation elapsed time: 3.45603084564209
COTAN genes' COEX estimation: START
While trying to load the `torch` library Error in doTryCatch(return(expr), name, parentenv, handler): The `torch` library is installed but the required additional libraries are not available yet

Calculate genes' COEX (legacy): START
Retrieving expected genes' contingency table
calculating NN.. done
calculating NY..YN..YY..t().. done
Expected genes' contingency table elapsed time: 14.1757020950317
Calculating genes' COEX normalization factor
Calculate genes' normalization factor elapsed time: 0.00889945030212402
Retrieving observed genes' yes/yes contingency table
calculating YY.. done
Observed genes' contingency table elapsed time: 0.0673601627349854
Estimating genes' COEX
Calculate genes' COEX elapsed time: 1.31665420532227
Total calculations elapsed time: 15.5686159133911
Calculate genes' COEX (legacy): DONE
Only genes' COEX elapsed time: 16.7646069526672
Dataset analysis elapsed time: 21.3618717193604
COTAN dataset analysis: DONE
Using S
Calculating S: START
Calculating S: DONE
calculating PValues: START
Get p-values on a set of genes on columns and on a set of genes on rows
Total calculations elapsed time: 0.0097038745880127
calculating PValues: DONE
Calculate GDI dataframe: START
Using S
Calculating S: START
Calculating S: DONE
Calculate `GDI`: START
Effective number of cores used: 1
Executing 1 genes batches
Total calculations elapsed time: 0.0351531505584717
Calculate `GDI`: DONE
Total calculations elapsed time: 3.72261691093445
Calculate GDI dataframe: DONE
Initializing `COTAN` meta-data
Asked to drop 0 genes and 960 cells
COTAN dataset analysis: START
Asked to drop 83 genes and 0 cells
Genes/cells selection done: dropped [83] genes and [0] cells
Working on [517] genes and [40] cells
Dataset cleaning elapsed time: 1.1710889339447
Estimate `dispersion`: START
Effective number of cores used: 1
Executing 1 genes batches
Parallel dispersion Newton-Raphson: used up to 7 iterations
Total calculations elapsed time: 2.45921277999878
Estimate `dispersion`: DONE
Estimate `dispersion`: DONE
`dispersion` | min: -0.267567793681876 | max: 101.923257389521 | % negative: 52.6112185686654
Model parameter estimation elapsed time: 3.80264353752136
COTAN genes' COEX estimation not requested
Only genes' COEX elapsed time: 1.41873264312744
Dataset analysis elapsed time: 6.39246511459351
COTAN dataset analysis: DONE
Calculate genes' COEX (legacy): START
Retrieving expected genes' contingency table
calculating NN.. done
calculating NY..YN..YY..t().. done
Expected genes' contingency table elapsed time: 9.07738852500916
Calculating genes' COEX normalization factor
Calculate genes' normalization factor elapsed time: 0.00654125213623047
Retrieving observed genes' yes/yes contingency table
calculating YY.. done
Observed genes' contingency table elapsed time: 0.0152835845947266
Estimating genes' COEX
Calculate genes' COEX elapsed time: 1.47303867340088
Total calculations elapsed time: 10.572252035141
Calculate genes' COEX (legacy): DONE
While trying to load the `torch` library Error in doTryCatch(return(expr), name, parentenv, handler): The `torch` library is installed but the required additional libraries are not available yet

Calculate genes' COEX (legacy): START
Retrieving expected genes' contingency table
calculating NN.. done
calculating NY..YN..YY..t().. done
Expected genes' contingency table elapsed time: 9.61036157608032
Calculating genes' COEX normalization factor
Calculate genes' normalization factor elapsed time: 0.00729656219482422
Retrieving observed genes' yes/yes contingency table
calculating YY.. done
Observed genes' contingency table elapsed time: 0.0161290168762207
Estimating genes' COEX
Calculate genes' COEX elapsed time: 1.51839923858643
Total calculations elapsed time: 11.1521863937378
Calculate genes' COEX (legacy): DONE
While trying to load the `torch` library Error in doTryCatch(return(expr), name, parentenv, handler): The `torch` library is installed but the required additional libraries are not available yet

Calculate genes' COEX (legacy): START
Retrieving expected genes' contingency table
calculating NN.. done
calculating NY..YN..YY..t().. done
Expected genes' contingency table elapsed time: 10.1634848117828
Calculating genes' COEX normalization factor
Calculate genes' normalization factor elapsed time: 0.00703644752502441
Retrieving observed genes' yes/yes contingency table
calculating YY.. done
Observed genes' contingency table elapsed time: 0.0151910781860352
Estimating genes' COEX
Calculate genes' COEX elapsed time: 1.40884613990784
Total calculations elapsed time: 11.5945584774017
Calculate genes' COEX (legacy): DONE
Hangling COTAN object with condition: test
Using S
Calculating S: START
Calculating S: DONE
calculating PValues: START
Get p-values on a set of genes on columns and on a set of genes on rows
Total calculations elapsed time: 0.00728631019592285
calculating PValues: DONE
Handling genes type: G2
Handling genes type: G3
Initializing `COTAN` meta-data
COTAN dataset analysis: START
Genes/cells selection done: dropped [0] genes and [0] cells
Working on [600] genes and [1000] cells
Clean plots: START
PCA: START
PCA: DONE
Hierarchical clustering: START
Hierarchical clustering: DONE
Total calculations elapsed time: 3.48747229576111
Clean plots: DONE
Dataset cleaning elapsed time: 6.301114320755
Estimate `dispersion`: START
Effective number of cores used: 1
Executing 1 genes batches
Parallel dispersion Newton-Raphson: used up to 7 iterations
Total calculations elapsed time: 3.3788058757782
Estimate `dispersion`: DONE
Estimate `dispersion`: DONE
`dispersion` | min: -0.0529252975916502 | max: 462.908586418992 | % negative: 17.3333333333333
Model parameter estimation elapsed time: 5.11195611953735
COTAN genes' COEX estimation: START
While trying to load the `torch` library Error in doTryCatch(return(expr), name, parentenv, handler): The `torch` library is installed but the required additional libraries are not available yet

Calculate genes' COEX (legacy): START
Retrieving expected genes' contingency table
calculating NN.. done
calculating NY..YN..YY..t().. done
Expected genes' contingency table elapsed time: 11.1027994155884
Calculating genes' COEX normalization factor
Calculate genes' normalization factor elapsed time: 0.00987505912780762
Retrieving observed genes' yes/yes contingency table
calculating YY.. done
Observed genes' contingency table elapsed time: 0.0707623958587646
Estimating genes' COEX
Calculate genes' COEX elapsed time: 1.60278630256653
Total calculations elapsed time: 12.7862231731415
Calculate genes' COEX (legacy): DONE
Only genes' COEX elapsed time: 14.431839466095
Dataset analysis elapsed time: 25.8449099063873
COTAN dataset analysis: DONE
Saving elaborated data locally at: /tmp/Rtmpt1tCif/test.cotan.RDS
Creating new clusterization: START
Elaborating Reduced dimensionality Data Matrix - START
Elaborating COEX Eigen Vectors - START
Elaborating COEX Eigen Vectors - DONE
Total calculations elapsed time: 3.86293458938599
Elaborating Reduced dimensionality Data Matrix - DONE
Computing nearest neighbor graph
Computing SNN
Modularity Optimizer version 1.3.0 by Ludo Waltman and Nees Jan van Eck

Number of nodes: 1000
Number of edges: 44886

Running Louvain algorithm with multilevel refinement...
0%   10   20   30   40   50   60   70   80   90   100%
[----|----|----|----|----|----|----|----|----|----|
**************************************************|
Maximum modularity in 10 random starts: 0.4008
Number of communities: 4
Elapsed time: 0 seconds
Used resolution for Seurat clusterization is: 1.3
Total calculations elapsed time: 4.82848978042603
Creating new clusterization: DONE
Creating cells' uniform clustering: START
In iteration 1 the number of cells to re-cluster is 1000 cells belonging to 0 clusters
Asked to drop no genes or cells
Creating new clusterization: START
Elaborating Reduced dimensionality Data Matrix - START
Elaborating COEX Eigen Vectors - START
Elaborating COEX Eigen Vectors - DONE
Total calculations elapsed time: 3.93580341339111
Elaborating Reduced dimensionality Data Matrix - DONE
Computing nearest neighbor graph
Computing SNN
Modularity Optimizer version 1.3.0 by Ludo Waltman and Nees Jan van Eck

Number of nodes: 1000
Number of edges: 36652

Running Louvain algorithm with multilevel refinement...
0%   10   20   30   40   50   60   70   80   90   100%
[----|----|----|----|----|----|----|----|----|----|
**************************************************|
Maximum modularity in 10 random starts: 0.3743
Number of communities: 4
Elapsed time: 0 seconds
Used resolution for Seurat clusterization is: 1.3
Total calculations elapsed time: 4.9243950843811
Creating new clusterization: DONE
Creating PDF UMAP in file:  /tmp/Rtmpt1tCif/test/reclustering/pdf_umap_1.pdf
UMAP plot: START
Calculating UMAP: START
23:07:59 UMAP embedding parameters a = 0.9922 b = 1.112
23:07:59 Read 1000 rows and found 65 numeric columns
23:07:59 Using Annoy for neighbor search, n_neighbors = 30
23:07:59 Building Annoy index with metric = cosine, n_trees = 50
0%   10   20   30   40   50   60   70   80   90   100%
[----|----|----|----|----|----|----|----|----|----|
**************************************************|
23:07:59 Writing NN index file to temp file /tmp/Rtmpt1tCif/file8913e6500832b
23:07:59 Searching Annoy index using 1 thread, search_k = 3000
23:07:59 Annoy recall = 100%
23:08:01 Commencing smooth kNN distance calibration using 1 thread with target n_neighbors = 30
23:08:04 Initializing from normalized Laplacian + noise (using RSpectra)
23:08:04 Commencing optimization for 500 epochs, with 39044 positive edges
23:08:04 Using rng type: pcg
Using method 'umap'
0%   10   20   30   40   50   60   70   80   90   100%
[----|----|----|----|----|----|----|----|----|----|
**************************************************|
23:08:06 Optimization finished
Calculating UMAP: DONE
Total calculations elapsed time: 7.4758620262146
UMAP plot: DONE
UMAP plot: START
Calculating UMAP: START
23:08:07 UMAP embedding parameters a = 0.9922 b = 1.112
23:08:07 Read 1000 rows and found 65 numeric columns
23:08:07 Using Annoy for neighbor search, n_neighbors = 30
23:08:07 Building Annoy index with metric = cosine, n_trees = 50
0%   10   20   30   40   50   60   70   80   90   100%
[----|----|----|----|----|----|----|----|----|----|
**************************************************|
23:08:07 Writing NN index file to temp file /tmp/Rtmpt1tCif/file8913e524705bd
23:08:07 Searching Annoy index using 1 thread, search_k = 3000
23:08:07 Annoy recall = 100%
23:08:08 Commencing smooth kNN distance calibration using 1 thread with target n_neighbors = 30
23:08:11 Initializing from normalized Laplacian + noise (using RSpectra)
23:08:11 Commencing optimization for 500 epochs, with 39044 positive edges
23:08:11 Using rng type: pcg
Using method 'umap'
0%   10   20   30   40   50   60   70   80   90   100%
[----|----|----|----|----|----|----|----|----|----|
**************************************************|
23:08:13 Optimization finished
Calculating UMAP: DONE
Total calculations elapsed time: 6.60555291175842
UMAP plot: DONE
* checking uniformity of cluster '0' of 4 clusters
Asked to drop 0 genes and 687 cells
COTAN dataset analysis: START
Asked to drop 43 genes and 0 cells
Genes/cells selection done: dropped [43] genes and [0] cells
Working on [557] genes and [313] cells
Dataset cleaning elapsed time: 1.2996711730957
Estimate `dispersion`: START
Effective number of cores used: 1
Executing 1 genes batches
Parallel dispersion Newton-Raphson: used up to 11 iterations
Total calculations elapsed time: 2.42187523841858
Estimate `dispersion`: DONE
Estimate `dispersion`: DONE
`dispersion` | min: -0.126565269702225 | max: 788.372048308528 | % negative: 38.5996409335727
Model parameter estimation elapsed time: 3.68960618972778
COTAN genes' COEX estimation: START
While trying to load the `torch` library Error in doTryCatch(return(expr), name, parentenv, handler): The `torch` library is installed but the required additional libraries are not available yet

Calculate genes' COEX (legacy): START
Retrieving expected genes' contingency table
calculating NN.. done
calculating NY..YN..YY..t().. done
Expected genes' contingency table elapsed time: 9.68596458435059
Calculating genes' COEX normalization factor
Calculate genes' normalization factor elapsed time: 0.00623846054077148
Retrieving observed genes' yes/yes contingency table
calculating YY.. done
Observed genes' contingency table elapsed time: 0.031686544418335
Estimating genes' COEX
Calculate genes' COEX elapsed time: 1.2506251335144
Total calculations elapsed time: 10.9745147228241
Calculate genes' COEX (legacy): DONE
Only genes' COEX elapsed time: 12.1004333496094
Dataset analysis elapsed time: 17.0897107124329
COTAN dataset analysis: DONE
Checking uniformity for the cluster '01_0000' with 313 cells
Calculate GDI dataframe: START
Using S
Calculating S: START
Calculating S: DONE
Calculate `GDI`: START
Effective number of cores used: 1
Executing 1 genes batches
Total calculations elapsed time: 0.031036376953125
Calculate `GDI`: DONE
Total calculations elapsed time: 4.12539982795715
Calculate GDI dataframe: DONE
Clean plots: START
Total calculations elapsed time: 0.0378654003143311
Clean plots: DONE
GDI plot
Removed 0 low GDI genes (such as the fully-expressed) in GDI plot
Cluster 01_0000, with size 313, is uniform
Cluster 01_0000's shift to uniformity: -0.0175178017151365
class = AdvancedGDIUniformityCheck, firstCheck.isCheckAbove = FALSE, firstCheck.GDIThreshold = 1.397, firstCheck.maxRatioBeyond = 0.05, firstCheck.maxRankBeyond = 0, firstCheck.fractionBeyond = 0.0412926391382406, firstCheck.thresholdRank = 0, firstCheck.quantileAtRatio = 1.37948219828486, firstCheck.quantileAtRank = NaN, secondCheck.isCheckAbove = TRUE, secondCheck.GDIThreshold = 1.407, secondCheck.maxRatioBeyond = 0.02, secondCheck.maxRankBeyond = 0, secondCheck.fractionBeyond = 0.0323159784560144, secondCheck.thresholdRank = 0, secondCheck.quantileAtRatio = 1.43089123341141, secondCheck.quantileAtRank = NaN, thirdCheck.isCheckAbove = FALSE, thirdCheck.GDIThreshold = 1.5, thirdCheck.maxRatioBeyond = 0.01, thirdCheck.maxRankBeyond = 0, thirdCheck.fractionBeyond = 0.00179533213644524, thirdCheck.thresholdRank = 0, thirdCheck.quantileAtRatio = 1.44383613651627, thirdCheck.quantileAtRank = NaN, fourthCheck.isCheckAbove = FALSE, fourthCheck.GDIThreshold = 1.5, fourthCheck.maxRatioBeyond = NaN, fourthCheck.maxRankBeyond = 2, fourthCheck.fractionBeyond = NaN, fourthCheck.thresholdRank = 1, fourthCheck.quantileAtRatio = NaN, fourthCheck.quantileAtRank = 1.47612588512221, isUniform = TRUE, clusterSize = 313
cluster 01_0000 is uniform

* checking uniformity of cluster '1' of 4 clusters
Asked to drop 0 genes and 743 cells
COTAN dataset analysis: START
Asked to drop 51 genes and 0 cells
Genes/cells selection done: dropped [51] genes and [0] cells
Working on [549] genes and [257] cells
Dataset cleaning elapsed time: 1.30244660377502
Estimate `dispersion`: START
Effective number of cores used: 1
Executing 1 genes batches
Parallel dispersion Newton-Raphson: used up to 10 iterations
Total calculations elapsed time: 2.58500576019287
Estimate `dispersion`: DONE
Estimate `dispersion`: DONE
`dispersion` | min: -0.112503099391263 | max: 646.681464270838 | % negative: 40.8014571948998
Model parameter estimation elapsed time: 3.75615906715393
COTAN genes' COEX estimation: START
While trying to load the `torch` library Error in doTryCatch(return(expr), name, parentenv, handler): The `torch` library is installed but the required additional libraries are not available yet

Calculate genes' COEX (legacy): START
Retrieving expected genes' contingency table
calculating NN.. done
calculating NY..YN..YY..t().. done
Expected genes' contingency table elapsed time: 9.52241659164429
Calculating genes' COEX normalization factor
Calculate genes' normalization factor elapsed time: 0.00639867782592773
Retrieving observed genes' yes/yes contingency table
calculating YY.. done
Observed genes' contingency table elapsed time: 0.0295333862304688
Estimating genes' COEX
Calculate genes' COEX elapsed time: 1.15391206741333
Total calculations elapsed time: 10.712260723114
Calculate genes' COEX (legacy): DONE
Only genes' COEX elapsed time: 11.9312741756439
Dataset analysis elapsed time: 16.9898798465729
COTAN dataset analysis: DONE
Checking uniformity for the cluster '01_0001' with 257 cells
Calculate GDI dataframe: START
Using S
Calculating S: START
Calculating S: DONE
Calculate `GDI`: START
Effective number of cores used: 1
Executing 1 genes batches
Total calculations elapsed time: 0.0281305313110352
Calculate `GDI`: DONE
Total calculations elapsed time: 4.08507919311523
Calculate GDI dataframe: DONE
Clean plots: START
Total calculations elapsed time: 0.0398819446563721
Clean plots: DONE
GDI plot
Removed 1 low GDI genes (such as the fully-expressed) in GDI plot
Cluster 01_0001, with size 257, is uniform
Cluster 01_0001's shift to uniformity: -0.0466523594846431
class = AdvancedGDIUniformityCheck, firstCheck.isCheckAbove = FALSE, firstCheck.GDIThreshold = 1.397, firstCheck.maxRatioBeyond = 0.05, firstCheck.maxRankBeyond = 0, firstCheck.fractionBeyond = 0.00910746812386157, firstCheck.thresholdRank = 0, firstCheck.quantileAtRatio = 1.35034764051536, firstCheck.quantileAtRank = NaN, secondCheck.isCheckAbove = TRUE, secondCheck.GDIThreshold = 1.407, secondCheck.maxRatioBeyond = 0.02, secondCheck.maxRankBeyond = 0, secondCheck.fractionBeyond = 0.00728597449908925, secondCheck.thresholdRank = 0, secondCheck.quantileAtRatio = 1.37278730407697, secondCheck.quantileAtRank = NaN, thirdCheck.isCheckAbove = FALSE, thirdCheck.GDIThreshold = 1.5, thirdCheck.maxRatioBeyond = 0.01, thirdCheck.maxRankBeyond = 0, thirdCheck.fractionBeyond = 0, thirdCheck.thresholdRank = 0, thirdCheck.quantileAtRatio = 1.38664163146849, thirdCheck.quantileAtRank = NaN, fourthCheck.isCheckAbove = FALSE, fourthCheck.GDIThreshold = 1.5, fourthCheck.maxRatioBeyond = NaN, fourthCheck.maxRankBeyond = 2, fourthCheck.fractionBeyond = NaN, fourthCheck.thresholdRank = 0, fourthCheck.quantileAtRatio = NaN, fourthCheck.quantileAtRank = 1.45240567481124, isUniform = TRUE, clusterSize = 257
cluster 01_0001 is uniform

* checking uniformity of cluster '2' of 4 clusters
Asked to drop 0 genes and 758 cells
COTAN dataset analysis: START
Asked to drop 77 genes and 0 cells
Genes/cells selection done: dropped [77] genes and [0] cells
Working on [523] genes and [242] cells
Dataset cleaning elapsed time: 1.50252771377563
Estimate `dispersion`: START
Effective number of cores used: 1
Executing 1 genes batches
Parallel dispersion Newton-Raphson: used up to 7 iterations
Total calculations elapsed time: 2.40176177024841
Estimate `dispersion`: DONE
Estimate `dispersion`: DONE
`dispersion` | min: -0.166254045792573 | max: 224.924342782861 | % negative: 42.6386233269598
Model parameter estimation elapsed time: 3.58605766296387
COTAN genes' COEX estimation: START
While trying to load the `torch` library Error in doTryCatch(return(expr), name, parentenv, handler): The `torch` library is installed but the required additional libraries are not available yet

Calculate genes' COEX (legacy): START
Retrieving expected genes' contingency table
calculating NN.. done
calculating NY..YN..YY..t().. done
Expected genes' contingency table elapsed time: 8.53283858299255
Calculating genes' COEX normalization factor
Calculate genes' normalization factor elapsed time: 0.0066688060760498
Retrieving observed genes' yes/yes contingency table
calculating YY.. done
Observed genes' contingency table elapsed time: 0.027827262878418
Estimating genes' COEX
Calculate genes' COEX elapsed time: 1.07160115242004
Total calculations elapsed time: 9.63893580436707
Calculate genes' COEX (legacy): DONE
Only genes' COEX elapsed time: 10.6505432128906
Dataset analysis elapsed time: 15.7391285896301
COTAN dataset analysis: DONE
Checking uniformity for the cluster '01_0002' with 242 cells
Calculate GDI dataframe: START
Using S
Calculating S: START
Calculating S: DONE
Calculate `GDI`: START
Effective number of cores used: 1
Executing 1 genes batches
Total calculations elapsed time: 0.0266859531402588
Calculate `GDI`: DONE
Total calculations elapsed time: 3.39208698272705
Calculate GDI dataframe: DONE
Clean plots: START
Total calculations elapsed time: 0.0367486476898193
Clean plots: DONE
GDI plot
Removed 2 low GDI genes (such as the fully-expressed) in GDI plot
Cluster 01_0002, with size 242, is uniform
Cluster 01_0002's shift to uniformity: -0.0473527936300242
class = AdvancedGDIUniformityCheck, firstCheck.isCheckAbove = FALSE, firstCheck.GDIThreshold = 1.397, firstCheck.maxRatioBeyond = 0.05, firstCheck.maxRankBeyond = 0, firstCheck.fractionBeyond = 0.00764818355640535, firstCheck.thresholdRank = 0, firstCheck.quantileAtRatio = 1.34964720636998, firstCheck.quantileAtRank = NaN, secondCheck.isCheckAbove = TRUE, secondCheck.GDIThreshold = 1.407, secondCheck.maxRatioBeyond = 0.02, secondCheck.maxRankBeyond = 0, secondCheck.fractionBeyond = 0.00764818355640535, secondCheck.thresholdRank = 0, secondCheck.quantileAtRatio = 1.37472946305404, secondCheck.quantileAtRank = NaN, thirdCheck.isCheckAbove = FALSE, thirdCheck.GDIThreshold = 1.5, thirdCheck.maxRatioBeyond = 0.01, thirdCheck.maxRankBeyond = 0, thirdCheck.fractionBeyond = 0, thirdCheck.thresholdRank = 0, thirdCheck.quantileAtRatio = 1.38771313919654, thirdCheck.quantileAtRank = NaN, fourthCheck.isCheckAbove = FALSE, fourthCheck.GDIThreshold = 1.5, fourthCheck.maxRatioBeyond = NaN, fourthCheck.maxRankBeyond = 2, fourthCheck.fractionBeyond = NaN, fourthCheck.thresholdRank = 0, fourthCheck.quantileAtRatio = NaN, fourthCheck.quantileAtRank = 1.43097703442027, isUniform = TRUE, clusterSize = 242
cluster 01_0002 is uniform

* checking uniformity of cluster '3' of 4 clusters
Asked to drop 0 genes and 812 cells
COTAN dataset analysis: START
Asked to drop 79 genes and 0 cells
Genes/cells selection done: dropped [79] genes and [0] cells
Working on [521] genes and [188] cells
Dataset cleaning elapsed time: 1.18694281578064
Estimate `dispersion`: START
Effective number of cores used: 1
Executing 1 genes batches
Parallel dispersion Newton-Raphson: used up to 6 iterations
Total calculations elapsed time: 2.08288073539734
Estimate `dispersion`: DONE
Estimate `dispersion`: DONE
`dispersion` | min: -0.210007411487223 | max: 67.8701314818728 | % negative: 45.6813819577735
Model parameter estimation elapsed time: 3.02946305274963
COTAN genes' COEX estimation: START
While trying to load the `torch` library Error in doTryCatch(return(expr), name, parentenv, handler): The `torch` library is installed but the required additional libraries are not available yet

Calculate genes' COEX (legacy): START
Retrieving expected genes' contingency table
calculating NN.. done
calculating NY..YN..YY..t().. done
Expected genes' contingency table elapsed time: 8.46493458747864
Calculating genes' COEX normalization factor
Calculate genes' normalization factor elapsed time: 0.00483202934265137
Retrieving observed genes' yes/yes contingency table
calculating YY.. done
Observed genes' contingency table elapsed time: 0.0231080055236816
Estimating genes' COEX
Calculate genes' COEX elapsed time: 1.06690979003906
Total calculations elapsed time: 9.55978441238403
Calculate genes' COEX (legacy): DONE
Only genes' COEX elapsed time: 10.5254688262939
Dataset analysis elapsed time: 14.7418746948242
COTAN dataset analysis: DONE
Checking uniformity for the cluster '01_0003' with 188 cells
Calculate GDI dataframe: START
Using S
Calculating S: START
Calculating S: DONE
Calculate `GDI`: START
Effective number of cores used: 1
Executing 1 genes batches
Total calculations elapsed time: 0.0259239673614502
Calculate `GDI`: DONE
Total calculations elapsed time: 3.21989941596985
Calculate GDI dataframe: DONE
Clean plots: START
Total calculations elapsed time: 0.0384430885314941
Clean plots: DONE
GDI plot
Removed 4 low GDI genes (such as the fully-expressed) in GDI plot
Cluster 01_0003, with size 188, is uniform
Cluster 01_0003's shift to uniformity: -0.0672912272435866
class = AdvancedGDIUniformityCheck, firstCheck.isCheckAbove = FALSE, firstCheck.GDIThreshold = 1.397, firstCheck.maxRatioBeyond = 0.05, firstCheck.maxRankBeyond = 0, firstCheck.fractionBeyond = 0.00383877159309021, firstCheck.thresholdRank = 0, firstCheck.quantileAtRatio = 1.32970877275641, firstCheck.quantileAtRank = NaN, secondCheck.isCheckAbove = TRUE, secondCheck.GDIThreshold = 1.407, secondCheck.maxRatioBeyond = 0.02, secondCheck.maxRankBeyond = 0, secondCheck.fractionBeyond = 0.00191938579654511, secondCheck.thresholdRank = 0, secondCheck.quantileAtRatio = 1.35752445041521, secondCheck.quantileAtRank = NaN, thirdCheck.isCheckAbove = FALSE, thirdCheck.GDIThreshold = 1.5, thirdCheck.maxRatioBeyond = 0.01, thirdCheck.maxRankBeyond = 0, thirdCheck.fractionBeyond = 0, thirdCheck.thresholdRank = 0, thirdCheck.quantileAtRatio = 1.37495297633956, thirdCheck.quantileAtRank = NaN, fourthCheck.isCheckAbove = FALSE, fourthCheck.GDIThreshold = 1.5, fourthCheck.maxRatioBeyond = NaN, fourthCheck.maxRankBeyond = 2, fourthCheck.fractionBeyond = NaN, fourthCheck.thresholdRank = 0, fourthCheck.quantileAtRatio = NaN, fourthCheck.quantileAtRank = 1.4014884302523, isUniform = TRUE, clusterSize = 188
cluster 01_0003 is uniform


Found 4 uniform and  0 non-uniform clusters
Stopping: too few cells left to cluster
Unclustered cell left: 0
The final raw clusterization contains [ 4 ] different clusters: 01_0000, 01_0001, 01_0002, 01_0003
Differential Expression Analysis - START
* DEA on cluster '1' with 313 cells
* DEA on cluster '2' with 257 cells
* DEA on cluster '3' with 242 cells
* DEA on cluster '4' with 188 cells

Total calculations elapsed time: 0.0663986206054688
Differential Expression Analysis - DONE
Applied reordering to clusterization is:
1  ->  3, 2  ->  1, 3  ->  2, 4  ->  4
Total calculations elapsed time: 118.988104581833
Creating cells' uniform clustering: DONE
Applied reordering to clusterization is:
1  ->  1, 2  ->  2, 3  ->  3, 4  ->  4
Asked to drop 0 genes and 812 cells
COTAN dataset analysis: START
Asked to drop 79 genes and 0 cells
Genes/cells selection done: dropped [79] genes and [0] cells
Working on [521] genes and [188] cells
Dataset cleaning elapsed time: 1.12190747261047
Estimate `dispersion`: START
Effective number of cores used: 1
Executing 1 genes batches
Parallel dispersion Newton-Raphson: used up to 6 iterations
Total calculations elapsed time: 2.00633597373962
Estimate `dispersion`: DONE
Estimate `dispersion`: DONE
`dispersion` | min: -0.210007411487223 | max: 67.8701314818728 | % negative: 45.6813819577735
Model parameter estimation elapsed time: 2.98164081573486
COTAN genes' COEX estimation: START
While trying to load the `torch` library Error in doTryCatch(return(expr), name, parentenv, handler): The `torch` library is installed but the required additional libraries are not available yet

Calculate genes' COEX (legacy): START
Retrieving expected genes' contingency table
calculating NN.. done
calculating NY..YN..YY..t().. done
Expected genes' contingency table elapsed time: 8.64298725128174
Calculating genes' COEX normalization factor
Calculate genes' normalization factor elapsed time: 0.0068962574005127
Retrieving observed genes' yes/yes contingency table
calculating YY.. done
Observed genes' contingency table elapsed time: 0.0260121822357178
Estimating genes' COEX
Calculate genes' COEX elapsed time: 1.07045388221741
Total calculations elapsed time: 9.74634957313538
Calculate genes' COEX (legacy): DONE
Only genes' COEX elapsed time: 10.7749969959259
Dataset analysis elapsed time: 14.8785452842712
COTAN dataset analysis: DONE
Checking uniformity for the cluster 'Cluster_4' with 188 cells
Calculate GDI dataframe: START
Using S
Calculating S: START
Calculating S: DONE
Calculate `GDI`: START
Effective number of cores used: 1
Executing 1 genes batches
Total calculations elapsed time: 0.0261881351470947
Calculate `GDI`: DONE
Total calculations elapsed time: 3.7801342010498
Calculate GDI dataframe: DONE
Clean plots: START
Total calculations elapsed time: 0.0367038249969482
Clean plots: DONE
GDI plot
Removed 4 low GDI genes (such as the fully-expressed) in GDI plot
Cluster Cluster_4, with size 188, is uniform
Cluster Cluster_4's shift to uniformity: -0.0672912272435866
class = AdvancedGDIUniformityCheck, firstCheck.isCheckAbove = FALSE, firstCheck.GDIThreshold = 1.397, firstCheck.maxRatioBeyond = 0.05, firstCheck.maxRankBeyond = 0, firstCheck.fractionBeyond = 0.00383877159309021, firstCheck.thresholdRank = 0, firstCheck.quantileAtRatio = 1.32970877275641, firstCheck.quantileAtRank = NaN, secondCheck.isCheckAbove = TRUE, secondCheck.GDIThreshold = 1.407, secondCheck.maxRatioBeyond = 0.02, secondCheck.maxRankBeyond = 0, secondCheck.fractionBeyond = 0.00191938579654511, secondCheck.thresholdRank = 0, secondCheck.quantileAtRatio = 1.35752445041521, secondCheck.quantileAtRank = NaN, thirdCheck.isCheckAbove = FALSE, thirdCheck.GDIThreshold = 1.5, thirdCheck.maxRatioBeyond = 0.01, thirdCheck.maxRankBeyond = 0, thirdCheck.fractionBeyond = 0, thirdCheck.thresholdRank = 0, thirdCheck.quantileAtRatio = 1.37495297633956, thirdCheck.quantileAtRank = NaN, fourthCheck.isCheckAbove = FALSE, fourthCheck.GDIThreshold = 1.5, fourthCheck.maxRatioBeyond = NaN, fourthCheck.maxRankBeyond = 2, fourthCheck.fractionBeyond = NaN, fourthCheck.thresholdRank = 0, fourthCheck.quantileAtRatio = NaN, fourthCheck.quantileAtRank = 1.4014884302523, isUniform = TRUE, clusterSize = 188
Differential Expression Analysis - START
* DEA on cluster '-1' with 50 cells
* DEA on cluster '1' with 257 cells
* DEA on cluster '2' with 242 cells
* DEA on cluster '3' with 280 cells
* DEA on cluster '4' with 171 cells

Total calculations elapsed time: 0.0891461372375488
Differential Expression Analysis - DONE
Applied reordering to clusterization is:
1  ->  4, 2  ->  3, 3  ->  2, 4  ->  1, -1  ->  -1
Applied reordering to clusterization is:
1  ->  1, 2  ->  2, 3  ->  3, 4  ->  4, -1  ->  -1
Creating cells' uniform clustering: START
In iteration 1 the number of cells to re-cluster is 1000 cells belonging to 0 clusters
Asked to drop no genes or cells
Creating new clusterization: START
Elaborating Reduced dimensionality Data Matrix - START
Running genes' selection: START
Normalizing layer: counts
Performing log-normalization
0%   10   20   30   40   50   60   70   80   90   100%
[----|----|----|----|----|----|----|----|----|----|
**************************************************|
Finding variable features for layer counts
Calculating gene variances
0%   10   20   30   40   50   60   70   80   90   100%
[----|----|----|----|----|----|----|----|----|----|
**************************************************|
Calculating feature variances of standardized and clipped values
0%   10   20   30   40   50   60   70   80   90   100%
[----|----|----|----|----|----|----|----|----|----|
**************************************************|
Selected 600 genes using HVG_Seurat selector
Running genes' selection: DONE
Elaborating PCA - START
Elaborating PCA - DONE
Total calculations elapsed time: 4.06955003738403
Elaborating Reduced dimensionality Data Matrix - DONE
Computing nearest neighbor graph
Computing SNN
Modularity Optimizer version 1.3.0 by Ludo Waltman and Nees Jan van Eck

Number of nodes: 1000
Number of edges: 67288

Running Louvain algorithm with multilevel refinement...
0%   10   20   30   40   50   60   70   80   90   100%
[----|----|----|----|----|----|----|----|----|----|
**************************************************|
Maximum modularity in 10 random starts: 0.3650
Number of communities: 5
Elapsed time: 0 seconds
Used resolution for Seurat clusterization is: 1.3
Total calculations elapsed time: 4.95097374916077
Creating new clusterization: DONE
Using passed in clusterization
Creating PDF UMAP in file:  /tmp/Rtmpt1tCif/test/reclustering/pdf_umap_1.pdf
UMAP plot: START
Calculating UMAP: START
23:10:21 UMAP embedding parameters a = 0.9922 b = 1.112
23:10:21 Read 1000 rows and found 40 numeric columns
23:10:21 Using Annoy for neighbor search, n_neighbors = 30
23:10:21 Building Annoy index with metric = cosine, n_trees = 50
0%   10   20   30   40   50   60   70   80   90   100%
[----|----|----|----|----|----|----|----|----|----|
**************************************************|
23:10:21 Writing NN index file to temp file /tmp/Rtmpt1tCif/file8913e403679b8
23:10:21 Searching Annoy index using 1 thread, search_k = 3000
23:10:21 Annoy recall = 100%
23:10:22 Commencing smooth kNN distance calibration using 1 thread with target n_neighbors = 30
23:10:24 Found 2 connected components, falling back to 'spca' initialization with init_sdev = 1
23:10:24 Using 'irlba' for PCA
23:10:24 PCA: 2 components explained 36.15% variance
23:10:24 Scaling init to sdev = 1
23:10:24 Commencing optimization for 500 epochs, with 41630 positive edges
23:10:24 Using rng type: pcg
Using method 'umap'
0%   10   20   30   40   50   60   70   80   90   100%
[----|----|----|----|----|----|----|----|----|----|
**************************************************|
23:10:27 Optimization finished
Calculating UMAP: DONE
Total calculations elapsed time: 6.1735315322876
UMAP plot: DONE
UMAP plot: START
Calculating UMAP: START
23:10:27 UMAP embedding parameters a = 0.9922 b = 1.112
23:10:27 Read 1000 rows and found 40 numeric columns
23:10:27 Using Annoy for neighbor search, n_neighbors = 30
23:10:27 Building Annoy index with metric = cosine, n_trees = 50
0%   10   20   30   40   50   60   70   80   90   100%
[----|----|----|----|----|----|----|----|----|----|
**************************************************|
23:10:27 Writing NN index file to temp file /tmp/Rtmpt1tCif/file8913e1381de5a
23:10:27 Searching Annoy index using 1 thread, search_k = 3000
23:10:27 Annoy recall = 100%
23:10:28 Commencing smooth kNN distance calibration using 1 thread with target n_neighbors = 30
23:10:30 Found 2 connected components, falling back to 'spca' initialization with init_sdev = 1
23:10:30 Using 'irlba' for PCA
23:10:30 PCA: 2 components explained 36.15% variance
23:10:30 Scaling init to sdev = 1
23:10:30 Commencing optimization for 500 epochs, with 41630 positive edges
23:10:30 Using rng type: pcg
Using method 'umap'
0%   10   20   30   40   50   60   70   80   90   100%
[----|----|----|----|----|----|----|----|----|----|
**************************************************|
23:10:33 Optimization finished
Calculating UMAP: DONE
Total calculations elapsed time: 5.74359512329102
UMAP plot: DONE
* checking uniformity of cluster '1' of 2 clusters
Asked to drop 0 genes and 500 cells
COTAN dataset analysis: START
Asked to drop 38 genes and 0 cells
Genes/cells selection done: dropped [38] genes and [0] cells
Working on [562] genes and [500] cells
Dataset cleaning elapsed time: 0.997485876083374
Estimate `dispersion`: START
Effective number of cores used: 1
Executing 1 genes batches
Parallel dispersion Newton-Raphson: used up to 7 iterations
Total calculations elapsed time: 2.16186738014221
Estimate `dispersion`: DONE
Estimate `dispersion`: DONE
`dispersion` | min: -0.108871643378045 | max: 295.971778839086 | % negative: 35.0533807829181
Model parameter estimation elapsed time: 3.17326521873474
COTAN genes' COEX estimation: START
While trying to load the `torch` library Error in doTryCatch(return(expr), name, parentenv, handler): The `torch` library is installed but the required additional libraries are not available yet

Calculate genes' COEX (legacy): START
Retrieving expected genes' contingency table
calculating NN.. done
calculating NY..YN..YY..t().. done
Expected genes' contingency table elapsed time: 9.32004332542419
Calculating genes' COEX normalization factor
Calculate genes' normalization factor elapsed time: 0.00648307800292969
Retrieving observed genes' yes/yes contingency table
calculating YY.. done
Observed genes' contingency table elapsed time: 0.0397462844848633
Estimating genes' COEX
Calculate genes' COEX elapsed time: 1.01119661331177
Total calculations elapsed time: 10.3774693012238
Calculate genes' COEX (legacy): DONE
Only genes' COEX elapsed time: 11.5465595722198
Dataset analysis elapsed time: 15.717310667038
COTAN dataset analysis: DONE
Checking uniformity for the cluster '01_0001' with 500 cells
Calculate GDI dataframe: START
Using S
Calculating S: START
Calculating S: DONE
Calculate `GDI`: START
Effective number of cores used: 1
Executing 1 genes batches
Total calculations elapsed time: 0.0323736667633057
Calculate `GDI`: DONE
Total calculations elapsed time: 3.3799774646759
Calculate GDI dataframe: DONE
Clean plots: START
Total calculations elapsed time: 0.0384845733642578
Clean plots: DONE
GDI plot
Removed 2 low GDI genes (such as the fully-expressed) in GDI plot
Cluster 01_0001, with size 500, is uniform
Cluster 01_0001's shift to uniformity: -0.041730199066494
class = AdvancedGDIUniformityCheck, firstCheck.isCheckAbove = FALSE, firstCheck.GDIThreshold = 1.397, firstCheck.maxRatioBeyond = 0.05, firstCheck.maxRankBeyond = 0, firstCheck.fractionBeyond = 0.0124555160142349, firstCheck.thresholdRank = 0, firstCheck.quantileAtRatio = 1.35526980093351, firstCheck.quantileAtRank = NaN, secondCheck.isCheckAbove = TRUE, secondCheck.GDIThreshold = 1.407, secondCheck.maxRatioBeyond = 0.02, secondCheck.maxRankBeyond = 0, secondCheck.fractionBeyond = 0.00889679715302491, secondCheck.thresholdRank = 0, secondCheck.quantileAtRatio = 1.38536328181495, secondCheck.quantileAtRank = NaN, thirdCheck.isCheckAbove = FALSE, thirdCheck.GDIThreshold = 1.5, thirdCheck.maxRatioBeyond = 0.01, thirdCheck.maxRankBeyond = 0, thirdCheck.fractionBeyond = 0, thirdCheck.thresholdRank = 0, thirdCheck.quantileAtRatio = 1.40346106115492, thirdCheck.quantileAtRank = NaN, fourthCheck.isCheckAbove = FALSE, fourthCheck.GDIThreshold = 1.5, fourthCheck.maxRatioBeyond = NaN, fourthCheck.maxRankBeyond = 2, fourthCheck.fractionBeyond = NaN, fourthCheck.thresholdRank = 0, fourthCheck.quantileAtRatio = NaN, fourthCheck.quantileAtRank = 1.42565794715045, isUniform = TRUE, clusterSize = 500
cluster 01_0001 is uniform

* checking uniformity of cluster '2' of 2 clusters
Asked to drop 0 genes and 500 cells
COTAN dataset analysis: START
Asked to drop 44 genes and 0 cells
Genes/cells selection done: dropped [44] genes and [0] cells
Working on [556] genes and [500] cells
Dataset cleaning elapsed time: 1.04010105133057
Estimate `dispersion`: START
Effective number of cores used: 1
Executing 1 genes batches
Parallel dispersion Newton-Raphson: used up to 7 iterations
Total calculations elapsed time: 2.27809453010559
Estimate `dispersion`: DONE
Estimate `dispersion`: DONE
`dispersion` | min: -0.0636486786621688 | max: 141.389145035675 | % negative: 36.1510791366906
Model parameter estimation elapsed time: 3.20452094078064
COTAN genes' COEX estimation: START
While trying to load the `torch` library Error in doTryCatch(return(expr), name, parentenv, handler): The `torch` library is installed but the required additional libraries are not available yet

Calculate genes' COEX (legacy): START
Retrieving expected genes' contingency table
calculating NN.. done
calculating NY..YN..YY..t().. done
Expected genes' contingency table elapsed time: 8.38329434394836
Calculating genes' COEX normalization factor
Calculate genes' normalization factor elapsed time: 0.00516915321350098
Retrieving observed genes' yes/yes contingency table
calculating YY.. done
Observed genes' contingency table elapsed time: 0.037769079208374
Estimating genes' COEX
Calculate genes' COEX elapsed time: 1.37171006202698
Total calculations elapsed time: 9.79794263839722
Calculate genes' COEX (legacy): DONE
Only genes' COEX elapsed time: 10.9845039844513
Dataset analysis elapsed time: 15.2291259765625
COTAN dataset analysis: DONE
Checking uniformity for the cluster '01_0002' with 500 cells
Calculate GDI dataframe: START
Using S
Calculating S: START
Calculating S: DONE
Calculate `GDI`: START
Effective number of cores used: 1
Executing 1 genes batches
Total calculations elapsed time: 0.0288736820220947
Calculate `GDI`: DONE
Total calculations elapsed time: 3.15231871604919
Calculate GDI dataframe: DONE
Clean plots: START
Total calculations elapsed time: 0.0365674495697021
Clean plots: DONE
GDI plot
Removed 2 low GDI genes (such as the fully-expressed) in GDI plot
Cluster 01_0002, with size 500, is uniform
Cluster 01_0002's shift to uniformity: -0.0413872276843505
class = AdvancedGDIUniformityCheck, firstCheck.isCheckAbove = FALSE, firstCheck.GDIThreshold = 1.397, firstCheck.maxRatioBeyond = 0.05, firstCheck.maxRankBeyond = 0, firstCheck.fractionBeyond = 0.00719424460431655, firstCheck.thresholdRank = 0, firstCheck.quantileAtRatio = 1.35561277231565, firstCheck.quantileAtRank = NaN, secondCheck.isCheckAbove = TRUE, secondCheck.GDIThreshold = 1.407, secondCheck.maxRatioBeyond = 0.02, secondCheck.maxRankBeyond = 0, secondCheck.fractionBeyond = 0.00359712230215827, secondCheck.thresholdRank = 0, secondCheck.quantileAtRatio = 1.37204026755188, secondCheck.quantileAtRank = NaN, thirdCheck.isCheckAbove = FALSE, thirdCheck.GDIThreshold = 1.5, thirdCheck.maxRatioBeyond = 0.01, thirdCheck.maxRankBeyond = 0, thirdCheck.fractionBeyond = 0, thirdCheck.thresholdRank = 0, thirdCheck.quantileAtRatio = 1.38757136821537, thirdCheck.quantileAtRank = NaN, fourthCheck.isCheckAbove = FALSE, fourthCheck.GDIThreshold = 1.5, fourthCheck.maxRatioBeyond = NaN, fourthCheck.maxRankBeyond = 2, fourthCheck.fractionBeyond = NaN, fourthCheck.thresholdRank = 0, fourthCheck.quantileAtRatio = NaN, fourthCheck.quantileAtRank = 1.40876953414106, isUniform = TRUE, clusterSize = 500
cluster 01_0002 is uniform


Found 2 uniform and  0 non-uniform clusters
Stopping: too few cells left to cluster
Unclustered cell left: 0
The final raw clusterization contains [ 2 ] different clusters: 01_0001, 01_0002
Differential Expression Analysis - START
* DEA on cluster '1' with 500 cells
* DEA on cluster '2' with 500 cells

Total calculations elapsed time: 0.0655591487884521
Differential Expression Analysis - DONE
Applied reordering to clusterization is:
1  ->  1, 2  ->  2
Total calculations elapsed time: 64.8568542003632
Creating cells' uniform clustering: DONE
findClustersMarkers - START
Log Fold Change Analysis - START
* Analysis of cluster: '1'
* Analysis of cluster: '2'
* Analysis of cluster: '3'
* Analysis of cluster: '4'

Total calculations elapsed time: 4.16808724403381
Log Fold Change Analysis - DONE
Total calculations elapsed time: 4.18001818656921
findClustersMarkers - DONE
findClustersMarkers - START
Log Fold Change Analysis - START
* Analysis of cluster: '1'
* Analysis of cluster: '2'
* Analysis of cluster: '3'
* Analysis of cluster: '4'

Total calculations elapsed time: 3.95929336547852
Log Fold Change Analysis - DONE
Total calculations elapsed time: 3.96940875053406
findClustersMarkers - DONE
findClustersMarkers - START
Differential Expression Analysis - START
* DEA on cluster '1' with 257 cells
* DEA on cluster '2' with 242 cells
* DEA on cluster '3' with 313 cells
* DEA on cluster '4' with 188 cells

Total calculations elapsed time: 0.0812680721282959
Differential Expression Analysis - DONE
Log Fold Change Analysis - START
* Analysis of cluster: '1'
* Analysis of cluster: '2'
* Analysis of cluster: '3'
* Analysis of cluster: '4'

Total calculations elapsed time: 4.05014729499817
Log Fold Change Analysis - DONE
Total calculations elapsed time: 4.14278101921082
findClustersMarkers - DONE
[1] "Tested cluster: 1"
Asked to drop 0 genes and 743 cells
COTAN dataset analysis: START
Asked to drop 51 genes and 0 cells
Genes/cells selection done: dropped [51] genes and [0] cells
Working on [549] genes and [257] cells
Dataset cleaning elapsed time: 0.950942516326904
Estimate `dispersion`: START
Effective number of cores used: 1
Executing 1 genes batches
Parallel dispersion Newton-Raphson: used up to 10 iterations
Total calculations elapsed time: 1.86779546737671
Estimate `dispersion`: DONE
Estimate `dispersion`: DONE
`dispersion` | min: -0.112503099391263 | max: 646.681464270838 | % negative: 40.8014571948998
Model parameter estimation elapsed time: 2.81515884399414
COTAN genes' COEX estimation: START
While trying to load the `torch` library Error in doTryCatch(return(expr), name, parentenv, handler): The `torch` library is installed but the required additional libraries are not available yet

Calculate genes' COEX (legacy): START
Retrieving expected genes' contingency table
calculating NN.. done
calculating NY..YN..YY..t().. done
Expected genes' contingency table elapsed time: 9.30955338478088
Calculating genes' COEX normalization factor
Calculate genes' normalization factor elapsed time: 0.00797343254089355
Retrieving observed genes' yes/yes contingency table
calculating YY.. done
Observed genes' contingency table elapsed time: 0.0317234992980957
Estimating genes' COEX
Calculate genes' COEX elapsed time: 1.28899955749512
Total calculations elapsed time: 10.638249874115
Calculate genes' COEX (legacy): DONE
Only genes' COEX elapsed time: 11.9073586463928
Dataset analysis elapsed time: 15.6734600067139
COTAN dataset analysis: DONE
Calculate GDI dataframe: START
Using S
Calculating S: START
Calculating S: DONE
Calculate `GDI`: START
Effective number of cores used: 1
Executing 1 genes batches
Total calculations elapsed time: 0.0331315994262695
Calculate `GDI`: DONE
Total calculations elapsed time: 3.30962133407593
Calculate GDI dataframe: DONE
Genes/cells selection done: dropped [0] genes and [0] cells
Working on [10] genes and [20] cells
Initializing `COTAN` meta-data
Genes/cells selection done: dropped [0] genes and [0] cells
Working on [600] genes and [1000] cells
Estimate `dispersion`: START
Effective number of cores used: 1
Executing 1 genes batches
Parallel dispersion Newton-Raphson: used up to 7 iterations
Total calculations elapsed time: 2.48443388938904
Estimate `dispersion`: DONE
Estimate `dispersion`: DONE
`dispersion` | min: -0.0529252975916502 | max: 462.908586418992 | % negative: 17.3333333333333
Initializing `COTAN` meta-data
COTAN dataset analysis: START
Genes/cells selection done: dropped [0] genes and [0] cells
Working on [600] genes and [1000] cells
Dataset cleaning elapsed time: 1.29339599609375
Estimate `dispersion`: START
Effective number of cores used: 1
Executing 1 genes batches
Parallel dispersion Newton-Raphson: used up to 7 iterations
Total calculations elapsed time: 2.44451451301575
Estimate `dispersion`: DONE
Estimate `dispersion`: DONE
`dispersion` | min: -0.0529252975916502 | max: 462.908586418992 | % negative: 17.3333333333333
Model parameter estimation elapsed time: 3.47437572479248
COTAN genes' COEX estimation not requested
Only genes' COEX elapsed time: 1.05025625228882
Dataset analysis elapsed time: 5.81802797317505
COTAN dataset analysis: DONE
Normalizing layer: counts
Performing log-normalization
0%   10   20   30   40   50   60   70   80   90   100%
[----|----|----|----|----|----|----|----|----|----|
**************************************************|
Finding variable features for layer counts
Calculating gene variances
0%   10   20   30   40   50   60   70   80   90   100%
[----|----|----|----|----|----|----|----|----|----|
**************************************************|
Calculating feature variances of standardized and clipped values
0%   10   20   30   40   50   60   70   80   90   100%
[----|----|----|----|----|----|----|----|----|----|
**************************************************|
Centering and scaling data matrix

  |                                                                            
  |                                                                      |   0%
  |                                                                            
  |======================================================================| 100%
PC_ 1 
Positive:  g-000397, g-000525, g-000460, g-000458, g-000535, g-000217, g-000194, g-000497, g-000432, g-000383 
	   g-000318, g-000486, g-000464, g-000588, g-000549, g-000368, g-000252, g-000151, g-000209, g-000538 
	   g-000325, g-000514, g-000524, g-000244, g-000320, g-000201, g-000499, g-000309, g-000290, g-000483 
Negative:  g-000415, g-000506, g-000496, g-000579, g-000572, g-000421, g-000455, g-000328, g-000178, g-000567 
	   g-000405, g-000296, g-000387, g-000501, g-000493, g-000481, g-000343, g-000528, g-000551, g-000414 
	   g-000367, g-000594, g-000159, g-000517, g-000574, g-000229, g-000222, g-000533, g-000243, g-000306 
PC_ 2 
Positive:  g-000141, g-000093, g-000089, g-000033, g-000123, g-000557, g-000330, g-000156, g-000142, g-000095 
	   g-000061, g-000235, g-000032, g-000186, g-000056, g-000259, g-000027, g-000041, g-000333, g-000386 
	   g-000009, g-000395, g-000048, g-000116, g-000340, g-000418, g-000035, g-000332, g-000086, g-000040 
Negative:  g-000088, g-000158, g-000255, g-000115, g-000054, g-000472, g-000554, g-000391, g-000253, g-000226 
	   g-000051, g-000147, g-000541, g-000077, g-000224, g-000194, g-000290, g-000293, g-000313, g-000118 
	   g-000121, g-000220, g-000467, g-000500, g-000341, g-000039, g-000091, g-000249, g-000426, g-000288 
PC_ 3 
Positive:  g-000126, g-000083, g-000086, g-000117, g-000130, g-000010, g-000498, g-000333, g-000047, g-000179 
	   g-000340, g-000035, g-000531, g-000140, g-000527, g-000049, g-000316, g-000031, g-000014, g-000073 
	   g-000218, g-000445, g-000129, g-000175, g-000105, g-000581, g-000404, g-000025, g-000266, g-000354 
Negative:  g-000096, g-000575, g-000370, g-000337, g-000319, g-000364, g-000308, g-000293, g-000147, g-000307 
	   g-000038, g-000492, g-000541, g-000185, g-000008, g-000482, g-000562, g-000097, g-000222, g-000084 
	   g-000141, g-000377, g-000224, g-000223, g-000136, g-000434, g-000277, g-000426, g-000139, g-000093 
PC_ 4 
Positive:  g-000006, g-000043, g-000462, g-000279, g-000180, g-000576, g-000087, g-000584, g-000498, g-000333 
	   g-000189, g-000088, g-000451, g-000059, g-000135, g-000281, g-000106, g-000429, g-000316, g-000578 
	   g-000303, g-000031, g-000581, g-000026, g-000122, g-000561, g-000546, g-000164, g-000353, g-000300 
Negative:  g-000072, g-000012, g-000129, g-000052, g-000097, g-000262, g-000080, g-000056, g-000025, g-000092 
	   g-000354, g-000334, g-000423, g-000228, g-000002, g-000010, g-000086, g-000147, g-000185, g-000172 
	   g-000124, g-000009, g-000077, g-000476, g-000126, g-000145, g-000065, g-000268, g-000152, g-000348 
PC_ 5 
Positive:  g-000105, g-000037, g-000110, g-000054, g-000090, g-000389, g-000022, g-000578, g-000289, g-000147 
	   g-000547, g-000011, g-000477, g-000433, g-000200, g-000348, g-000404, g-000003, g-000250, g-000109 
	   g-000402, g-000241, g-000595, g-000341, g-000560, g-000385, g-000413, g-000352, g-000573, g-000265 
Negative:  g-000051, g-000150, g-000088, g-000476, g-000344, g-000116, g-000428, g-000012, g-000523, g-000394 
	   g-000101, g-000127, g-000069, g-000214, g-000049, g-000357, g-000075, g-000081, g-000576, g-000342 
	   g-000439, g-000018, g-000070, g-000079, g-000015, g-000550, g-000600, g-000247, g-000218, g-000331 
Computing nearest neighbor graph
Computing SNN
Modularity Optimizer version 1.3.0 by Ludo Waltman and Nees Jan van Eck

Number of nodes: 1000
Number of edges: 68107

Running Louvain algorithm with multilevel refinement...
0%   10   20   30   40   50   60   70   80   90   100%
[----|----|----|----|----|----|----|----|----|----|
**************************************************|
Maximum modularity in 10 random starts: 0.5999
Number of communities: 2
Elapsed time: 0 seconds
Clusterizations found: RNA_snn_res.0.8, seurat_clusters
Conditions found: orig.ident
COTAN dataset analysis: START
Genes/cells selection done: dropped [0] genes and [0] cells
Working on [600] genes and [1000] cells
Dataset cleaning elapsed time: 1.2441680431366
Estimate `dispersion`: START
Effective number of cores used: 1
Executing 1 genes batches
Parallel dispersion Newton-Raphson: used up to 7 iterations
Total calculations elapsed time: 2.61236786842346
Estimate `dispersion`: DONE
Estimate `dispersion`: DONE
`dispersion` | min: -0.0529252975916502 | max: 462.908586418992 | % negative: 17.3333333333333
Model parameter estimation elapsed time: 3.9412055015564
COTAN genes' COEX estimation not requested
Only genes' COEX elapsed time: 1.09385919570923
Dataset analysis elapsed time: 6.27923274040222
COTAN dataset analysis: DONE
COTAN dataset analysis: START
Genes/cells selection done: dropped [0] genes and [0] cells
Working on [600] genes and [1000] cells
Dataset cleaning elapsed time: 1.27340984344482
Estimate `dispersion`: START
Effective number of cores used: 1
Executing 1 genes batches
Parallel dispersion Newton-Raphson: used up to 7 iterations
Total calculations elapsed time: 2.41384768486023
Estimate `dispersion`: DONE
Estimate `dispersion`: DONE
`dispersion` | min: -0.0529252975916502 | max: 462.908586418992 | % negative: 17.3333333333333
Model parameter estimation elapsed time: 3.45160627365112
COTAN genes' COEX estimation: START
While trying to load the `torch` library Error in doTryCatch(return(expr), name, parentenv, handler): The `torch` library is installed but the required additional libraries are not available yet

Calculate genes' COEX (legacy): START
Retrieving expected genes' contingency table
calculating NN.. done
calculating NY..YN..YY..t().. done
Expected genes' contingency table elapsed time: 9.63425636291504
Calculating genes' COEX normalization factor
Calculate genes' normalization factor elapsed time: 0.00715255737304688
Retrieving observed genes' yes/yes contingency table
calculating YY.. done
Observed genes' contingency table elapsed time: 0.0736212730407715
Estimating genes' COEX
Calculate genes' COEX elapsed time: 1.38484287261963
Total calculations elapsed time: 11.0998730659485
Calculate genes' COEX (legacy): DONE
Only genes' COEX elapsed time: 12.6317114830017
Dataset analysis elapsed time: 17.3567276000977
COTAN dataset analysis: DONE
Calculating gene co-expression space - START
Using S
Calculating S: START
Calculating S: DONE
calculating PValues: START
Get p-values on a set of genes on columns and genome wide on rows
Total calculations elapsed time: 0.0103027820587158
calculating PValues: DONE
Number of selected secondary markers: 6
Calculating S: START
Calculating S: DONE
Calculate `GDI`: START
Effective number of cores used: 1
Executing 1 genes batches
Total calculations elapsed time: 0.00911068916320801
Calculate `GDI`: DONE
Number of columns (V set - secondary markers): 6
Number of rows (U set): 60
Total calculations elapsed time: 1.57347130775452
Calculating gene co-expression space - DONE
Calculating gene co-expression space - START
Using S
Calculating S: START
Calculating S: DONE
calculating PValues: START
Get p-values on a set of genes on columns and genome wide on rows
Total calculations elapsed time: 0.00989031791687012
calculating PValues: DONE
Number of selected secondary markers: 98
Calculating S: START
Calculating S: DONE
Calculate `GDI`: START
Effective number of cores used: 1
Executing 1 genes batches
Total calculations elapsed time: 0.00975179672241211
Calculate `GDI`: DONE
Number of columns (V set - secondary markers): 98
Number of rows (U set): 60
Total calculations elapsed time: 1.55618619918823
Calculating gene co-expression space - DONE
Establishing gene clusters - START
Calculating gene co-expression space - START
Using S
Calculating S: START
Calculating S: DONE
calculating PValues: START
Get p-values on a set of genes on columns and genome wide on rows
Total calculations elapsed time: 0.00848817825317383
calculating PValues: DONE
Number of selected secondary markers: 98
Calculating S: START
Calculating S: DONE
Calculate `GDI`: START
Effective number of cores used: 1
Executing 1 genes batches
Total calculations elapsed time: 0.00978875160217285
Calculate `GDI`: DONE
Number of columns (V set - secondary markers): 98
Number of rows (U set): 60
Total calculations elapsed time: 1.5914740562439
Calculating gene co-expression space - DONE
Total calculations elapsed time: 1.66532969474792
Establishing gene clusters - DONE
Initializing `COTAN` meta-data
COTAN dataset analysis: START
Genes/cells selection done: dropped [0] genes and [0] cells
Working on [600] genes and [1000] cells
Dataset cleaning elapsed time: 1.11864042282104
Estimate `dispersion`: START
Effective number of cores used: 1
Executing 1 genes batches
Parallel dispersion Newton-Raphson: used up to 7 iterations
Total calculations elapsed time: 3.01657104492188
Estimate `dispersion`: DONE
Estimate `dispersion`: DONE
`dispersion` | min: -0.0529252975916502 | max: 462.908586418992 | % negative: 17.3333333333333
Model parameter estimation elapsed time: 4.44434571266174
COTAN genes' COEX estimation not requested
Only genes' COEX elapsed time: 1.62107300758362
Dataset analysis elapsed time: 7.18405914306641
COTAN dataset analysis: DONE
Differential Expression Analysis - START
* DEA on cluster '1' with 257 cells
* DEA on cluster '2' with 242 cells
* DEA on cluster '3' with 313 cells
* DEA on cluster '4' with 188 cells

Total calculations elapsed time: 0.0821170806884766
Differential Expression Analysis - DONE
Log Fold Change Analysis - START
* Analysis of cluster: '1'
* Analysis of cluster: '2'
* Analysis of cluster: '3'
* Analysis of cluster: '4'

Total calculations elapsed time: 4.34714412689209
Log Fold Change Analysis - DONE
clustersDeltaExpression - START
Handling cluster '1' with mean UDE 1.10997640736885
Handling cluster '2' with mean UDE 1.00770245700749
Handling cluster '3' with mean UDE 0.95940682189354
Handling cluster '4' with mean UDE 0.907328369455933
clustersDeltaExpression - DONE
In group G1 there are 3 detected over 3 genes
In group G2 there are 2 detected over 3 genes
In group G3 there are 5 detected over 5 genes
Merging cells' uniform clustering: START
The merge algorithm will use 2 passes
Start merging nearest clusters - the main threshold is: 1.297
Start merging nearest clusters: iteration 1
Differential Expression Analysis - START
* DEA on cluster '1' with 257 cells
* DEA on cluster '2' with 242 cells
* DEA on cluster '3' with 313 cells
* DEA on cluster '4' with 188 cells

Total calculations elapsed time: 0.0815353393554688
Differential Expression Analysis - DONE
Updating check results for the 0 already tested pairs to align to new checker
1 new clusters pairs to be tested for merging:
c("1", "2")
*1_2-merge
Asked to drop 0 genes and 501 cells
COTAN dataset analysis: START
Asked to drop 16 genes and 0 cells
Genes/cells selection done: dropped [16] genes and [0] cells
Working on [584] genes and [499] cells
Dataset cleaning elapsed time: 0.957970857620239
Estimate `dispersion`: START
Effective number of cores used: 1
Executing 1 genes batches
Parallel dispersion Newton-Raphson: used up to 10 iterations
Total calculations elapsed time: 2.02947950363159
Estimate `dispersion`: DONE
Estimate `dispersion`: DONE
`dispersion` | min: -0.0608154544840047 | max: 1260.06995351592 | % negative: 35.6164383561644
Model parameter estimation elapsed time: 3.0922679901123
COTAN genes' COEX estimation: START
While trying to load the `torch` library Error in doTryCatch(return(expr), name, parentenv, handler): The `torch` library is installed but the required additional libraries are not available yet

Calculate genes' COEX (legacy): START
Retrieving expected genes' contingency table
calculating NN.. done
calculating NY..YN..YY..t().. done
Expected genes' contingency table elapsed time: 10.281667470932
Calculating genes' COEX normalization factor
Calculate genes' normalization factor elapsed time: 0.00656223297119141
Retrieving observed genes' yes/yes contingency table
calculating YY.. done
Observed genes' contingency table elapsed time: 0.0428297519683838
Estimating genes' COEX
Calculate genes' COEX elapsed time: 1.49448752403259
Total calculations elapsed time: 11.8255469799042
Calculate genes' COEX (legacy): DONE
Only genes' COEX elapsed time: 13.1811442375183
Dataset analysis elapsed time: 17.2313830852509
COTAN dataset analysis: DONE
Checking uniformity for the cluster '1_2-merge' with 499 cells
Calculate GDI dataframe: START
Using S
Calculating S: START
Calculating S: DONE
Calculate `GDI`: START
Effective number of cores used: 1
Executing 1 genes batches
Total calculations elapsed time: 0.0351135730743408
Calculate `GDI`: DONE
Total calculations elapsed time: 3.85749554634094
Calculate GDI dataframe: DONE
Clean plots: START
Total calculations elapsed time: 0.0380473136901855
Clean plots: DONE
GDI plot
Removed 1 low GDI genes (such as the fully-expressed) in GDI plot
Cluster 1_2-merge, with size 499, is not uniform
Cluster 1_2-merge's shift to uniformity: 0.0566581136434114
class = AdvancedGDIUniformityCheck, firstCheck.isCheckAbove = FALSE, firstCheck.GDIThreshold = 1.297, firstCheck.maxRatioBeyond = 0.05, firstCheck.maxRankBeyond = 0, firstCheck.fractionBeyond = 0.178082191780822, firstCheck.thresholdRank = 0, firstCheck.quantileAtRatio = 1.35365811364341, firstCheck.quantileAtRank = NaN, secondCheck.isCheckAbove = TRUE, secondCheck.GDIThreshold = 1.307, secondCheck.maxRatioBeyond = 0.02, secondCheck.maxRankBeyond = 0, secondCheck.fractionBeyond = 0.148972602739726, secondCheck.thresholdRank = 0, secondCheck.quantileAtRatio = 1.37149326865972, secondCheck.quantileAtRank = NaN, thirdCheck.isCheckAbove = FALSE, thirdCheck.GDIThreshold = 1.4, thirdCheck.maxRatioBeyond = 0.01, thirdCheck.maxRankBeyond = 0, thirdCheck.fractionBeyond = 0.00513698630136986, thirdCheck.thresholdRank = 0, thirdCheck.quantileAtRatio = 1.38256306292787, thirdCheck.quantileAtRank = NaN, fourthCheck.isCheckAbove = FALSE, fourthCheck.GDIThreshold = 1.4, fourthCheck.maxRatioBeyond = NaN, fourthCheck.maxRankBeyond = 2, fourthCheck.fractionBeyond = NaN, fourthCheck.thresholdRank = 3, fourthCheck.quantileAtRatio = NaN, fourthCheck.quantileAtRank = 1.42111642638124, isUniform = FALSE, clusterSize = 499
Clusters 1 and 2 cannot be merged
Finished the first batch - no merges were executed
Loop calculations elapsed time: 27.670802116394
Start merging nearest clusters: iteration 2
Differential Expression Analysis - START
* DEA on cluster '1' with 257 cells
* DEA on cluster '2' with 242 cells
* DEA on cluster '3' with 313 cells
* DEA on cluster '4' with 188 cells

Total calculations elapsed time: 0.0814001560211182
Differential Expression Analysis - DONE
Updating check results for the 1 already tested pairs to align to new checker
1 new clusters pairs to be tested for merging:
c("3", "4")
*3_4-merge
Asked to drop 0 genes and 499 cells
COTAN dataset analysis: START
Asked to drop 37 genes and 0 cells
Genes/cells selection done: dropped [37] genes and [0] cells
Working on [563] genes and [501] cells
Dataset cleaning elapsed time: 1.50267362594604
Estimate `dispersion`: START
Effective number of cores used: 1
Executing 1 genes batches
Parallel dispersion Newton-Raphson: used up to 11 iterations
Total calculations elapsed time: 2.7915506362915
Estimate `dispersion`: DONE
Estimate `dispersion`: DONE
`dispersion` | min: -0.107568326617881 | max: 698.639334552754 | % negative: 32.1492007104796
Model parameter estimation elapsed time: 4.08338046073914
COTAN genes' COEX estimation: START
While trying to load the `torch` library Error in doTryCatch(return(expr), name, parentenv, handler): The `torch` library is installed but the required additional libraries are not available yet

Calculate genes' COEX (legacy): START
Retrieving expected genes' contingency table
calculating NN.. done
calculating NY..YN..YY..t().. done
Expected genes' contingency table elapsed time: 9.56547212600708
Calculating genes' COEX normalization factor
Calculate genes' normalization factor elapsed time: 0.00912380218505859
Retrieving observed genes' yes/yes contingency table
calculating YY.. done
Observed genes' contingency table elapsed time: 0.0426828861236572
Estimating genes' COEX
Calculate genes' COEX elapsed time: 1.23785972595215
Total calculations elapsed time: 10.8551385402679
Calculate genes' COEX (legacy): DONE
Only genes' COEX elapsed time: 12.0341470241547
Dataset analysis elapsed time: 17.6202011108398
COTAN dataset analysis: DONE
Checking uniformity for the cluster '3_4-merge' with 501 cells
Calculate GDI dataframe: START
Using S
Calculating S: START
Calculating S: DONE
Calculate `GDI`: START
Effective number of cores used: 1
Executing 1 genes batches
Total calculations elapsed time: 0.0354964733123779
Calculate `GDI`: DONE
Total calculations elapsed time: 4.55446863174438
Calculate GDI dataframe: DONE
Clean plots: START
Total calculations elapsed time: 0.0392801761627197
Clean plots: DONE
GDI plot
Removed 0 low GDI genes (such as the fully-expressed) in GDI plot
Cluster 3_4-merge, with size 501, is not uniform
Cluster 3_4-merge's shift to uniformity: 0.0813107504723223
class = AdvancedGDIUniformityCheck, firstCheck.isCheckAbove = FALSE, firstCheck.GDIThreshold = 1.297, firstCheck.maxRatioBeyond = 0.05, firstCheck.maxRankBeyond = 0, firstCheck.fractionBeyond = 0.259325044404973, firstCheck.thresholdRank = 0, firstCheck.quantileAtRatio = 1.37831075047232, firstCheck.quantileAtRank = NaN, secondCheck.isCheckAbove = TRUE, secondCheck.GDIThreshold = 1.307, secondCheck.maxRatioBeyond = 0.02, secondCheck.maxRankBeyond = 0, secondCheck.fractionBeyond = 0.216696269982238, secondCheck.thresholdRank = 0, secondCheck.quantileAtRatio = 1.41473792188166, secondCheck.quantileAtRank = NaN, thirdCheck.isCheckAbove = FALSE, thirdCheck.GDIThreshold = 1.4, thirdCheck.maxRatioBeyond = 0.01, thirdCheck.maxRankBeyond = 0, thirdCheck.fractionBeyond = 0.0301953818827709, thirdCheck.thresholdRank = 0, thirdCheck.quantileAtRatio = 1.43341610223243, thirdCheck.quantileAtRank = NaN, fourthCheck.isCheckAbove = FALSE, fourthCheck.GDIThreshold = 1.4, fourthCheck.maxRatioBeyond = NaN, fourthCheck.maxRankBeyond = 2, fourthCheck.fractionBeyond = NaN, fourthCheck.thresholdRank = 17, fourthCheck.quantileAtRatio = NaN, fourthCheck.quantileAtRank = 1.46173948790285, isUniform = FALSE, clusterSize = 501
Clusters 3 and 4 cannot be merged
No clusters will be merged
None of the remaining tested cluster pairs could be merged
Executed all merges for threshold 1.297 out of 2 checks
Start merging nearest clusters - the main threshold is: 1.397
Start merging nearest clusters: iteration 3
Differential Expression Analysis - START
* DEA on cluster '1' with 257 cells
* DEA on cluster '2' with 242 cells
* DEA on cluster '3' with 313 cells
* DEA on cluster '4' with 188 cells

Total calculations elapsed time: 0.0756707191467285
Differential Expression Analysis - DONE
Updating check results for the 2 already tested pairs to align to new checker
1 new clusters pairs to be tested for merging:
c("2", "4")
*2_4-merge
Asked to drop 0 genes and 570 cells
COTAN dataset analysis: START
Asked to drop 9 genes and 0 cells
Genes/cells selection done: dropped [9] genes and [0] cells
Working on [591] genes and [430] cells
Dataset cleaning elapsed time: 2.0085551738739
Estimate `dispersion`: START
Effective number of cores used: 1
Executing 1 genes batches
Parallel dispersion Newton-Raphson: used up to 7 iterations
Total calculations elapsed time: 3.49809598922729
Estimate `dispersion`: DONE
Estimate `dispersion`: DONE
`dispersion` | min: -0.0739592351622374 | max: 400.051960722894 | % negative: 25.7191201353638
Model parameter estimation elapsed time: 5.69722199440002
COTAN genes' COEX estimation: START
While trying to load the `torch` library Error in doTryCatch(return(expr), name, parentenv, handler): The `torch` library is installed but the required additional libraries are not available yet

Calculate genes' COEX (legacy): START
Retrieving expected genes' contingency table
calculating NN.. done
calculating NY..YN..YY..t().. done
Expected genes' contingency table elapsed time: 11.5056083202362
Calculating genes' COEX normalization factor
Calculate genes' normalization factor elapsed time: 0.00997066497802734
Retrieving observed genes' yes/yes contingency table
calculating YY.. done
Observed genes' contingency table elapsed time: 0.0448153018951416
Estimating genes' COEX
Calculate genes' COEX elapsed time: 1.59892749786377
Total calculations elapsed time: 13.1593217849731
Calculate genes' COEX (legacy): DONE
Only genes' COEX elapsed time: 14.9351832866669
Dataset analysis elapsed time: 22.6409604549408
COTAN dataset analysis: DONE
Checking uniformity for the cluster '2_4-merge' with 430 cells
Calculate GDI dataframe: START
Using S
Calculating S: START
Calculating S: DONE
Calculate `GDI`: START
Effective number of cores used: 1
Executing 1 genes batches
Total calculations elapsed time: 0.0337593555450439
Calculate `GDI`: DONE
Total calculations elapsed time: 4.8903660774231
Calculate GDI dataframe: DONE
Clean plots: START
Total calculations elapsed time: 0.0431523323059082
Clean plots: DONE
GDI plot
Removed 0 low GDI genes (such as the fully-expressed) in GDI plot
Cluster 2_4-merge, with size 430, is not uniform
Cluster 2_4-merge's shift to uniformity: 3.07228472969514
class = AdvancedGDIUniformityCheck, firstCheck.isCheckAbove = FALSE, firstCheck.GDIThreshold = 1.397, firstCheck.maxRatioBeyond = 0.05, firstCheck.maxRankBeyond = 0, firstCheck.fractionBeyond = 0.583756345177665, firstCheck.thresholdRank = 0, firstCheck.quantileAtRatio = 3.7954982715656, firstCheck.quantileAtRank = NaN, secondCheck.isCheckAbove = TRUE, secondCheck.GDIThreshold = 1.407, secondCheck.maxRatioBeyond = 0.02, secondCheck.maxRankBeyond = 0, secondCheck.fractionBeyond = 0.576988155668359, secondCheck.thresholdRank = 0, secondCheck.quantileAtRatio = 4.08354952912925, secondCheck.quantileAtRank = NaN, thirdCheck.isCheckAbove = FALSE, thirdCheck.GDIThreshold = 1.5, thirdCheck.maxRatioBeyond = 0.01, thirdCheck.maxRankBeyond = 0, thirdCheck.fractionBeyond = 0.524534686971235, thirdCheck.thresholdRank = 0, thirdCheck.quantileAtRatio = 4.42722016730736, thirdCheck.quantileAtRank = NaN, fourthCheck.isCheckAbove = FALSE, fourthCheck.GDIThreshold = 1.5, fourthCheck.maxRatioBeyond = NaN, fourthCheck.maxRankBeyond = 2, fourthCheck.fractionBeyond = NaN, fourthCheck.thresholdRank = 310, fourthCheck.quantileAtRatio = NaN, fourthCheck.quantileAtRank = 4.57228472969514, isUniform = FALSE, clusterSize = 430
Clusters 2 and 4 cannot be merged
Clusters 1 and 2 will be merged
Clusters 4 and 3 will be merged
Executed 2 merges
Loop calculations elapsed time: 35.1572349071503
Start merging nearest clusters: iteration 4
Differential Expression Analysis - START
* DEA on cluster '1_2-merge' with 499 cells
* DEA on cluster '3_4-merge' with 501 cells

Total calculations elapsed time: 0.0595133304595947
Differential Expression Analysis - DONE
Updating check results for the 3 already tested pairs to align to new checker
1 new clusters pairs to be tested for merging:
c("1_2-merge", "3_4-merge")
*1_2-merge_3_4-merge-merge
Asked to drop no genes or cells
COTAN dataset analysis: START
Genes/cells selection done: dropped [0] genes and [0] cells
Working on [600] genes and [1000] cells
Dataset cleaning elapsed time: 1.52272796630859
Estimate `dispersion`: START
Effective number of cores used: 1
Executing 1 genes batches
Parallel dispersion Newton-Raphson: used up to 7 iterations
Total calculations elapsed time: 2.97096920013428
Estimate `dispersion`: DONE
Estimate `dispersion`: DONE
`dispersion` | min: -0.0529252975916502 | max: 462.908586418992 | % negative: 17.3333333333333
Model parameter estimation elapsed time: 4.54018306732178
COTAN genes' COEX estimation: START
While trying to load the `torch` library Error in doTryCatch(return(expr), name, parentenv, handler): The `torch` library is installed but the required additional libraries are not available yet

Calculate genes' COEX (legacy): START
Retrieving expected genes' contingency table
calculating NN.. done
calculating NY..YN..YY..t().. done
Expected genes' contingency table elapsed time: 10.8761522769928
Calculating genes' COEX normalization factor
Calculate genes' normalization factor elapsed time: 0.0100657939910889
Retrieving observed genes' yes/yes contingency table
calculating YY.. done
Observed genes' contingency table elapsed time: 0.0692005157470703
Estimating genes' COEX
Calculate genes' COEX elapsed time: 1.58521890640259
Total calculations elapsed time: 12.5406374931335
Calculate genes' COEX (legacy): DONE
Only genes' COEX elapsed time: 13.9419775009155
Dataset analysis elapsed time: 20.0048885345459
COTAN dataset analysis: DONE
Checking uniformity for the cluster '1_2-merge_3_4-merge-merge' with 1000 cells
Calculate GDI dataframe: START
Using S
Calculating S: START
Calculating S: DONE
Calculate `GDI`: START
Effective number of cores used: 1
Executing 1 genes batches
Total calculations elapsed time: 0.03529953956604
Calculate `GDI`: DONE
Total calculations elapsed time: 4.50018620491028
Calculate GDI dataframe: DONE
Clean plots: START
Total calculations elapsed time: 0.0489733219146729
Clean plots: DONE
GDI plot
Removed 0 low GDI genes (such as the fully-expressed) in GDI plot
Cluster 1_2-merge_3_4-merge-merge, with size 1000, is not uniform
Cluster 1_2-merge_3_4-merge-merge's shift to uniformity: 3.86988385120409
class = AdvancedGDIUniformityCheck, firstCheck.isCheckAbove = FALSE, firstCheck.GDIThreshold = 1.397, firstCheck.maxRatioBeyond = 0.05, firstCheck.maxRankBeyond = 0, firstCheck.fractionBeyond = 0.69, firstCheck.thresholdRank = 0, firstCheck.quantileAtRatio = 4.54596809454193, firstCheck.quantileAtRank = NaN, secondCheck.isCheckAbove = TRUE, secondCheck.GDIThreshold = 1.407, secondCheck.maxRatioBeyond = 0.02, secondCheck.maxRankBeyond = 0, secondCheck.fractionBeyond = 0.678333333333333, secondCheck.thresholdRank = 0, secondCheck.quantileAtRatio = 4.93144728766684, secondCheck.quantileAtRank = NaN, thirdCheck.isCheckAbove = FALSE, thirdCheck.GDIThreshold = 1.5, thirdCheck.maxRatioBeyond = 0.01, thirdCheck.maxRankBeyond = 0, thirdCheck.fractionBeyond = 0.593333333333333, thirdCheck.thresholdRank = 0, thirdCheck.quantileAtRatio = 5.2532296852478, thirdCheck.quantileAtRank = NaN, fourthCheck.isCheckAbove = FALSE, fourthCheck.GDIThreshold = 1.5, fourthCheck.maxRatioBeyond = NaN, fourthCheck.maxRankBeyond = 2, fourthCheck.fractionBeyond = NaN, fourthCheck.thresholdRank = 356, fourthCheck.quantileAtRatio = NaN, fourthCheck.quantileAtRank = 5.36988385120409, isUniform = FALSE, clusterSize = 1000
Clusters 1_2-merge and 3_4-merge cannot be merged
No clusters will be merged
None of the remaining tested cluster pairs could be merged
Executed all merges for threshold 1.397 out of 4 checks
The final merged clusterization contains [2] different clusters: 1_2-merge, 3_4-merge
Differential Expression Analysis - START
* DEA on cluster '1' with 499 cells
* DEA on cluster '2' with 501 cells

Total calculations elapsed time: 0.0649263858795166
Differential Expression Analysis - DONE
Applied reordering to clusterization is:
1  ->  1, 2  ->  2
Total calculations elapsed time: 123.152329683304
Merging cells' uniform clustering: DONE
Applied reordering to clusterization is:
1  ->  1, 2  ->  2
Log Fold Change Analysis - START
* Analysis of cluster: '1'
* Analysis of cluster: '2'

Total calculations elapsed time: 3.17122149467468
Log Fold Change Analysis - DONE
[1] "Tested cluster: 1"
Asked to drop 0 genes and 501 cells
COTAN dataset analysis: START
Asked to drop 16 genes and 0 cells
Genes/cells selection done: dropped [16] genes and [0] cells
Working on [584] genes and [499] cells
Dataset cleaning elapsed time: 1.7254912853241
Estimate `dispersion`: START
Effective number of cores used: 1
Executing 1 genes batches
Parallel dispersion Newton-Raphson: used up to 10 iterations
Total calculations elapsed time: 2.76298785209656
Estimate `dispersion`: DONE
Estimate `dispersion`: DONE
`dispersion` | min: -0.0608154544840047 | max: 1260.06995351592 | % negative: 35.6164383561644
Model parameter estimation elapsed time: 4.07783246040344
COTAN genes' COEX estimation: START
While trying to load the `torch` library Error in doTryCatch(return(expr), name, parentenv, handler): The `torch` library is installed but the required additional libraries are not available yet

Calculate genes' COEX (legacy): START
Retrieving expected genes' contingency table
calculating NN.. done
calculating NY..YN..YY..t().. done
Expected genes' contingency table elapsed time: 9.78414988517761
Calculating genes' COEX normalization factor
Calculate genes' normalization factor elapsed time: 0.00687170028686523
Retrieving observed genes' yes/yes contingency table
calculating YY.. done
Observed genes' contingency table elapsed time: 0.0412731170654297
Estimating genes' COEX
Calculate genes' COEX elapsed time: 1.04446530342102
Total calculations elapsed time: 10.8767600059509
Calculate genes' COEX (legacy): DONE
Only genes' COEX elapsed time: 12.132972240448
Dataset analysis elapsed time: 17.9362959861755
COTAN dataset analysis: DONE
Calculate GDI dataframe: START
Using S
Calculating S: START
Calculating S: DONE
Calculate `GDI`: START
Effective number of cores used: 1
Executing 1 genes batches
Total calculations elapsed time: 0.0344867706298828
Calculate `GDI`: DONE
Total calculations elapsed time: 4.79877018928528
Calculate GDI dataframe: DONE
Dispersion bisection: straddling used 2 iterations
Dispersion bisection: used 8 iterations
Dispersion bisection: straddling used 1 iterations
Dispersion bisection: used 9 iterations
Dispersion Newton-Raphson: used up to 4 iterations
Dispersion Newton-Raphson: used up to 4 iterations
parallel dispersion bisection: straddling used up to 2 iterations
Parallel dispersion bisection: used up to 9 iterations
Parallel dispersion Newton-Raphson: used up to 4 iterations
[ FAIL 1 | WARN 3 | SKIP 0 | PASS 572 ]

══ Failed tests ════════════════════════════════════════════════════════════════
── Failure ('test-establishGenesClusters.R:70:5'): Establish genes clusters ────
abs(pcaClusters[, 1L:4L]) (`actual`) not equal to abs(pcaClustersExp[, 1L:4L]) (`expected`).

actual vs expected
                         PC3        PC4
- actual[1, ]    0.658895212 0.15883750
+ expected[1, ]  0.658892533 0.15883934
- actual[2, ]    0.079564425 0.59203995
+ expected[2, ]  0.079567203 0.59203753
- actual[3, ]    0.918532721 0.56313722
+ expected[3, ]  0.918529216 0.56314516
- actual[4, ]    0.702531238 1.34693455
+ expected[4, ]  0.702534262 1.34693118
- actual[5, ]    1.794575928 0.16243050
+ expected[5, ]  1.794578322 0.16244473
- actual[6, ]    1.945309666 0.09807515
+ expected[6, ]  1.945313360 0.09806812
- actual[7, ]    0.928430613 2.09901814
+ expected[7, ]  0.928419834 2.09901875
- actual[8, ]    1.245356622 0.32562932
+ expected[8, ]  1.245358368 0.32563594
- actual[9, ]    0.101983190 0.75673576
+ expected[9, ]  0.101974678 0.75673771
- actual[10, ]   0.068781346 1.20531303
+ expected[10, ] 0.068787701 1.20530874
and 50 more ...

     actual$PC3 | expected$PC3                
 [1] 0.6588952  - 0.6588925    [1]            
 [2] 0.0795644  - 0.0795672    [2]            
 [3] 0.9185327  - 0.9185292    [3]            
 [4] 0.7025312  - 0.7025343    [4]            
 [5] 1.7945759  - 1.7945783    [5]            
 [6] 1.9453097  - 1.9453134    [6]            
 [7] 0.9284306  - 0.9284198    [7]            
 [8] 1.2453566  - 1.2453584    [8]            
 [9] 0.1019832  - 0.1019747    [9]            
[10] 0.0687813  - 0.0687877    [10]           
 ... ...          ...          and 50 more ...

     actual$PC4 | expected$PC4                
 [1] 0.1588375  - 0.1588393    [1]            
 [2] 0.5920400  - 0.5920375    [2]            
 [3] 0.5631372  - 0.5631452    [3]            
 [4] 1.3469346  - 1.3469312    [4]            
 [5] 0.1624305  - 0.1624447    [5]            
 [6] 0.0980751  - 0.0980681    [6]            
 [7] 2.0990181  - 2.0990188    [7]            
 [8] 0.3256293  - 0.3256359    [8]            
 [9] 0.7567358  - 0.7567377    [9]            
[10] 1.2053130  - 1.2053087    [10]           
 ... ...          ...          and 50 more ...

[ FAIL 1 | WARN 3 | SKIP 0 | PASS 572 ]
Error: Test failures
Execution halted

Example timings

COTAN.Rcheck/COTAN-Ex.timings

nameusersystemelapsed
COTAN_Legacy0.0020.0000.002
COTAN_ObjectCreation353.657 0.746 23.140
CalculatingCOEX1316.089 2.357 100.573
ClustersList0.0110.0010.013
Conversions5.1840.0605.355
GenesStatistics345.215 0.099 22.192
HandleMetaData0.0450.0000.045
HandlingClusterizations383.409 0.545 59.381
HandlingConditions0.1110.0020.114
HeatmapPlots934.811 1.284 67.218
Installing_torch0.0000.0000.001
LoggingFunctions0.0030.0000.003
ParametersEstimations27.000 0.76326.678
RawDataCleaning5.4650.0245.805
RawDataGetters0.0480.0010.049
UniformClusters1390.946 3.598 124.947
getColorsVector0.0010.0000.002