Back to Multiple platform build/check report for BioC 3.22:   simplified   long
ABCDEFGHIJKL[M]NOPQRSTUVWXYZ

This page was generated on 2025-07-26 12:06 -0400 (Sat, 26 Jul 2025).

HostnameOSArch (*)R versionInstalled pkgs
nebbiolo2Linux (Ubuntu 24.04.2 LTS)x86_644.5.1 (2025-06-13) -- "Great Square Root" 4795
palomino8Windows Server 2022 Datacenterx644.5.1 (2025-06-13 ucrt) -- "Great Square Root" 4534
lconwaymacOS 12.7.1 Montereyx86_644.5.1 (2025-06-13) -- "Great Square Root" 4577
kjohnson3macOS 13.7.1 Venturaarm644.5.1 Patched (2025-06-14 r88325) -- "Great Square Root" 4518
taishanLinux (openEuler 24.03 LTS)aarch644.5.0 (2025-04-11) -- "How About a Twenty-Six" 4512
Click on any hostname to see more info about the system (e.g. compilers)      (*) as reported by 'uname -p', except on Windows and Mac OS X

Package 1328/2313HostnameOS / ArchINSTALLBUILDCHECKBUILD BIN
MOSClip 1.3.2  (landing page)
Paolo Martini
Snapshot Date: 2025-07-25 13:25 -0400 (Fri, 25 Jul 2025)
git_url: https://git.bioconductor.org/packages/MOSClip
git_branch: devel
git_last_commit: d29262d
git_last_commit_date: 2025-05-19 04:42:27 -0400 (Mon, 19 May 2025)
nebbiolo2Linux (Ubuntu 24.04.2 LTS) / x86_64  OK    OK    OK  UNNEEDED, same version is already published
palomino8Windows Server 2022 Datacenter / x64  OK    OK    OK    OK  UNNEEDED, same version is already published
lconwaymacOS 12.7.1 Monterey / x86_64  OK    OK    OK    OK  UNNEEDED, same version is already published
kjohnson3macOS 13.7.1 Ventura / arm64  OK    OK    OK    OK  UNNEEDED, same version is already published
taishanLinux (openEuler 24.03 LTS) / aarch64  OK    OK    OK  


CHECK results for MOSClip on nebbiolo2

To the developers/maintainers of the MOSClip package:
- Allow up to 24 hours (and sometimes 48 hours) for your latest push to git@git.bioconductor.org:packages/MOSClip.git to reflect on this report. See Troubleshooting Build Report for more information.
- Use the following Renviron settings to reproduce errors and warnings.
- If 'R CMD check' started to fail recently on the Linux builder(s) over a missing dependency, add the missing dependency to 'Suggests:' in your DESCRIPTION file. See Renviron.bioc for more information.

raw results


Summary

Package: MOSClip
Version: 1.3.2
Command: /home/biocbuild/bbs-3.22-bioc/R/bin/R CMD check --install=check:MOSClip.install-out.txt --library=/home/biocbuild/bbs-3.22-bioc/R/site-library --timings MOSClip_1.3.2.tar.gz
StartedAt: 2025-07-26 02:33:27 -0400 (Sat, 26 Jul 2025)
EndedAt: 2025-07-26 02:42:02 -0400 (Sat, 26 Jul 2025)
EllapsedTime: 514.6 seconds
RetCode: 0
Status:   OK  
CheckDir: MOSClip.Rcheck
Warnings: 0

Command output

##############################################################################
##############################################################################
###
### Running command:
###
###   /home/biocbuild/bbs-3.22-bioc/R/bin/R CMD check --install=check:MOSClip.install-out.txt --library=/home/biocbuild/bbs-3.22-bioc/R/site-library --timings MOSClip_1.3.2.tar.gz
###
##############################################################################
##############################################################################


* using log directory ‘/home/biocbuild/bbs-3.22-bioc/meat/MOSClip.Rcheck’
* using R version 4.5.1 (2025-06-13)
* using platform: x86_64-pc-linux-gnu
* R was compiled by
    gcc (Ubuntu 13.3.0-6ubuntu2~24.04) 13.3.0
    GNU Fortran (Ubuntu 13.3.0-6ubuntu2~24.04) 13.3.0
* running under: Ubuntu 24.04.2 LTS
* using session charset: UTF-8
* checking for file ‘MOSClip/DESCRIPTION’ ... OK
* this is package ‘MOSClip’ version ‘1.3.2’
* package encoding: UTF-8
* checking package namespace information ... OK
* checking package dependencies ... INFO
Imports includes 27 non-default packages.
Importing from so many packages makes the package vulnerable to any of
them becoming unavailable.  Move as many as possible to Suggests and
use conditionally.
* checking if this is a source package ... OK
* checking if there is a namespace ... OK
* checking for hidden files and directories ... OK
* checking for portable file names ... OK
* checking for sufficient/correct file permissions ... OK
* checking whether package ‘MOSClip’ can be installed ... OK
* checking installed package size ... OK
* checking package directory ... OK
* checking ‘build’ directory ... OK
* checking DESCRIPTION meta-information ... OK
* checking top-level files ... OK
* checking for left-over files ... OK
* checking index information ... OK
* checking package subdirectories ... OK
* checking code files for non-ASCII characters ... OK
* checking R files for syntax errors ... OK
* checking whether the package can be loaded ... OK
* checking whether the package can be loaded with stated dependencies ... OK
* checking whether the package can be unloaded cleanly ... OK
* checking whether the namespace can be loaded with stated dependencies ... OK
* checking whether the namespace can be unloaded cleanly ... OK
* checking loading without being on the library search path ... OK
* checking dependencies in R code ... OK
* checking S3 generic/method consistency ... OK
* checking replacement functions ... OK
* checking foreign function calls ... OK
* checking R code for possible problems ... OK
* checking Rd files ... OK
* checking Rd metadata ... OK
* checking Rd cross-references ... NOTE
Found the following Rd file(s) with Rd \link{} targets missing package
anchors:
  makeOmics.Rd: ExperimentList, DataFrame-class
Please provide package anchors for all Rd \link{} targets not in the
package itself and the base packages.
* checking for missing documentation entries ... OK
* checking for code/documentation mismatches ... OK
* checking Rd \usage sections ... OK
* checking Rd contents ... OK
* checking for unstated dependencies in examples ... OK
* checking contents of ‘data’ directory ... OK
* checking data for non-ASCII characters ... OK
* checking data for ASCII and uncompressed saves ... OK
* checking files in ‘vignettes’ ... OK
* checking examples ... OK
Examples with CPU (user + system) or elapsed time > 5s
                       user system elapsed
evaluateResampling    6.173  0.063   6.236
annotePathwayToFather 5.969  0.185   6.155
* checking for unstated dependencies in ‘tests’ ... OK
* checking tests ...
  Running ‘testthat.R’
 OK
* checking for unstated dependencies in vignettes ... OK
* checking package vignettes ... OK
* checking re-building of vignette outputs ... OK
* checking PDF version of manual ... OK
* DONE

Status: 1 NOTE
See
  ‘/home/biocbuild/bbs-3.22-bioc/meat/MOSClip.Rcheck/00check.log’
for details.


Installation output

MOSClip.Rcheck/00install.out

##############################################################################
##############################################################################
###
### Running command:
###
###   /home/biocbuild/bbs-3.22-bioc/R/bin/R CMD INSTALL MOSClip
###
##############################################################################
##############################################################################


* installing to library ‘/home/biocbuild/bbs-3.22-bioc/R/site-library’
* installing *source* package ‘MOSClip’ ...
** this is package ‘MOSClip’ version ‘1.3.2’
** using staged installation
** R
** data
** inst
** byte-compile and prepare package for lazy loading
** help
*** installing help indices
*** copying figures
** building package indices
** installing vignettes
** testing if installed package can be loaded from temporary location
** testing if installed package can be loaded from final location
** testing if installed package keeps a record of temporary installation path
* DONE (MOSClip)

Tests output

MOSClip.Rcheck/tests/testthat.Rout


R version 4.5.1 (2025-06-13) -- "Great Square Root"
Copyright (C) 2025 The R Foundation for Statistical Computing
Platform: x86_64-pc-linux-gnu

R is free software and comes with ABSOLUTELY NO WARRANTY.
You are welcome to redistribute it under certain conditions.
Type 'license()' or 'licence()' for distribution details.

R is a collaborative project with many contributors.
Type 'contributors()' for more information and
'citation()' on how to cite R or R packages in publications.

Type 'demo()' for some demos, 'help()' for on-line help, or
'help.start()' for an HTML browser interface to help.
Type 'q()' to quit R.

> library(testthat)
> library(MOSClip)

> 
> test_check("MOSClip")
[ FAIL 0 | WARN 0 | SKIP 0 | PASS 198 ]
> 
> proc.time()
   user  system elapsed 
 77.584   2.866  80.448 

Example timings

MOSClip.Rcheck/MOSClip-Ex.timings

nameusersystemelapsed
annotePathwayToFather5.9690.1856.155
availableOmicMethods0.0000.0000.001
computeFreqs0.0030.0000.002
computeOmicsIntersections0.0040.0000.003
downloadPathwayRelationFromReactome0.0580.0060.063
evaluateResampling6.1730.0636.236
makeOmics0.1910.0000.192
minOrNA000
multiOmicsSurvivalModuleTest1.4870.0071.494
multiOmicsSurvivalPathwayTest0.2710.0010.272
multiOmicsTwoClassModuleTest1.4590.0031.462
multiOmicsTwoClassPathwayTest0.2720.0000.272
multiPathwayModuleReport3.4340.0063.442
multiPathwayReport0.5560.0000.556
plotFrequencies0.2540.0000.254
plotModuleHeat3.9920.0634.062
plotModuleInGraph1.9160.0101.927
plotModuleKM2.7990.0402.840
plotModuleReport4.7660.0624.829
plotMultiPathwayReport1.3220.0011.323
plotPathwayHeat1.8740.0201.894
plotPathwayKM1.2600.0371.297
resampling-Survival4.6330.0084.641
resampling-TwoClass4.5350.0034.538
runSupertest0.1010.0010.102
showMOSpalette0.0130.0000.013
showModule1.4350.0011.437
showOmics0.0430.0010.045
showPathway0.3020.0010.304
stripModulesFromPathways0.0000.0000.001
summarizeOmicsResByMinPvalue000