Back to Multiple platform build/check report for BioC 3.22:   simplified   long
AB[C]DEFGHIJKLMNOPQRSTUVWXYZ

This page was generated on 2025-10-29 12:05 -0400 (Wed, 29 Oct 2025).

HostnameOSArch (*)R versionInstalled pkgs
nebbiolo2Linux (Ubuntu 24.04.3 LTS)x86_644.5.1 Patched (2025-08-23 r88802) -- "Great Square Root" 4901
lconwaymacOS 12.7.6 Montereyx86_644.5.1 Patched (2025-09-10 r88807) -- "Great Square Root" 4691
kjohnson3macOS 13.7.7 Venturaarm644.5.1 Patched (2025-09-10 r88807) -- "Great Square Root" 4637
Click on any hostname to see more info about the system (e.g. compilers)      (*) as reported by 'uname -p', except on Windows and Mac OS X

Package 286/2361HostnameOS / ArchINSTALLBUILDCHECKBUILD BIN
CATALYST 1.33.1  (landing page)
Helena L. Crowell
Snapshot Date: 2025-10-28 13:45 -0400 (Tue, 28 Oct 2025)
git_url: https://git.bioconductor.org/packages/CATALYST
git_branch: devel
git_last_commit: 0262c36
git_last_commit_date: 2025-07-13 09:49:24 -0400 (Sun, 13 Jul 2025)
nebbiolo2Linux (Ubuntu 24.04.3 LTS) / x86_64  OK    OK    OK  UNNEEDED, same version is already published
lconwaymacOS 12.7.6 Monterey / x86_64  OK    OK    OK    OK  UNNEEDED, same version is already published
kjohnson3macOS 13.7.7 Ventura / arm64  OK    OK    OK    OK  UNNEEDED, same version is already published


CHECK results for CATALYST on nebbiolo2

To the developers/maintainers of the CATALYST package:
- Allow up to 24 hours (and sometimes 48 hours) for your latest push to git@git.bioconductor.org:packages/CATALYST.git to reflect on this report. See Troubleshooting Build Report for more information.
- Use the following Renviron settings to reproduce errors and warnings.
- If 'R CMD check' started to fail recently on the Linux builder(s) over a missing dependency, add the missing dependency to 'Suggests:' in your DESCRIPTION file. See Renviron.bioc for more information.

raw results


Summary

Package: CATALYST
Version: 1.33.1
Command: /home/biocbuild/bbs-3.22-bioc/R/bin/R CMD check --install=check:CATALYST.install-out.txt --library=/home/biocbuild/bbs-3.22-bioc/R/site-library --timings CATALYST_1.33.1.tar.gz
StartedAt: 2025-10-28 21:44:19 -0400 (Tue, 28 Oct 2025)
EndedAt: 2025-10-28 21:56:34 -0400 (Tue, 28 Oct 2025)
EllapsedTime: 734.8 seconds
RetCode: 0
Status:   OK  
CheckDir: CATALYST.Rcheck
Warnings: 0

Command output

##############################################################################
##############################################################################
###
### Running command:
###
###   /home/biocbuild/bbs-3.22-bioc/R/bin/R CMD check --install=check:CATALYST.install-out.txt --library=/home/biocbuild/bbs-3.22-bioc/R/site-library --timings CATALYST_1.33.1.tar.gz
###
##############################################################################
##############################################################################


* using log directory ‘/home/biocbuild/bbs-3.22-bioc/meat/CATALYST.Rcheck’
* using R version 4.5.1 Patched (2025-08-23 r88802)
* using platform: x86_64-pc-linux-gnu
* R was compiled by
    gcc (Ubuntu 13.3.0-6ubuntu2~24.04) 13.3.0
    GNU Fortran (Ubuntu 13.3.0-6ubuntu2~24.04) 13.3.0
* running under: Ubuntu 24.04.3 LTS
* using session charset: UTF-8
* checking for file ‘CATALYST/DESCRIPTION’ ... OK
* checking extension type ... Package
* this is package ‘CATALYST’ version ‘1.33.1’
* package encoding: UTF-8
* checking package namespace information ... OK
* checking package dependencies ... INFO
Imports includes 24 non-default packages.
Importing from so many packages makes the package vulnerable to any of
them becoming unavailable.  Move as many as possible to Suggests and
use conditionally.
* checking if this is a source package ... OK
* checking if there is a namespace ... OK
* checking for hidden files and directories ... OK
* checking for portable file names ... OK
* checking for sufficient/correct file permissions ... OK
* checking whether package ‘CATALYST’ can be installed ... OK
* checking installed package size ... OK
* checking package directory ... OK
* checking ‘build’ directory ... OK
* checking DESCRIPTION meta-information ... OK
* checking top-level files ... OK
* checking for left-over files ... OK
* checking index information ... OK
* checking package subdirectories ... OK
* checking code files for non-ASCII characters ... OK
* checking R files for syntax errors ... OK
* checking whether the package can be loaded ... OK
* checking whether the package can be loaded with stated dependencies ... OK
* checking whether the package can be unloaded cleanly ... OK
* checking whether the namespace can be loaded with stated dependencies ... OK
* checking whether the namespace can be unloaded cleanly ... OK
* checking loading without being on the library search path ... OK
* checking dependencies in R code ... OK
* checking S3 generic/method consistency ... OK
* checking replacement functions ... OK
* checking foreign function calls ... OK
* checking R code for possible problems ... NOTE
plotExprs: no visible binding for global variable ‘ndensity’
Undefined global functions or variables:
  ndensity
* checking Rd files ... NOTE
checkRd: (-1) plotDiffHeatmap.Rd:87: Lost braces in \itemize; meant \describe ?
checkRd: (-1) plotDiffHeatmap.Rd:88: Lost braces in \itemize; meant \describe ?
* checking Rd metadata ... OK
* checking Rd cross-references ... NOTE
Found the following Rd file(s) with Rd \link{} targets missing package
anchors:
  SCE-accessors.Rd: SingleCellExperiment, FlowSOM, ConsensusClusterPlus
  cluster.Rd: ggplot
  compCytof.Rd: flowFrame
  data.Rd: flowSet, flowFrame
  plotClusterExprs.Rd: ggplot
  plotCounts.Rd: ggplot
  plotExprs.Rd: ggplot
  plotPbExprs.Rd: SingleCellExperiment
  prepData.Rd: read.FCS
Please provide package anchors for all Rd \link{} targets not in the
package itself and the base packages.
* checking for missing documentation entries ... OK
* checking for code/documentation mismatches ... OK
* checking Rd \usage sections ... OK
* checking Rd contents ... OK
* checking for unstated dependencies in examples ... OK
* checking contents of ‘data’ directory ... OK
* checking data for non-ASCII characters ... OK
* checking LazyData ... OK
* checking data for ASCII and uncompressed saves ... OK
* checking files in ‘vignettes’ ... OK
* checking examples ... OK
Examples with CPU (user + system) or elapsed time > 5s
                   user system elapsed
plotPbExprs      14.271  0.199  14.390
plotMultiHeatmap 12.022  0.034  11.992
plotDR           11.569  0.126  11.696
plotDiffHeatmap  10.567  0.113  10.670
sce2fcs           9.510  0.028   9.541
plotExprHeatmap   9.100  0.048   9.099
plotClusterExprs  7.600  0.032   7.626
mergeClusters     6.682  0.064   6.738
plotAbundances    6.534  0.064   6.599
clrDR             6.469  0.084   6.553
plotCodes         6.516  0.023   6.539
pbMDS             6.245  0.100   6.326
plotFreqHeatmap   6.004  0.008   6.012
SCE-accessors     5.725  0.183   5.909
plotMahal         5.382  0.022   5.404
runDR             5.024  0.004   5.028
* checking for unstated dependencies in ‘tests’ ... OK
* checking tests ...
  Running ‘testthat.R’
 OK
* checking for unstated dependencies in vignettes ... OK
* checking package vignettes ... OK
* checking re-building of vignette outputs ... OK
* checking PDF version of manual ... OK
* DONE

Status: 3 NOTEs
See
  ‘/home/biocbuild/bbs-3.22-bioc/meat/CATALYST.Rcheck/00check.log’
for details.


Installation output

CATALYST.Rcheck/00install.out

##############################################################################
##############################################################################
###
### Running command:
###
###   /home/biocbuild/bbs-3.22-bioc/R/bin/R CMD INSTALL CATALYST
###
##############################################################################
##############################################################################


* installing to library ‘/home/biocbuild/bbs-3.22-bioc/R/site-library’
* installing *source* package ‘CATALYST’ ...
** this is package ‘CATALYST’ version ‘1.33.1’
** using staged installation
** R
** data
*** moving datasets to lazyload DB
** inst
** byte-compile and prepare package for lazy loading
** help
*** installing help indices
** building package indices
** installing vignettes
** testing if installed package can be loaded from temporary location
** testing if installed package can be loaded from final location
** testing if installed package keeps a record of temporary installation path
* DONE (CATALYST)

Tests output

CATALYST.Rcheck/tests/testthat.Rout


R version 4.5.1 Patched (2025-08-23 r88802) -- "Great Square Root"
Copyright (C) 2025 The R Foundation for Statistical Computing
Platform: x86_64-pc-linux-gnu

R is free software and comes with ABSOLUTELY NO WARRANTY.
You are welcome to redistribute it under certain conditions.
Type 'license()' or 'licence()' for distribution details.

R is a collaborative project with many contributors.
Type 'contributors()' for more information and
'citation()' on how to cite R or R packages in publications.

Type 'demo()' for some demos, 'help()' for on-line help, or
'help.start()' for an HTML browser interface to help.
Type 'q()' to quit R.

> library(testthat)
> library(CATALYST)
Loading required package: SingleCellExperiment
Loading required package: SummarizedExperiment
Loading required package: MatrixGenerics
Loading required package: matrixStats

Attaching package: 'MatrixGenerics'

The following objects are masked from 'package:matrixStats':

    colAlls, colAnyNAs, colAnys, colAvgsPerRowSet, colCollapse,
    colCounts, colCummaxs, colCummins, colCumprods, colCumsums,
    colDiffs, colIQRDiffs, colIQRs, colLogSumExps, colMadDiffs,
    colMads, colMaxs, colMeans2, colMedians, colMins, colOrderStats,
    colProds, colQuantiles, colRanges, colRanks, colSdDiffs, colSds,
    colSums2, colTabulates, colVarDiffs, colVars, colWeightedMads,
    colWeightedMeans, colWeightedMedians, colWeightedSds,
    colWeightedVars, rowAlls, rowAnyNAs, rowAnys, rowAvgsPerColSet,
    rowCollapse, rowCounts, rowCummaxs, rowCummins, rowCumprods,
    rowCumsums, rowDiffs, rowIQRDiffs, rowIQRs, rowLogSumExps,
    rowMadDiffs, rowMads, rowMaxs, rowMeans2, rowMedians, rowMins,
    rowOrderStats, rowProds, rowQuantiles, rowRanges, rowRanks,
    rowSdDiffs, rowSds, rowSums2, rowTabulates, rowVarDiffs, rowVars,
    rowWeightedMads, rowWeightedMeans, rowWeightedMedians,
    rowWeightedSds, rowWeightedVars

Loading required package: GenomicRanges
Loading required package: stats4
Loading required package: BiocGenerics
Loading required package: generics

Attaching package: 'generics'

The following objects are masked from 'package:base':

    as.difftime, as.factor, as.ordered, intersect, is.element, setdiff,
    setequal, union


Attaching package: 'BiocGenerics'

The following objects are masked from 'package:stats':

    IQR, mad, sd, var, xtabs

The following objects are masked from 'package:base':

    Filter, Find, Map, Position, Reduce, anyDuplicated, aperm, append,
    as.data.frame, basename, cbind, colnames, dirname, do.call,
    duplicated, eval, evalq, get, grep, grepl, is.unsorted, lapply,
    mapply, match, mget, order, paste, pmax, pmax.int, pmin, pmin.int,
    rank, rbind, rownames, sapply, saveRDS, table, tapply, unique,
    unsplit, which.max, which.min

Loading required package: S4Vectors

Attaching package: 'S4Vectors'

The following object is masked from 'package:utils':

    findMatches

The following objects are masked from 'package:base':

    I, expand.grid, unname

Loading required package: IRanges
Loading required package: Seqinfo
Loading required package: Biobase
Welcome to Bioconductor

    Vignettes contain introductory material; view with
    'browseVignettes()'. To cite Bioconductor, see
    'citation("Biobase")', and for packages 'citation("pkgname")'.


Attaching package: 'Biobase'

The following object is masked from 'package:MatrixGenerics':

    rowMedians

The following objects are masked from 'package:matrixStats':

    anyMissing, rowMedians

> 
> test_check("CATALYST")
[ FAIL 0 | WARN 0 | SKIP 0 | PASS 746 ]
> 
> proc.time()
   user  system elapsed 
160.452   3.094 162.929 

Example timings

CATALYST.Rcheck/CATALYST-Ex.timings

nameusersystemelapsed
SCE-accessors5.7250.1835.909
adaptSpillmat3.3060.0633.369
applyCutoffs2.6890.1122.801
assignPrelim1.4040.0201.424
clrDR6.4690.0846.553
cluster4.7330.1264.859
compCytof4.6550.0284.684
computeSpillmat3.7500.0143.763
data0.0060.0010.006
estCutoffs3.3370.0333.369
extractClusters4.5770.0534.630
filterSCE4.7850.0044.789
guessPanel0.0200.0010.020
mergeClusters6.6820.0646.738
normCytof2.3380.0372.375
pbMDS6.2450.1006.326
plotAbundances6.5340.0646.599
plotClusterExprs7.6000.0327.626
plotCodes6.5160.0236.539
plotCounts1.3510.0131.364
plotDR11.569 0.12611.696
plotDiffHeatmap10.567 0.11310.670
plotEvents1.8420.0231.866
plotExprHeatmap9.1000.0489.099
plotExprs3.8470.0343.882
plotFreqHeatmap6.0040.0086.012
plotMahal5.3820.0225.404
plotMultiHeatmap12.022 0.03411.992
plotNRS1.5040.0061.510
plotPbExprs14.271 0.19914.390
plotScatter4.2880.0194.307
plotSpillmat3.7980.0443.841
plotYields3.7710.0453.816
prepData1.3160.0141.330
runDR5.0240.0045.028
sce2fcs9.5100.0289.541