Back to Multiple platform build/check report for BioC 3.22:   simplified   long
ABCDEFGHIJKLMNOPQR[S]TUVWXYZ

This page was generated on 2025-11-01 12:02 -0400 (Sat, 01 Nov 2025).

HostnameOSArch (*)R versionInstalled pkgs
nebbiolo2Linux (Ubuntu 24.04.3 LTS)x86_644.5.1 Patched (2025-08-23 r88802) -- "Great Square Root" 4901
lconwaymacOS 12.7.6 Montereyx86_644.5.1 Patched (2025-09-10 r88807) -- "Great Square Root" 4691
kjohnson3macOS 13.7.7 Venturaarm644.5.1 Patched (2025-09-10 r88807) -- "Great Square Root" 4637
Click on any hostname to see more info about the system (e.g. compilers)      (*) as reported by 'uname -p', except on Windows and Mac OS X

All results for package Seqinfo


To the developers/maintainers of the Seqinfo package:
- Allow up to 24 hours (and sometimes 48 hours) for your latest push to git@git.bioconductor.org:packages/Seqinfo.git to reflect on this report. See Troubleshooting Build Report for more information.
- Use the following Renviron settings to reproduce errors and warnings.
- If 'R CMD check' started to fail recently on the Linux builder(s) over a missing dependency, add the missing dependency to 'Suggests:' in your DESCRIPTION file. See Renviron.bioc for more information.

raw results

Package 1984/2361HostnameOS / ArchINSTALLBUILDCHECKBUILD BIN
Seqinfo 1.0.0  (landing page)
Hervé Pagès
Snapshot Date: 2025-10-31 13:45 -0400 (Fri, 31 Oct 2025)
git_url: https://git.bioconductor.org/packages/Seqinfo
git_branch: RELEASE_3_22
git_last_commit: 9fc5a61
git_last_commit_date: 2025-10-29 12:48:15 -0400 (Wed, 29 Oct 2025)
nebbiolo2Linux (Ubuntu 24.04.3 LTS) / x86_64  OK    OK    OK  UNNEEDED, same version is already published
lconwaymacOS 12.7.6 Monterey / x86_64  OK    OK    OK    OK  UNNEEDED, same version is already published
kjohnson3macOS 13.7.7 Ventura / arm64  OK    OK    OK    OK  UNNEEDED, same version is already published



Results for Bioconductor software packages that depend directly on package Seqinfo

QUICK STATSOS / ArchINSTALLBUILDCHECKBUILD BIN
nebbiolo2Linux (Ubuntu 24.04.3 LTS) / x86_64
02223
011214
0932173
lconwaymacOS 12.7.6 Monterey / x86_64
03222
015210
0631173
00210
kjohnson3macOS 13.7.7 Ventura / arm64
04221
117207
0931167
00207
Package 1/225HostnameOS / ArchINSTALLBUILDCHECKBUILD BIN
alabaster.ranges 1.10.0  (landing page)
Aaron Lun
git_last_commit: e35375b
git_last_commit_date: 2025-10-29 11:21:11 -0400
nebbiolo2Linux (Ubuntu 24.04.3 LTS) / x86_64  OK    OK    OK  UNNEEDED, same version is already published
lconwaymacOS 12.7.6 Monterey / x86_64  OK    OK    OK    OK  UNNEEDED, same version is already published
kjohnson3macOS 13.7.7 Ventura / arm64  OK    OK    OK    OK  UNNEEDED, same version is already published
Package 2/225HostnameOS / ArchINSTALLBUILDCHECKBUILD BIN
amplican 1.32.0  (landing page)
Eivind Valen
git_last_commit: 631c17a
git_last_commit_date: 2025-10-29 10:40:44 -0400
nebbiolo2Linux (Ubuntu 24.04.3 LTS) / x86_64  ERROR    ERROR  skipped
lconwaymacOS 12.7.6 Monterey / x86_64  ERROR    ERROR  skippedskipped
kjohnson3macOS 13.7.7 Ventura / arm64  ERROR    ERROR  skippedskipped
Package 3/225HostnameOS / ArchINSTALLBUILDCHECKBUILD BIN
AnnotationHubData 1.40.0  (landing page)
Bioconductor Package Maintainer
git_last_commit: 077effd
git_last_commit_date: 2025-10-29 10:27:35 -0400
nebbiolo2Linux (Ubuntu 24.04.3 LTS) / x86_64  OK    OK    WARNINGS  UNNEEDED, same version is already published
lconwaymacOS 12.7.6 Monterey / x86_64  OK    OK    WARNINGS    OK  UNNEEDED, same version is already published
kjohnson3macOS 13.7.7 Ventura / arm64  OK    OK    WARNINGS    OK  UNNEEDED, same version is already published
Package 4/225HostnameOS / ArchINSTALLBUILDCHECKBUILD BIN
annotatr 1.36.0  (landing page)
Raymond G. Cavalcante
git_last_commit: 6850c77
git_last_commit_date: 2025-10-29 10:35:13 -0400
nebbiolo2Linux (Ubuntu 24.04.3 LTS) / x86_64  OK    OK    OK  UNNEEDED, same version is already published
lconwaymacOS 12.7.6 Monterey / x86_64  OK    OK    OK    OK  UNNEEDED, same version is already published
kjohnson3macOS 13.7.7 Ventura / arm64  OK    OK    OK    OK  UNNEEDED, same version is already published
Package 5/225HostnameOS / ArchINSTALLBUILDCHECKBUILD BIN
ATACseqTFEA 1.12.0  (landing page)
Jianhong Ou
git_last_commit: 77ec3ae
git_last_commit_date: 2025-10-29 11:18:13 -0400
nebbiolo2Linux (Ubuntu 24.04.3 LTS) / x86_64  OK    OK    OK  UNNEEDED, same version is already published
lconwaymacOS 12.7.6 Monterey / x86_64  OK    OK    OK    OK  UNNEEDED, same version is already published
kjohnson3macOS 13.7.7 Ventura / arm64  OK    OK    OK    OK  UNNEEDED, same version is already published
Package 6/225HostnameOS / ArchINSTALLBUILDCHECKBUILD BIN
atena 1.16.0  (landing page)
Robert Castelo
git_last_commit: 93211ad
git_last_commit_date: 2025-10-29 11:12:14 -0400
nebbiolo2Linux (Ubuntu 24.04.3 LTS) / x86_64  OK    OK    OK  UNNEEDED, same version is already published
lconwaymacOS 12.7.6 Monterey / x86_64  OK    OK    OK    OK  UNNEEDED, same version is already published
kjohnson3macOS 13.7.7 Ventura / arm64  OK    OK    OK    OK  UNNEEDED, same version is already published
Package 7/225HostnameOS / ArchINSTALLBUILDCHECKBUILD BIN
ballgown 2.42.0  (landing page)
Jack Fu
git_last_commit: f1b4171
git_last_commit_date: 2025-10-29 10:20:34 -0400
nebbiolo2Linux (Ubuntu 24.04.3 LTS) / x86_64  OK    OK    OK  UNNEEDED, same version is already published
lconwaymacOS 12.7.6 Monterey / x86_64  OK    OK    OK    OK  UNNEEDED, same version is already published
kjohnson3macOS 13.7.7 Ventura / arm64  OK    OK    OK    OK  UNNEEDED, same version is already published
Package 8/225HostnameOS / ArchINSTALLBUILDCHECKBUILD BIN
BasicSTARRseq 1.38.0  (landing page)
Annika Buerger
git_last_commit: e00f13d
git_last_commit_date: 2025-10-29 10:29:46 -0400
nebbiolo2Linux (Ubuntu 24.04.3 LTS) / x86_64  OK    OK    OK  UNNEEDED, same version is already published
lconwaymacOS 12.7.6 Monterey / x86_64  OK    OK    OK    OK  UNNEEDED, same version is already published
kjohnson3macOS 13.7.7 Ventura / arm64  OK    OK    OK    OK  UNNEEDED, same version is already published
Package 9/225HostnameOS / ArchINSTALLBUILDCHECKBUILD BIN
Bioc.gff 1.0.0  (landing page)
Bioconductor Package Maintainer
git_last_commit: 5bbebde
git_last_commit_date: 2025-10-29 11:37:35 -0400
nebbiolo2Linux (Ubuntu 24.04.3 LTS) / x86_64  OK    OK    OK  UNNEEDED, same version is already published
lconwaymacOS 12.7.6 Monterey / x86_64  OK    OK    OK    OK  UNNEEDED, same version is already published
kjohnson3macOS 13.7.7 Ventura / arm64  OK    OK    OK    OK  UNNEEDED, same version is already published
Package 10/225HostnameOS / ArchINSTALLBUILDCHECKBUILD BIN
Biostrings 2.78.0  (landing page)
Hervé Pagès
git_last_commit: eda5d66
git_last_commit_date: 2025-10-29 13:43:31 -0400
nebbiolo2Linux (Ubuntu 24.04.3 LTS) / x86_64  OK    OK    WARNINGS  UNNEEDED, same version is already published
lconwaymacOS 12.7.6 Monterey / x86_64  OK    OK    WARNINGS    OK  UNNEEDED, same version is already published
kjohnson3macOS 13.7.7 Ventura / arm64  OK    OK    WARNINGS    OK  UNNEEDED, same version is already published
Package 11/225HostnameOS / ArchINSTALLBUILDCHECKBUILD BIN
biovizBase 1.58.0  (landing page)
Michael Lawrence
git_last_commit: 1f6087b
git_last_commit_date: 2025-10-29 10:09:04 -0400
nebbiolo2Linux (Ubuntu 24.04.3 LTS) / x86_64  OK    OK    WARNINGS  UNNEEDED, same version is already published
lconwaymacOS 12.7.6 Monterey / x86_64  OK    OK    WARNINGS    OK  UNNEEDED, same version is already published
kjohnson3macOS 13.7.7 Ventura / arm64  OK    OK    WARNINGS    OK  UNNEEDED, same version is already published
Package 12/225HostnameOS / ArchINSTALLBUILDCHECKBUILD BIN
BiSeq 1.50.0  (landing page)
Katja Hebestreit
git_last_commit: 626afbf
git_last_commit_date: 2025-10-29 10:14:44 -0400
nebbiolo2Linux (Ubuntu 24.04.3 LTS) / x86_64  OK    OK    OK  UNNEEDED, same version is already published
lconwaymacOS 12.7.6 Monterey / x86_64  OK    OK    OK    OK  UNNEEDED, same version is already published
kjohnson3macOS 13.7.7 Ventura / arm64  OK    OK    OK    OK  UNNEEDED, same version is already published
Package 13/225HostnameOS / ArchINSTALLBUILDCHECKBUILD BIN
bnbc 1.32.0  (landing page)
Kipper Fletez-Brant
git_last_commit: b9c6b77
git_last_commit_date: 2025-10-29 10:41:29 -0400
nebbiolo2Linux (Ubuntu 24.04.3 LTS) / x86_64  OK    OK    OK  UNNEEDED, same version is already published
lconwaymacOS 12.7.6 Monterey / x86_64  OK    OK    OK    OK  UNNEEDED, same version is already published
kjohnson3macOS 13.7.7 Ventura / arm64  OK    OK    OK    OK  UNNEEDED, same version is already published
Package 14/225HostnameOS / ArchINSTALLBUILDCHECKBUILD BIN
branchpointer 1.36.0  (landing page)
Beth Signal
git_last_commit: 897a60c
git_last_commit_date: 2025-10-29 10:37:20 -0400
nebbiolo2Linux (Ubuntu 24.04.3 LTS) / x86_64  OK    ERROR  skipped
lconwaymacOS 12.7.6 Monterey / x86_64  OK    ERROR  skippedskipped
kjohnson3macOS 13.7.7 Ventura / arm64  OK    ERROR  skippedskipped
Package 15/225HostnameOS / ArchINSTALLBUILDCHECKBUILD BIN
BSgenome 1.78.0  (landing page)
Hervé Pagès
git_last_commit: 8f40a31
git_last_commit_date: 2025-10-29 14:19:23 -0400
nebbiolo2Linux (Ubuntu 24.04.3 LTS) / x86_64  OK    OK    WARNINGS  UNNEEDED, same version is already published
lconwaymacOS 12.7.6 Monterey / x86_64  OK    OK    WARNINGS    OK  UNNEEDED, same version is already published
kjohnson3macOS 13.7.7 Ventura / arm64  OK    OK    WARNINGS    OK  UNNEEDED, same version is already published
Package 16/225HostnameOS / ArchINSTALLBUILDCHECKBUILD BIN
BSgenomeForge 1.10.0  (landing page)
Hervé Pagès
git_last_commit: 5634fdd
git_last_commit_date: 2025-10-29 14:23:53 -0400
nebbiolo2Linux (Ubuntu 24.04.3 LTS) / x86_64  OK    OK    OK  UNNEEDED, same version is already published
lconwaymacOS 12.7.6 Monterey / x86_64  OK    OK    OK    OK  UNNEEDED, same version is already published
kjohnson3macOS 13.7.7 Ventura / arm64  OK    OK    OK    OK  UNNEEDED, same version is already published
Package 17/225HostnameOS / ArchINSTALLBUILDCHECKBUILD BIN
bsseq 1.46.0  (landing page)
Kasper Daniel Hansen
git_last_commit: ea21812
git_last_commit_date: 2025-10-29 10:11:31 -0400
nebbiolo2Linux (Ubuntu 24.04.3 LTS) / x86_64  OK    OK    OK  UNNEEDED, same version is already published
lconwaymacOS 12.7.6 Monterey / x86_64  OK    OK    OK    OK  UNNEEDED, same version is already published
kjohnson3macOS 13.7.7 Ventura / arm64  OK    OK    OK    OK  UNNEEDED, same version is already published
Package 18/225HostnameOS / ArchINSTALLBUILDCHECKBUILD BIN
bumphunter 1.52.0  (landing page)
Tamilselvi Guharaj
git_last_commit: 2f99897
git_last_commit_date: 2025-10-29 10:13:01 -0400
nebbiolo2Linux (Ubuntu 24.04.3 LTS) / x86_64  OK    OK    OK  UNNEEDED, same version is already published
lconwaymacOS 12.7.6 Monterey / x86_64  OK    OK    OK    OK  UNNEEDED, same version is already published
kjohnson3macOS 13.7.7 Ventura / arm64  OK    OK    OK    OK  UNNEEDED, same version is already published
Package 19/225HostnameOS / ArchINSTALLBUILDCHECKBUILD BIN
CAGEfightR 1.30.0  (landing page)
Malte Thodberg
git_last_commit: eda75c3
git_last_commit_date: 2025-10-29 10:45:17 -0400
nebbiolo2Linux (Ubuntu 24.04.3 LTS) / x86_64  OK    OK    OK  UNNEEDED, same version is already published
lconwaymacOS 12.7.6 Monterey / x86_64  OK    OK    OK    OK  UNNEEDED, same version is already published
kjohnson3macOS 13.7.7 Ventura / arm64  OK    OK    OK    OK  UNNEEDED, same version is already published
Package 20/225HostnameOS / ArchINSTALLBUILDCHECKBUILD BIN
CAGEr 2.16.0  (landing page)
Charles Plessy
git_last_commit: b717389
git_last_commit_date: 2025-10-29 10:13:45 -0400
nebbiolo2Linux (Ubuntu 24.04.3 LTS) / x86_64  OK    OK    OK  UNNEEDED, same version is already published
lconwaymacOS 12.7.6 Monterey / x86_64  OK    OK    OK    OK  UNNEEDED, same version is already published
kjohnson3macOS 13.7.7 Ventura / arm64  OK    OK    OK    OK  UNNEEDED, same version is already published
Package 21/225HostnameOS / ArchINSTALLBUILDCHECKBUILD BIN
casper 2.44.0  (landing page)
David Rossell
git_last_commit: 9f5a6ac
git_last_commit_date: 2025-10-29 10:13:21 -0400
nebbiolo2Linux (Ubuntu 24.04.3 LTS) / x86_64  OK    OK    WARNINGS  UNNEEDED, same version is already published
lconwaymacOS 12.7.6 Monterey / x86_64  OK    ERROR  skippedskipped
kjohnson3macOS 13.7.7 Ventura / arm64  OK    ERROR  skippedskipped
Package 22/225HostnameOS / ArchINSTALLBUILDCHECKBUILD BIN
cBioPortalData 2.22.0  (landing page)
Marcel Ramos
git_last_commit: 64fff17
git_last_commit_date: 2025-10-29 10:59:37 -0400
nebbiolo2Linux (Ubuntu 24.04.3 LTS) / x86_64  OK    ERROR  skipped
lconwaymacOS 12.7.6 Monterey / x86_64  OK    ERROR  skippedskipped
kjohnson3macOS 13.7.7 Ventura / arm64  OK    ERROR  skippedskipped
Package 23/225HostnameOS / ArchINSTALLBUILDCHECKBUILD BIN
CexoR 1.48.0  (landing page)
Pedro Madrigal
git_last_commit: 2ba0990
git_last_commit_date: 2025-10-29 11:12:38 -0400
nebbiolo2Linux (Ubuntu 24.04.3 LTS) / x86_64  OK    OK    OK  UNNEEDED, same version is already published
lconwaymacOS 12.7.6 Monterey / x86_64  OK    OK    OK    OK  UNNEEDED, same version is already published
kjohnson3macOS 13.7.7 Ventura / arm64  OK    OK    OK    OK  UNNEEDED, same version is already published
Package 24/225HostnameOS / ArchINSTALLBUILDCHECKBUILD BIN
ChIPComp 1.40.0  (landing page)
Li Chen
git_last_commit: 0b95bdf
git_last_commit_date: 2025-10-29 10:27:22 -0400
nebbiolo2Linux (Ubuntu 24.04.3 LTS) / x86_64  OK    OK    OK  UNNEEDED, same version is already published
lconwaymacOS 12.7.6 Monterey / x86_64  OK    OK    OK    OK  UNNEEDED, same version is already published
kjohnson3macOS 13.7.7 Ventura / arm64  OK    OK    OK    OK  UNNEEDED, same version is already published
Package 25/225HostnameOS / ArchINSTALLBUILDCHECKBUILD BIN
chipenrich 2.34.0  (landing page)
Kai Wang
git_last_commit: a610787
git_last_commit_date: 2025-10-29 10:16:16 -0400
nebbiolo2Linux (Ubuntu 24.04.3 LTS) / x86_64  OK    OK    OK  UNNEEDED, same version is already published
lconwaymacOS 12.7.6 Monterey / x86_64  OK    OK    OK    OK  UNNEEDED, same version is already published
kjohnson3macOS 13.7.7 Ventura / arm64  OK    OK    OK    OK  UNNEEDED, same version is already published
Package 26/225HostnameOS / ArchINSTALLBUILDCHECKBUILD BIN
ChIPexoQual 1.34.0  (landing page)
Rene Welch
git_last_commit: fb0fa9b
git_last_commit_date: 2025-10-29 10:36:27 -0400
nebbiolo2Linux (Ubuntu 24.04.3 LTS) / x86_64  OK    OK    OK  UNNEEDED, same version is already published
lconwaymacOS 12.7.6 Monterey / x86_64  OK    OK    OK    OK  UNNEEDED, same version is already published
kjohnson3macOS 13.7.7 Ventura / arm64  OK    OK    OK    OK  UNNEEDED, same version is already published
Package 27/225HostnameOS / ArchINSTALLBUILDCHECKBUILD BIN
chromVAR 1.32.0  (landing page)
Alicia Schep
git_last_commit: c67de98
git_last_commit_date: 2025-10-29 10:41:16 -0400
nebbiolo2Linux (Ubuntu 24.04.3 LTS) / x86_64  OK    OK    OK  UNNEEDED, same version is already published
lconwaymacOS 12.7.6 Monterey / x86_64  OK    OK    OK    OK  UNNEEDED, same version is already published
kjohnson3macOS 13.7.7 Ventura / arm64  OK    OK    OK    OK  UNNEEDED, same version is already published
Package 28/225HostnameOS / ArchINSTALLBUILDCHECKBUILD BIN
CINdex 1.38.0  (landing page)
Yuriy Gusev
git_last_commit: 98fc64f
git_last_commit_date: 2025-10-29 10:31:17 -0400
nebbiolo2Linux (Ubuntu 24.04.3 LTS) / x86_64  OK    OK    ERROR  
lconwaymacOS 12.7.6 Monterey / x86_64  OK    OK    WARNINGS    OK  UNNEEDED, same version is already published
kjohnson3macOS 13.7.7 Ventura / arm64  OK    OK    WARNINGS    OK  UNNEEDED, same version is already published
Package 29/225HostnameOS / ArchINSTALLBUILDCHECKBUILD BIN
cleanUpdTSeq 1.48.0  (landing page)
Jianhong Ou ; Lihua Julie Zhu
git_last_commit: 4565da2
git_last_commit_date: 2025-10-29 10:15:28 -0400
nebbiolo2Linux (Ubuntu 24.04.3 LTS) / x86_64  OK    OK    OK  UNNEEDED, same version is already published
lconwaymacOS 12.7.6 Monterey / x86_64  OK    OK    OK    OK  UNNEEDED, same version is already published
kjohnson3macOS 13.7.7 Ventura / arm64  OK    OK    OK    OK  UNNEEDED, same version is already published
Package 30/225HostnameOS / ArchINSTALLBUILDCHECKBUILD BIN
CleanUpRNAseq 1.4.0  (landing page)
Haibo Liu
git_last_commit: 3ccdf23
git_last_commit_date: 2025-10-29 11:31:19 -0400
nebbiolo2Linux (Ubuntu 24.04.3 LTS) / x86_64  OK    OK    OK  UNNEEDED, same version is already published
lconwaymacOS 12.7.6 Monterey / x86_64  OK    OK    OK    OK  UNNEEDED, same version is already published
kjohnson3macOS 13.7.7 Ventura / arm64  OK    OK    OK    OK  UNNEEDED, same version is already published
Package 31/225HostnameOS / ArchINSTALLBUILDCHECKBUILD BIN
cn.mops 1.56.0  (landing page)
Gundula Povysil
git_last_commit: 7e51624
git_last_commit_date: 2025-10-29 10:09:41 -0400
nebbiolo2Linux (Ubuntu 24.04.3 LTS) / x86_64  OK    OK    OK  UNNEEDED, same version is already published
lconwaymacOS 12.7.6 Monterey / x86_64  OK    OK    OK    OK  UNNEEDED, same version is already published
kjohnson3macOS 13.7.7 Ventura / arm64  OK    OK    OK    OK  UNNEEDED, same version is already published
Package 32/225HostnameOS / ArchINSTALLBUILDCHECKBUILD BIN
CNEr 1.46.0  (landing page)
Boris Lenhard Damir Baranasic
git_last_commit: a5d64f4
git_last_commit_date: 2025-10-29 10:18:00 -0400
nebbiolo2Linux (Ubuntu 24.04.3 LTS) / x86_64  OK    OK    WARNINGS  UNNEEDED, same version is already published
lconwaymacOS 12.7.6 Monterey / x86_64  OK    OK    WARNINGS    OK  UNNEEDED, same version is already published
kjohnson3macOS 13.7.7 Ventura / arm64  OK    OK    ERROR    OK  
Package 33/225HostnameOS / ArchINSTALLBUILDCHECKBUILD BIN
Cogito 1.16.0  (landing page)
Annika Bürger
git_last_commit: 2320bbf
git_last_commit_date: 2025-10-29 11:13:02 -0400
nebbiolo2Linux (Ubuntu 24.04.3 LTS) / x86_64  OK    OK    OK  UNNEEDED, same version is already published
lconwaymacOS 12.7.6 Monterey / x86_64  OK    OK    OK    OK  UNNEEDED, same version is already published
kjohnson3macOS 13.7.7 Ventura / arm64  OK    OK    OK    OK  UNNEEDED, same version is already published
Package 34/225HostnameOS / ArchINSTALLBUILDCHECKBUILD BIN
compEpiTools 1.44.0  (landing page)
Mattia Furlan
git_last_commit: 75ae4a8
git_last_commit_date: 2025-10-29 10:20:59 -0400
nebbiolo2Linux (Ubuntu 24.04.3 LTS) / x86_64  OK    OK    OK  UNNEEDED, same version is already published
lconwaymacOS 12.7.6 Monterey / x86_64  OK    OK    OK    OK  UNNEEDED, same version is already published
kjohnson3macOS 13.7.7 Ventura / arm64  OK    OK    OK    OK  UNNEEDED, same version is already published
Package 35/225HostnameOS / ArchINSTALLBUILDCHECKBUILD BIN
consensusSeekeR 1.38.0  (landing page)
Astrid Deschênes
git_last_commit: 0f072df
git_last_commit_date: 2025-10-29 10:28:45 -0400
nebbiolo2Linux (Ubuntu 24.04.3 LTS) / x86_64  OK    OK    OK  UNNEEDED, same version is already published
lconwaymacOS 12.7.6 Monterey / x86_64  OK    OK    OK    OK  UNNEEDED, same version is already published
kjohnson3macOS 13.7.7 Ventura / arm64  OK    OK    OK    OK  UNNEEDED, same version is already published
Package 36/225HostnameOS / ArchINSTALLBUILDCHECKBUILD BIN
conumee 1.44.0  (landing page)
Volker Hovestadt
git_last_commit: 9d7891e
git_last_commit_date: 2025-10-29 10:25:31 -0400
nebbiolo2Linux (Ubuntu 24.04.3 LTS) / x86_64  OK    OK    OK  UNNEEDED, same version is already published
lconwaymacOS 12.7.6 Monterey / x86_64  OK    OK    OK    OK  UNNEEDED, same version is already published
kjohnson3macOS 13.7.7 Ventura / arm64  OK    OK    OK    OK  UNNEEDED, same version is already published
Package 37/225HostnameOS / ArchINSTALLBUILDCHECKBUILD BIN
crisprBowtie 1.14.0  (landing page)
Jean-Philippe Fortin
git_last_commit: 4840230
git_last_commit_date: 2025-10-29 11:15:03 -0400
nebbiolo2Linux (Ubuntu 24.04.3 LTS) / x86_64  OK    OK    OK  UNNEEDED, same version is already published
lconwaymacOS 12.7.6 Monterey / x86_64  OK    OK    OK    OK  UNNEEDED, same version is already published
kjohnson3macOS 13.7.7 Ventura / arm64  OK    OK    OK    OK  UNNEEDED, same version is already published
Package 38/225HostnameOS / ArchINSTALLBUILDCHECKBUILD BIN
crisprBwa 1.14.0  (landing page)
Jean-Philippe Fortin
git_last_commit: 4aa579f
git_last_commit_date: 2025-10-29 11:16:38 -0400
nebbiolo2Linux (Ubuntu 24.04.3 LTS) / x86_64  OK    OK    OK  UNNEEDED, same version is already published
lconwaymacOS 12.7.6 Monterey / x86_64  OK    OK    OK    OK  UNNEEDED, same version is already published
kjohnson3macOS 13.7.7 Ventura / arm64  OK    OK    OK    OK  UNNEEDED, same version is already published
Package 39/225HostnameOS / ArchINSTALLBUILDCHECKBUILD BIN
crisprDesign 1.12.0  (landing page)
Jean-Philippe Fortin
git_last_commit: 143c0ce
git_last_commit_date: 2025-10-29 11:17:54 -0400
nebbiolo2Linux (Ubuntu 24.04.3 LTS) / x86_64  OK    OK    OK  UNNEEDED, same version is already published
lconwaymacOS 12.7.6 Monterey / x86_64  OK    OK    OK    OK  UNNEEDED, same version is already published
kjohnson3macOS 13.7.7 Ventura / arm64  OK    OK    OK    OK  UNNEEDED, same version is already published
Package 40/225HostnameOS / ArchINSTALLBUILDCHECKBUILD BIN
CRISPRseek 1.50.0  (landing page)
Lihua Julie Zhu
git_last_commit: fd2babc
git_last_commit_date: 2025-10-29 10:17:22 -0400
nebbiolo2Linux (Ubuntu 24.04.3 LTS) / x86_64  OK    OK    OK  UNNEEDED, same version is already published
lconwaymacOS 12.7.6 Monterey / x86_64  OK    OK    OK    OK  UNNEEDED, same version is already published
kjohnson3macOS 13.7.7 Ventura / arm64  OK    OK    OK    OK  UNNEEDED, same version is already published
Package 41/225HostnameOS / ArchINSTALLBUILDCHECKBUILD BIN
crisprShiny 1.6.0  (landing page)
Jean-Philippe Fortin
git_last_commit: 00fd6fe
git_last_commit_date: 2025-10-29 11:28:01 -0400
nebbiolo2Linux (Ubuntu 24.04.3 LTS) / x86_64  OK    OK    OK  UNNEEDED, same version is already published
lconwaymacOS 12.7.6 Monterey / x86_64  OK    OK    OK    OK  UNNEEDED, same version is already published
kjohnson3macOS 13.7.7 Ventura / arm64  OK    OK    OK    OK  UNNEEDED, same version is already published
Package 42/225HostnameOS / ArchINSTALLBUILDCHECKBUILD BIN
crisprViz 1.12.0  (landing page)
Jean-Philippe Fortin
git_last_commit: 3153352
git_last_commit_date: 2025-10-29 11:18:46 -0400
nebbiolo2Linux (Ubuntu 24.04.3 LTS) / x86_64  OK    OK    OK  UNNEEDED, same version is already published
lconwaymacOS 12.7.6 Monterey / x86_64  OK    OK    OK    OK  UNNEEDED, same version is already published
kjohnson3macOS 13.7.7 Ventura / arm64  OK    OK    OK    OK  UNNEEDED, same version is already published
Package 43/225HostnameOS / ArchINSTALLBUILDCHECKBUILD BIN
crupR 1.2.0  (landing page)
Persia Akbari Omgba
git_last_commit: 01667b7
git_last_commit_date: 2025-10-29 11:36:29 -0400
nebbiolo2Linux (Ubuntu 24.04.3 LTS) / x86_64  OK    OK    OK  UNNEEDED, same version is already published
lconwaymacOS 12.7.6 Monterey / x86_64  OK    OK    OK    OK  UNNEEDED, same version is already published
kjohnson3macOS 13.7.7 Ventura / arm64  OK    OK    OK    OK  UNNEEDED, same version is already published
Package 44/225HostnameOS / ArchINSTALLBUILDCHECKBUILD BIN
CSAR 1.62.0  (landing page)
Jose M Muino
git_last_commit: cb0f7e2
git_last_commit_date: 2025-10-29 10:04:05 -0400
nebbiolo2Linux (Ubuntu 24.04.3 LTS) / x86_64  OK    OK    OK  UNNEEDED, same version is already published
lconwaymacOS 12.7.6 Monterey / x86_64  OK    OK    OK    OK  UNNEEDED, same version is already published
kjohnson3macOS 13.7.7 Ventura / arm64  OK    OK    OK    OK  UNNEEDED, same version is already published
Package 45/225HostnameOS / ArchINSTALLBUILDCHECKBUILD BIN
csaw 1.44.0  (landing page)
Aaron Lun
git_last_commit: 592497a
git_last_commit_date: 2025-10-29 10:22:21 -0400
nebbiolo2Linux (Ubuntu 24.04.3 LTS) / x86_64  OK    OK    OK  UNNEEDED, same version is already published
lconwaymacOS 12.7.6 Monterey / x86_64  OK    OK    OK    OK  UNNEEDED, same version is already published
kjohnson3macOS 13.7.7 Ventura / arm64  OK    OK    WARNINGS    OK  UNNEEDED, same version is already published
Package 46/225HostnameOS / ArchINSTALLBUILDCHECKBUILD BIN
DAMEfinder 1.22.0  (landing page)
Stephany Orjuela
git_last_commit: a1490db
git_last_commit_date: 2025-10-29 10:56:31 -0400
nebbiolo2Linux (Ubuntu 24.04.3 LTS) / x86_64  OK    OK    OK  UNNEEDED, same version is already published
lconwaymacOS 12.7.6 Monterey / x86_64  OK    OK    OK    OK  UNNEEDED, same version is already published
kjohnson3macOS 13.7.7 Ventura / arm64  OK    OK    OK    OK  UNNEEDED, same version is already published
Package 47/225HostnameOS / ArchINSTALLBUILDCHECKBUILD BIN
decompTumor2Sig 2.26.0  (landing page)
Rosario M. Piro
git_last_commit: 1228e7c
git_last_commit_date: 2025-10-29 10:49:06 -0400
nebbiolo2Linux (Ubuntu 24.04.3 LTS) / x86_64  OK    OK    OK  UNNEEDED, same version is already published
lconwaymacOS 12.7.6 Monterey / x86_64  OK    OK    OK    OK  UNNEEDED, same version is already published
kjohnson3macOS 13.7.7 Ventura / arm64  OK    TIMEOUT  skippedskipped
Package 48/225HostnameOS / ArchINSTALLBUILDCHECKBUILD BIN
DegCre 1.6.0  (landing page)
Brian S. Roberts
git_last_commit: b521002
git_last_commit_date: 2025-10-29 11:28:34 -0400
nebbiolo2Linux (Ubuntu 24.04.3 LTS) / x86_64  OK    OK    OK  UNNEEDED, same version is already published
lconwaymacOS 12.7.6 Monterey / x86_64  OK    OK    OK    OK  UNNEEDED, same version is already published
kjohnson3macOS 13.7.7 Ventura / arm64  OK    OK    OK    OK  UNNEEDED, same version is already published
Package 49/225HostnameOS / ArchINSTALLBUILDCHECKBUILD BIN
demuxSNP 1.8.0  (landing page)
Michael Lynch
git_last_commit: 0c933a4
git_last_commit_date: 2025-10-29 11:23:27 -0400
nebbiolo2Linux (Ubuntu 24.04.3 LTS) / x86_64  OK    OK    OK  UNNEEDED, same version is already published
lconwaymacOS 12.7.6 Monterey / x86_64  OK    OK    OK    OK  UNNEEDED, same version is already published
kjohnson3macOS 13.7.7 Ventura / arm64  OK    OK    OK    OK  UNNEEDED, same version is already published
Package 50/225HostnameOS / ArchINSTALLBUILDCHECKBUILD BIN
derfinder 1.44.0  (landing page)
Leonardo Collado-Torres
git_last_commit: 7fd222b
git_last_commit_date: 2025-10-29 10:21:48 -0400
nebbiolo2Linux (Ubuntu 24.04.3 LTS) / x86_64  OK    OK    OK  UNNEEDED, same version is already published
lconwaymacOS 12.7.6 Monterey / x86_64  OK    OK    OK    OK  UNNEEDED, same version is already published
kjohnson3macOS 13.7.7 Ventura / arm64  OK    OK    OK    OK  UNNEEDED, same version is already published
Package 51/225HostnameOS / ArchINSTALLBUILDCHECKBUILD BIN
derfinderPlot 1.44.0  (landing page)
Leonardo Collado-Torres
git_last_commit: 84ed2cb
git_last_commit_date: 2025-10-29 10:21:51 -0400
nebbiolo2Linux (Ubuntu 24.04.3 LTS) / x86_64  OK    OK    OK  UNNEEDED, same version is already published
lconwaymacOS 12.7.6 Monterey / x86_64  OK    OK    OK    OK  UNNEEDED, same version is already published
kjohnson3macOS 13.7.7 Ventura / arm64  OK    OK    OK    OK  UNNEEDED, same version is already published
Package 52/225HostnameOS / ArchINSTALLBUILDCHECKBUILD BIN
DEScan2 1.30.0  (landing page)
Dario Righelli
git_last_commit: 5e4b7c2
git_last_commit_date: 2025-10-29 10:43:47 -0400
nebbiolo2Linux (Ubuntu 24.04.3 LTS) / x86_64  OK    OK    OK  UNNEEDED, same version is already published
lconwaymacOS 12.7.6 Monterey / x86_64  OK    OK    OK    OK  UNNEEDED, same version is already published
kjohnson3macOS 13.7.7 Ventura / arm64  OK    OK    OK    OK  UNNEEDED, same version is already published
Package 53/225HostnameOS / ArchINSTALLBUILDCHECKBUILD BIN
DEWSeq 1.24.0  (landing page)
bioinformatics team Hentze
git_last_commit: 02e5ed4
git_last_commit_date: 2025-10-29 10:55:18 -0400
nebbiolo2Linux (Ubuntu 24.04.3 LTS) / x86_64  OK    OK    OK  UNNEEDED, same version is already published
lconwaymacOS 12.7.6 Monterey / x86_64  OK    OK    OK    OK  UNNEEDED, same version is already published
kjohnson3macOS 13.7.7 Ventura / arm64  OK    OK    OK    OK  UNNEEDED, same version is already published
Package 54/225HostnameOS / ArchINSTALLBUILDCHECKBUILD BIN
dmGsea 1.0.1  (landing page)
Zongli Xu
git_last_commit: 8ba045b
git_last_commit_date: 2025-10-31 09:46:15 -0400
nebbiolo2Linux (Ubuntu 24.04.3 LTS) / x86_64  OK    OK    OK  YES
lconwaymacOS 12.7.6 Monterey / x86_64  OK    OK    OK    OK  YES
kjohnson3macOS 13.7.7 Ventura / arm64  OK    OK    OK    OK  YES
Package 55/225HostnameOS / ArchINSTALLBUILDCHECKBUILD BIN
DMRcaller 1.42.0  (landing page)
Nicolae Radu Zabet
git_last_commit: ba466d4
git_last_commit_date: 2025-10-29 10:25:12 -0400
nebbiolo2Linux (Ubuntu 24.04.3 LTS) / x86_64  OK    OK    OK  UNNEEDED, same version is already published
lconwaymacOS 12.7.6 Monterey / x86_64  OK    OK    OK    OK  UNNEEDED, same version is already published
kjohnson3macOS 13.7.7 Ventura / arm64  OK    OK    OK    OK  UNNEEDED, same version is already published
Package 56/225HostnameOS / ArchINSTALLBUILDCHECKBUILD BIN
DMRcate 3.6.0  (landing page)
Tim Peters
git_last_commit: d522a97
git_last_commit_date: 2025-10-29 10:18:14 -0400
nebbiolo2Linux (Ubuntu 24.04.3 LTS) / x86_64  OK    OK    OK  UNNEEDED, same version is already published
lconwaymacOS 12.7.6 Monterey / x86_64  OK    OK    OK    OK  UNNEEDED, same version is already published
kjohnson3macOS 13.7.7 Ventura / arm64  OK    OK    OK    OK  UNNEEDED, same version is already published
Package 57/225HostnameOS / ArchINSTALLBUILDCHECKBUILD BIN
DMRScan 1.32.0  (landing page)
Christian M Page
git_last_commit: 93867b8
git_last_commit_date: 2025-10-29 10:36:23 -0400
nebbiolo2Linux (Ubuntu 24.04.3 LTS) / x86_64  OK    OK    OK  UNNEEDED, same version is already published
lconwaymacOS 12.7.6 Monterey / x86_64  OK    OK    OK    OK  UNNEEDED, same version is already published
kjohnson3macOS 13.7.7 Ventura / arm64  OK    OK    OK    OK  UNNEEDED, same version is already published
Package 58/225HostnameOS / ArchINSTALLBUILDCHECKBUILD BIN
dmrseq 1.30.0  (landing page)
Keegan Korthauer
git_last_commit: 10b6432
git_last_commit_date: 2025-10-29 10:43:32 -0400
nebbiolo2Linux (Ubuntu 24.04.3 LTS) / x86_64  OK    OK    OK  UNNEEDED, same version is already published
lconwaymacOS 12.7.6 Monterey / x86_64  OK    OK    OK    OK  UNNEEDED, same version is already published
kjohnson3macOS 13.7.7 Ventura / arm64  OK    OK    OK    OK  UNNEEDED, same version is already published
Package 59/225HostnameOS / ArchINSTALLBUILDCHECKBUILD BIN
DominoEffect 1.30.0  (landing page)
Marija Buljan , Peter Blattmann
git_last_commit: 6694070
git_last_commit_date: 2025-10-29 10:43:24 -0400
nebbiolo2Linux (Ubuntu 24.04.3 LTS) / x86_64  OK    OK    OK  UNNEEDED, same version is already published
lconwaymacOS 12.7.6 Monterey / x86_64  OK    OK    OK    OK  UNNEEDED, same version is already published
kjohnson3macOS 13.7.7 Ventura / arm64  OK    OK    OK    OK  UNNEEDED, same version is already published
Package 60/225HostnameOS / ArchINSTALLBUILDCHECKBUILD BIN
easyRNASeq 2.46.0  (landing page)
Nicolas Delhomme
git_last_commit: e268573
git_last_commit_date: 2025-10-29 10:10:00 -0400
nebbiolo2Linux (Ubuntu 24.04.3 LTS) / x86_64  OK    OK    WARNINGS  UNNEEDED, same version is already published
lconwaymacOS 12.7.6 Monterey / x86_64  OK    OK    WARNINGS    OK  UNNEEDED, same version is already published
kjohnson3macOS 13.7.7 Ventura / arm64  OK    OK    WARNINGS    OK  UNNEEDED, same version is already published
Package 61/225HostnameOS / ArchINSTALLBUILDCHECKBUILD BIN
ELMER 2.34.0  (landing page)
Tiago Chedraoui Silva
git_last_commit: 908554d
git_last_commit_date: 2025-10-29 10:26:17 -0400
nebbiolo2Linux (Ubuntu 24.04.3 LTS) / x86_64  OK    ERROR  skipped
lconwaymacOS 12.7.6 Monterey / x86_64  OK    ERROR  skippedskipped
kjohnson3macOS 13.7.7 Ventura / arm64  OK    ERROR  skippedskipped
Package 62/225HostnameOS / ArchINSTALLBUILDCHECKBUILD BIN
enhancerHomologSearch 1.16.0  (landing page)
Jianhong Ou
git_last_commit: a7e3e8d
git_last_commit_date: 2025-10-29 11:11:19 -0400
nebbiolo2Linux (Ubuntu 24.04.3 LTS) / x86_64  OK    OK    OK  UNNEEDED, same version is already published
lconwaymacOS 12.7.6 Monterey / x86_64  OK    OK    OK    OK  UNNEEDED, same version is already published
kjohnson3macOS 13.7.7 Ventura / arm64  OK    OK    OK    OK  UNNEEDED, same version is already published
Package 63/225HostnameOS / ArchINSTALLBUILDCHECKBUILD BIN
ensembldb 2.34.0  (landing page)
Johannes Rainer
git_last_commit: a13967b
git_last_commit_date: 2025-10-29 10:24:50 -0400
nebbiolo2Linux (Ubuntu 24.04.3 LTS) / x86_64  OK    OK    OK  UNNEEDED, same version is already published
lconwaymacOS 12.7.6 Monterey / x86_64  OK    OK    OK    OK  UNNEEDED, same version is already published
kjohnson3macOS 13.7.7 Ventura / arm64  OK    OK    OK    OK  UNNEEDED, same version is already published
Package 64/225HostnameOS / ArchINSTALLBUILDCHECKBUILD BIN
EpiCompare 1.14.0  (landing page)
Hiranyamaya Dash
git_last_commit: c5d211a
git_last_commit_date: 2025-10-29 11:16:54 -0400
nebbiolo2Linux (Ubuntu 24.04.3 LTS) / x86_64  OK    OK    OK  UNNEEDED, same version is already published
lconwaymacOS 12.7.6 Monterey / x86_64  OK    OK    OK    OK  UNNEEDED, same version is already published
kjohnson3macOS 13.7.7 Ventura / arm64  OK    OK    OK    OK  UNNEEDED, same version is already published
Package 65/225HostnameOS / ArchINSTALLBUILDCHECKBUILD BIN
epigraHMM 1.18.0  (landing page)
Pedro Baldoni
git_last_commit: d390572
git_last_commit_date: 2025-10-29 11:09:46 -0400
nebbiolo2Linux (Ubuntu 24.04.3 LTS) / x86_64  OK    OK    WARNINGS  UNNEEDED, same version is already published
lconwaymacOS 12.7.6 Monterey / x86_64  OK    OK    WARNINGS    OK  UNNEEDED, same version is already published
kjohnson3macOS 13.7.7 Ventura / arm64  OK    OK    WARNINGS    OK  UNNEEDED, same version is already published
Package 66/225HostnameOS / ArchINSTALLBUILDCHECKBUILD BIN
EpiMix 1.12.0  (landing page)
Yuanning Zheng
git_last_commit: 36341ff
git_last_commit_date: 2025-10-29 11:17:43 -0400
nebbiolo2Linux (Ubuntu 24.04.3 LTS) / x86_64  OK    OK    OK  UNNEEDED, same version is already published
lconwaymacOS 12.7.6 Monterey / x86_64  OK    OK    OK    OK  UNNEEDED, same version is already published
kjohnson3macOS 13.7.7 Ventura / arm64  OK    OK    OK    OK  UNNEEDED, same version is already published
Package 67/225HostnameOS / ArchINSTALLBUILDCHECKBUILD BIN
EpiTxDb 1.22.0  (landing page)
Felix G.M. Ernst
git_last_commit: 54a3d69
git_last_commit_date: 2025-10-29 10:57:35 -0400
nebbiolo2Linux (Ubuntu 24.04.3 LTS) / x86_64  OK    OK    OK  UNNEEDED, same version is already published
lconwaymacOS 12.7.6 Monterey / x86_64  OK    OK    OK    OK  UNNEEDED, same version is already published
kjohnson3macOS 13.7.7 Ventura / arm64  OK    OK    OK    OK  UNNEEDED, same version is already published
Package 68/225HostnameOS / ArchINSTALLBUILDCHECKBUILD BIN
epivizrData 1.38.0  (landing page)
Hector Corrada Bravo
git_last_commit: c56a41a
git_last_commit_date: 2025-10-29 10:32:07 -0400
nebbiolo2Linux (Ubuntu 24.04.3 LTS) / x86_64  OK    OK    OK  UNNEEDED, same version is already published
lconwaymacOS 12.7.6 Monterey / x86_64  OK    OK    OK    OK  UNNEEDED, same version is already published
kjohnson3macOS 13.7.7 Ventura / arm64  OK    OK    OK    OK  UNNEEDED, same version is already published
Package 69/225HostnameOS / ArchINSTALLBUILDCHECKBUILD BIN
epivizrStandalone 1.38.0  (landing page)
Hector Corrada Bravo
git_last_commit: 4274fcb
git_last_commit_date: 2025-10-29 10:32:19 -0400
nebbiolo2Linux (Ubuntu 24.04.3 LTS) / x86_64  OK    OK    WARNINGS  UNNEEDED, same version is already published
lconwaymacOS 12.7.6 Monterey / x86_64  OK    OK    WARNINGS    OK  UNNEEDED, same version is already published
kjohnson3macOS 13.7.7 Ventura / arm64  OK    OK    WARNINGS    OK  UNNEEDED, same version is already published
Package 70/225HostnameOS / ArchINSTALLBUILDCHECKBUILD BIN
esATAC 1.32.0  (landing page)
Zheng Wei
git_last_commit: 6d7ce39
git_last_commit_date: 2025-10-29 10:42:12 -0400
nebbiolo2Linux (Ubuntu 24.04.3 LTS) / x86_64  OK    OK    OK  UNNEEDED, same version is already published
lconwaymacOS 12.7.6 Monterey / x86_64  OK    OK    OK    OK  UNNEEDED, same version is already published
kjohnson3macOS 13.7.7 Ventura / arm64  OK    OK    OK    OK  UNNEEDED, same version is already published
Package 71/225HostnameOS / ArchINSTALLBUILDCHECKBUILD BIN
extraChIPs 1.14.0  (landing page)
Stevie Pederson
git_last_commit: 9b0567a
git_last_commit_date: 2025-10-29 11:16:32 -0400
nebbiolo2Linux (Ubuntu 24.04.3 LTS) / x86_64  OK    OK    OK  UNNEEDED, same version is already published
lconwaymacOS 12.7.6 Monterey / x86_64  OK    OK    OK    OK  UNNEEDED, same version is already published
kjohnson3macOS 13.7.7 Ventura / arm64  OK    OK    OK    OK  UNNEEDED, same version is already published
Package 72/225HostnameOS / ArchINSTALLBUILDCHECKBUILD BIN
FindIT2 1.16.0  (landing page)
Guandong Shang
git_last_commit: 4bef48e
git_last_commit_date: 2025-10-29 11:10:30 -0400
nebbiolo2Linux (Ubuntu 24.04.3 LTS) / x86_64  OK    OK    OK  UNNEEDED, same version is already published
lconwaymacOS 12.7.6 Monterey / x86_64  OK    OK    OK    OK  UNNEEDED, same version is already published
kjohnson3macOS 13.7.7 Ventura / arm64  OK    OK    OK    OK  UNNEEDED, same version is already published
Package 73/225HostnameOS / ArchINSTALLBUILDCHECKBUILD BIN
FLAMES 2.4.1  (landing page)
Changqing Wang
git_last_commit: 41bbd55
git_last_commit_date: 2025-10-31 01:50:56 -0400
nebbiolo2Linux (Ubuntu 24.04.3 LTS) / x86_64  OK    OK    OK  YES
lconwaymacOS 12.7.6 Monterey / x86_64  OK    OK    OK    OK  YES
kjohnson3macOS 13.7.7 Ventura / arm64  OK    OK    OK    OK  YES
Package 74/225HostnameOS / ArchINSTALLBUILDCHECKBUILD BIN
G4SNVHunter 1.2.0  (landing page)
Rongxin Zhang
git_last_commit: 68a2680
git_last_commit_date: 2025-10-29 11:33:18 -0400
nebbiolo2Linux (Ubuntu 24.04.3 LTS) / x86_64  OK    OK    WARNINGS  UNNEEDED, same version is already published
lconwaymacOS 12.7.6 Monterey / x86_64  OK    OK    WARNINGS    OK  UNNEEDED, same version is already published
kjohnson3macOS 13.7.7 Ventura / arm64  OK    OK    WARNINGS    OK  UNNEEDED, same version is already published
Package 75/225HostnameOS / ArchINSTALLBUILDCHECKBUILD BIN
GA4GHclient 1.34.0  (landing page)
Welliton Souza
git_last_commit: 7e604d2
git_last_commit_date: 2025-10-29 10:37:37 -0400
nebbiolo2Linux (Ubuntu 24.04.3 LTS) / x86_64  OK    OK    OK  UNNEEDED, same version is already published
lconwaymacOS 12.7.6 Monterey / x86_64  OK    OK    OK    OK  UNNEEDED, same version is already published
kjohnson3macOS 13.7.7 Ventura / arm64  OK    OK    OK    OK  UNNEEDED, same version is already published
Package 76/225HostnameOS / ArchINSTALLBUILDCHECKBUILD BIN
GA4GHshiny 1.32.0  (landing page)
Welliton Souza
git_last_commit: 8463ac1
git_last_commit_date: 2025-10-29 10:38:44 -0400
nebbiolo2Linux (Ubuntu 24.04.3 LTS) / x86_64  OK    OK    OK  UNNEEDED, same version is already published
lconwaymacOS 12.7.6 Monterey / x86_64  OK    OK    OK    OK  UNNEEDED, same version is already published
kjohnson3macOS 13.7.7 Ventura / arm64  OK    OK    OK    OK  UNNEEDED, same version is already published
Package 77/225HostnameOS / ArchINSTALLBUILDCHECKBUILD BIN
gcapc 1.34.0  (landing page)
Mingxiang Teng
git_last_commit: 689a02e
git_last_commit_date: 2025-10-29 10:35:52 -0400
nebbiolo2Linux (Ubuntu 24.04.3 LTS) / x86_64  OK    OK    OK  UNNEEDED, same version is already published
lconwaymacOS 12.7.6 Monterey / x86_64  OK    OK    OK    OK  UNNEEDED, same version is already published
kjohnson3macOS 13.7.7 Ventura / arm64  OK    OK    OK    OK  UNNEEDED, same version is already published
Package 78/225HostnameOS / ArchINSTALLBUILDCHECKBUILD BIN
gDNAx 1.8.0  (landing page)
Robert Castelo
git_last_commit: b09db45
git_last_commit_date: 2025-10-29 11:24:57 -0400
nebbiolo2Linux (Ubuntu 24.04.3 LTS) / x86_64  OK    OK    OK  UNNEEDED, same version is already published
lconwaymacOS 12.7.6 Monterey / x86_64  OK    OK    OK    OK  UNNEEDED, same version is already published
kjohnson3macOS 13.7.7 Ventura / arm64  OK    OK    OK    OK  UNNEEDED, same version is already published
Package 79/225HostnameOS / ArchINSTALLBUILDCHECKBUILD BIN
geneAttribution 1.36.0  (landing page)
Arthur Wuster
git_last_commit: 3e52d75
git_last_commit_date: 2025-10-29 10:34:06 -0400
nebbiolo2Linux (Ubuntu 24.04.3 LTS) / x86_64  OK    OK    OK  UNNEEDED, same version is already published
lconwaymacOS 12.7.6 Monterey / x86_64  OK    OK    OK    OK  UNNEEDED, same version is already published
kjohnson3macOS 13.7.7 Ventura / arm64  OK    OK    OK    OK  UNNEEDED, same version is already published
Package 80/225HostnameOS / ArchINSTALLBUILDCHECKBUILD BIN
genomation 1.42.0  (landing page)
Altuna Akalin , Vedran Franke
git_last_commit: 01d23ac
git_last_commit_date: 2025-10-29 10:23:07 -0400
nebbiolo2Linux (Ubuntu 24.04.3 LTS) / x86_64  OK    OK    WARNINGS  UNNEEDED, same version is already published
lconwaymacOS 12.7.6 Monterey / x86_64  OK    OK    WARNINGS    OK  UNNEEDED, same version is already published
kjohnson3macOS 13.7.7 Ventura / arm64  OK    OK    WARNINGS    OK  UNNEEDED, same version is already published
Package 81/225HostnameOS / ArchINSTALLBUILDCHECKBUILD BIN
GenomAutomorphism 1.12.0  (landing page)
Robersy Sanchez
git_last_commit: bb13ab8
git_last_commit_date: 2025-10-29 11:17:59 -0400
nebbiolo2Linux (Ubuntu 24.04.3 LTS) / x86_64  OK    OK    OK  UNNEEDED, same version is already published
lconwaymacOS 12.7.6 Monterey / x86_64  OK    OK    OK    OK  UNNEEDED, same version is already published
kjohnson3macOS 13.7.7 Ventura / arm64  OK    OK    OK    OK  UNNEEDED, same version is already published
Package 82/225HostnameOS / ArchINSTALLBUILDCHECKBUILD BIN
GenomeInfoDb 1.46.0  (landing page)
Hervé Pagès
git_last_commit: 121e4ed
git_last_commit_date: 2025-10-29 13:11:33 -0400
nebbiolo2Linux (Ubuntu 24.04.3 LTS) / x86_64  OK    OK    OK  UNNEEDED, same version is already published
lconwaymacOS 12.7.6 Monterey / x86_64  OK    OK    OK    OK  UNNEEDED, same version is already published
kjohnson3macOS 13.7.7 Ventura / arm64  OK    OK    OK    OK  UNNEEDED, same version is already published
Package 83/225HostnameOS / ArchINSTALLBUILDCHECKBUILD BIN
genomeIntervals 1.66.0  (landing page)
Julien Gagneur
git_last_commit: 70caf1e
git_last_commit_date: 2025-10-29 10:02:26 -0400
nebbiolo2Linux (Ubuntu 24.04.3 LTS) / x86_64  OK    OK    WARNINGS  UNNEEDED, same version is already published
lconwaymacOS 12.7.6 Monterey / x86_64  OK    OK    WARNINGS    OK  UNNEEDED, same version is already published
kjohnson3macOS 13.7.7 Ventura / arm64  OK    OK    WARNINGS    OK  UNNEEDED, same version is already published
Package 84/225HostnameOS / ArchINSTALLBUILDCHECKBUILD BIN
GenomicAlignments 1.46.0  (landing page)
Hervé Pagès
git_last_commit: 4bd0167
git_last_commit_date: 2025-10-29 13:50:18 -0400
nebbiolo2Linux (Ubuntu 24.04.3 LTS) / x86_64  OK    OK    OK  UNNEEDED, same version is already published
lconwaymacOS 12.7.6 Monterey / x86_64  OK    OK    OK    OK  UNNEEDED, same version is already published
kjohnson3macOS 13.7.7 Ventura / arm64  OK    OK    OK    OK  UNNEEDED, same version is already published
Package 85/225HostnameOS / ArchINSTALLBUILDCHECKBUILD BIN
GenomicFeatures 1.62.0  (landing page)
H. Pagès
git_last_commit: f4dfd41
git_last_commit_date: 2025-10-29 14:16:45 -0400
nebbiolo2Linux (Ubuntu 24.04.3 LTS) / x86_64  OK    OK    OK  UNNEEDED, same version is already published
lconwaymacOS 12.7.6 Monterey / x86_64  OK    OK    OK    OK  UNNEEDED, same version is already published
kjohnson3macOS 13.7.7 Ventura / arm64  OK    OK    OK    OK  UNNEEDED, same version is already published
Package 86/225HostnameOS / ArchINSTALLBUILDCHECKBUILD BIN
GenomicFiles 1.46.0  (landing page)
Bioconductor Package Maintainer
git_last_commit: a7f3143
git_last_commit_date: 2025-10-29 10:19:18 -0400
nebbiolo2Linux (Ubuntu 24.04.3 LTS) / x86_64  OK    OK    OK  UNNEEDED, same version is already published
lconwaymacOS 12.7.6 Monterey / x86_64  OK    OK    OK    OK  UNNEEDED, same version is already published
kjohnson3macOS 13.7.7 Ventura / arm64  OK    OK    OK    OK  UNNEEDED, same version is already published
Package 87/225HostnameOS / ArchINSTALLBUILDCHECKBUILD BIN
GenomicInteractionNodes 1.14.0  (landing page)
Jianhong Ou
git_last_commit: d3ee518
git_last_commit_date: 2025-10-29 11:16:22 -0400
nebbiolo2Linux (Ubuntu 24.04.3 LTS) / x86_64  OK    OK    OK  UNNEEDED, same version is already published
lconwaymacOS 12.7.6 Monterey / x86_64  OK    OK    OK    OK  UNNEEDED, same version is already published
kjohnson3macOS 13.7.7 Ventura / arm64  OK    OK    OK    OK  UNNEEDED, same version is already published
Package 88/225HostnameOS / ArchINSTALLBUILDCHECKBUILD BIN
GenomicInteractions 1.44.0  (landing page)
Liz Ing-Simmons
git_last_commit: 7901852
git_last_commit_date: 2025-10-29 10:21:43 -0400
nebbiolo2Linux (Ubuntu 24.04.3 LTS) / x86_64  OK    OK    OK  UNNEEDED, same version is already published
lconwaymacOS 12.7.6 Monterey / x86_64  OK    OK    OK    OK  UNNEEDED, same version is already published
kjohnson3macOS 13.7.7 Ventura / arm64  OK    OK    OK    OK  UNNEEDED, same version is already published
Package 89/225HostnameOS / ArchINSTALLBUILDCHECKBUILD BIN
GenomicOZone 1.24.0  (landing page)
Hua Zhong, Mingzhou Song
git_last_commit: 0fee919
git_last_commit_date: 2025-10-29 10:53:39 -0400
nebbiolo2Linux (Ubuntu 24.04.3 LTS) / x86_64  OK    OK    OK  UNNEEDED, same version is already published
lconwaymacOS 12.7.6 Monterey / x86_64  OK    OK    OK    OK  UNNEEDED, same version is already published
kjohnson3macOS 13.7.7 Ventura / arm64  OK    OK    OK    OK  UNNEEDED, same version is already published
Package 90/225HostnameOS / ArchINSTALLBUILDCHECKBUILD BIN
GenomicPlot 1.8.0  (landing page)
Shuye Pu
git_last_commit: e9ce4a7
git_last_commit_date: 2025-10-29 11:24:51 -0400
nebbiolo2Linux (Ubuntu 24.04.3 LTS) / x86_64  OK    OK    OK  UNNEEDED, same version is already published
lconwaymacOS 12.7.6 Monterey / x86_64  OK    OK    OK    OK  UNNEEDED, same version is already published
kjohnson3macOS 13.7.7 Ventura / arm64  OK    OK    OK    OK  UNNEEDED, same version is already published
Package 91/225HostnameOS / ArchINSTALLBUILDCHECKBUILD BIN
GenomicRanges 1.62.0  (landing page)
Hervé Pagès
git_last_commit: 69b49ef
git_last_commit_date: 2025-10-29 13:30:58 -0400
nebbiolo2Linux (Ubuntu 24.04.3 LTS) / x86_64  OK    OK    OK  UNNEEDED, same version is already published
lconwaymacOS 12.7.6 Monterey / x86_64  OK    OK    OK    OK  UNNEEDED, same version is already published
kjohnson3macOS 13.7.7 Ventura / arm64  OK    OK    OK    OK  UNNEEDED, same version is already published
Package 92/225HostnameOS / ArchINSTALLBUILDCHECKBUILD BIN
GenomicScores 2.22.0  (landing page)
Robert Castelo
git_last_commit: 8f6570c
git_last_commit_date: 2025-10-29 10:38:07 -0400
nebbiolo2Linux (Ubuntu 24.04.3 LTS) / x86_64  OK    OK    OK  UNNEEDED, same version is already published
lconwaymacOS 12.7.6 Monterey / x86_64  OK    OK    OK    OK  UNNEEDED, same version is already published
kjohnson3macOS 13.7.7 Ventura / arm64  OK    OK    OK    OK  UNNEEDED, same version is already published
Package 93/225HostnameOS / ArchINSTALLBUILDCHECKBUILD BIN
GenomicTuples 1.44.0  (landing page)
Peter Hickey
git_last_commit: dcc8d1f
git_last_commit_date: 2025-10-29 10:22:11 -0400
nebbiolo2Linux (Ubuntu 24.04.3 LTS) / x86_64  OK    OK    OK  UNNEEDED, same version is already published
lconwaymacOS 12.7.6 Monterey / x86_64  OK    OK    OK    OK  UNNEEDED, same version is already published
kjohnson3macOS 13.7.7 Ventura / arm64  OK    OK    OK    OK  UNNEEDED, same version is already published
Package 94/225HostnameOS / ArchINSTALLBUILDCHECKBUILD BIN
GenVisR 1.42.0  (landing page)
Zachary Skidmore
git_last_commit: aa50f04
git_last_commit_date: 2025-10-29 10:29:36 -0400
nebbiolo2Linux (Ubuntu 24.04.3 LTS) / x86_64  OK    OK    ERROR  
lconwaymacOS 12.7.6 Monterey / x86_64  OK    OK    ERROR    OK  
kjohnson3macOS 13.7.7 Ventura / arm64  OK    OK    ERROR    OK  
Package 95/225HostnameOS / ArchINSTALLBUILDCHECKBUILD BIN
geomeTriD 1.4.0  (landing page)
Jianhong Ou
git_last_commit: 6d6e43f
git_last_commit_date: 2025-10-29 11:32:13 -0400
nebbiolo2Linux (Ubuntu 24.04.3 LTS) / x86_64  OK    OK    OK  UNNEEDED, same version is already published
lconwaymacOS 12.7.6 Monterey / x86_64  OK    OK    OK    OK  UNNEEDED, same version is already published
kjohnson3macOS 13.7.7 Ventura / arm64  OK    OK    OK    OK  UNNEEDED, same version is already published
Package 96/225HostnameOS / ArchINSTALLBUILDCHECKBUILD BIN
ggbio 1.58.0  (landing page)
Michael Lawrence
git_last_commit: 678f10e
git_last_commit_date: 2025-10-29 10:09:27 -0400
nebbiolo2Linux (Ubuntu 24.04.3 LTS) / x86_64  OK    OK    WARNINGS  UNNEEDED, same version is already published
lconwaymacOS 12.7.6 Monterey / x86_64  OK    OK    WARNINGS    OK  UNNEEDED, same version is already published
kjohnson3macOS 13.7.7 Ventura / arm64  OK    OK    WARNINGS    OK  UNNEEDED, same version is already published
Package 97/225HostnameOS / ArchINSTALLBUILDCHECKBUILD BIN
gmapR 1.52.0  (landing page)
Michael Lawrence
git_last_commit: 10d6080
git_last_commit_date: 2025-10-29 10:11:34 -0400
nebbiolo2Linux (Ubuntu 24.04.3 LTS) / x86_64  OK    ERROR  skipped
lconwaymacOS 12.7.6 Monterey / x86_64  OK    ERROR  skippedskipped
kjohnson3macOS 13.7.7 Ventura / arm64  ERROR    ERROR  skippedskipped
Package 98/225HostnameOS / ArchINSTALLBUILDCHECKBUILD BIN
gmoviz 1.22.0  (landing page)
Kathleen Zeglinski
git_last_commit: 64c2454
git_last_commit_date: 2025-10-29 10:57:48 -0400
nebbiolo2Linux (Ubuntu 24.04.3 LTS) / x86_64  OK    OK    OK  UNNEEDED, same version is already published
lconwaymacOS 12.7.6 Monterey / x86_64  OK    OK    OK    OK  UNNEEDED, same version is already published
kjohnson3macOS 13.7.7 Ventura / arm64  OK    OK    OK    OK  UNNEEDED, same version is already published
Package 99/225HostnameOS / ArchINSTALLBUILDCHECKBUILD BIN
goseq 1.62.0  (landing page)
Federico Marini
git_last_commit: e3ed9b9
git_last_commit_date: 2025-10-29 10:04:46 -0400
nebbiolo2Linux (Ubuntu 24.04.3 LTS) / x86_64  OK    OK    OK  UNNEEDED, same version is already published
lconwaymacOS 12.7.6 Monterey / x86_64  OK    OK    OK    OK  UNNEEDED, same version is already published
kjohnson3macOS 13.7.7 Ventura / arm64  OK    OK    OK    OK  UNNEEDED, same version is already published
Package 100/225HostnameOS / ArchINSTALLBUILDCHECKBUILD BIN
GOTHiC 1.46.0  (landing page)
Borbala Mifsud
git_last_commit: 9a54459
git_last_commit_date: 2025-10-29 10:52:56 -0400
nebbiolo2Linux (Ubuntu 24.04.3 LTS) / x86_64  OK    OK    OK  UNNEEDED, same version is already published
lconwaymacOS 12.7.6 Monterey / x86_64  OK    OK    OK    OK  UNNEEDED, same version is already published
kjohnson3macOS 13.7.7 Ventura / arm64  OK    OK    OK    OK  UNNEEDED, same version is already published
Package 101/225HostnameOS / ArchINSTALLBUILDCHECKBUILD BIN
GreyListChIP 1.42.0  (landing page)
Matt Eldridge
git_last_commit: df5cbdf
git_last_commit_date: 2025-10-29 10:23:48 -0400
nebbiolo2Linux (Ubuntu 24.04.3 LTS) / x86_64  OK    OK    OK  UNNEEDED, same version is already published
lconwaymacOS 12.7.6 Monterey / x86_64  OK    OK    OK    OK  UNNEEDED, same version is already published
kjohnson3macOS 13.7.7 Ventura / arm64  OK    OK    OK    OK  UNNEEDED, same version is already published
Package 102/225HostnameOS / ArchINSTALLBUILDCHECKBUILD BIN
groHMM 1.44.0  (landing page)
Tulip Nandu
git_last_commit: 28ddd37
git_last_commit_date: 2025-10-29 10:22:29 -0400
nebbiolo2Linux (Ubuntu 24.04.3 LTS) / x86_64  OK    OK    WARNINGS  UNNEEDED, same version is already published
lconwaymacOS 12.7.6 Monterey / x86_64  OK    OK    WARNINGS    OK  UNNEEDED, same version is already published
kjohnson3macOS 13.7.7 Ventura / arm64  OK    OK    WARNINGS    OK  UNNEEDED, same version is already published
Package 103/225HostnameOS / ArchINSTALLBUILDCHECKBUILD BIN
Gviz 1.54.0  (landing page)
Robert Ivanek
git_last_commit: 05ebfa6
git_last_commit_date: 2025-10-29 10:10:17 -0400
nebbiolo2Linux (Ubuntu 24.04.3 LTS) / x86_64  OK    OK    OK  UNNEEDED, same version is already published
lconwaymacOS 12.7.6 Monterey / x86_64  OK    OK    OK    OK  UNNEEDED, same version is already published
kjohnson3macOS 13.7.7 Ventura / arm64  OK    OK    OK    OK  UNNEEDED, same version is already published
Package 104/225HostnameOS / ArchINSTALLBUILDCHECKBUILD BIN
gwascat 2.42.0  (landing page)
VJ Carey
git_last_commit: 5ae3745
git_last_commit_date: 2025-10-29 10:10:23 -0400
nebbiolo2Linux (Ubuntu 24.04.3 LTS) / x86_64  OK    OK    OK  UNNEEDED, same version is already published
lconwaymacOS 12.7.6 Monterey / x86_64  OK    OK    OK    OK  UNNEEDED, same version is already published
kjohnson3macOS 13.7.7 Ventura / arm64  OK    OK    OK    OK  UNNEEDED, same version is already published
Package 105/225HostnameOS / ArchINSTALLBUILDCHECKBUILD BIN
heatmaps 1.34.0  (landing page)
Malcolm Perry
git_last_commit: 1fbdefe
git_last_commit_date: 2025-10-29 10:38:31 -0400
nebbiolo2Linux (Ubuntu 24.04.3 LTS) / x86_64  OK    OK    OK  UNNEEDED, same version is already published
lconwaymacOS 12.7.6 Monterey / x86_64  OK    OK    OK    OK  UNNEEDED, same version is already published
kjohnson3macOS 13.7.7 Ventura / arm64  OK    OK    OK    OK  UNNEEDED, same version is already published
Package 106/225HostnameOS / ArchINSTALLBUILDCHECKBUILD BIN
HelloRanges 1.36.0  (landing page)
Michael Lawrence
git_last_commit: 8035909
git_last_commit_date: 2025-10-29 10:35:10 -0400
nebbiolo2Linux (Ubuntu 24.04.3 LTS) / x86_64  OK    OK    OK  UNNEEDED, same version is already published
lconwaymacOS 12.7.6 Monterey / x86_64  OK    OK    OK    OK  UNNEEDED, same version is already published
kjohnson3macOS 13.7.7 Ventura / arm64  OK    OK    OK    OK  UNNEEDED, same version is already published
Package 107/225HostnameOS / ArchINSTALLBUILDCHECKBUILD BIN
HicAggR 1.6.0  (landing page)
Olivier Cuvier
git_last_commit: 8551a70
git_last_commit_date: 2025-10-29 11:30:21 -0400
nebbiolo2Linux (Ubuntu 24.04.3 LTS) / x86_64  OK    OK    WARNINGS  UNNEEDED, same version is already published
lconwaymacOS 12.7.6 Monterey / x86_64  OK    OK    WARNINGS    OK  UNNEEDED, same version is already published
kjohnson3macOS 13.7.7 Ventura / arm64  OK    OK    WARNINGS    OK  UNNEEDED, same version is already published
Package 108/225HostnameOS / ArchINSTALLBUILDCHECKBUILD BIN
HiCBricks 1.28.0  (landing page)
Koustav Pal
git_last_commit: 3296656
git_last_commit_date: 2025-10-29 10:48:17 -0400
nebbiolo2Linux (Ubuntu 24.04.3 LTS) / x86_64  OK    OK    OK  UNNEEDED, same version is already published
lconwaymacOS 12.7.6 Monterey / x86_64  OK    OK    OK    OK  UNNEEDED, same version is already published
kjohnson3macOS 13.7.7 Ventura / arm64  OK    OK    OK    OK  UNNEEDED, same version is already published
Package 109/225HostnameOS / ArchINSTALLBUILDCHECKBUILD BIN
HiCDOC 1.12.0  (landing page)
Maigné Élise
git_last_commit: 814d8c7
git_last_commit_date: 2025-10-29 11:17:41 -0400
nebbiolo2Linux (Ubuntu 24.04.3 LTS) / x86_64  OK    OK    OK  UNNEEDED, same version is already published
lconwaymacOS 12.7.6 Monterey / x86_64  OK    OK    OK    OK  UNNEEDED, same version is already published
kjohnson3macOS 13.7.7 Ventura / arm64  OK    OK    OK    OK  UNNEEDED, same version is already published
Package 110/225HostnameOS / ArchINSTALLBUILDCHECKBUILD BIN
HiCExperiment 1.10.0  (landing page)
Jacques Serizay
git_last_commit: 7a770a4
git_last_commit_date: 2025-10-29 11:21:02 -0400
nebbiolo2Linux (Ubuntu 24.04.3 LTS) / x86_64  OK    OK    OK  UNNEEDED, same version is already published
lconwaymacOS 12.7.6 Monterey / x86_64  OK    OK    OK    OK  UNNEEDED, same version is already published
kjohnson3macOS 13.7.7 Ventura / arm64  OK    OK    OK    OK  UNNEEDED, same version is already published
Package 111/225HostnameOS / ArchINSTALLBUILDCHECKBUILD BIN
HiCParser 1.2.0  (landing page)
Maigné Élise
git_last_commit: c089341
git_last_commit_date: 2025-10-29 11:34:37 -0400
nebbiolo2Linux (Ubuntu 24.04.3 LTS) / x86_64  OK    OK    OK  UNNEEDED, same version is already published
lconwaymacOS 12.7.6 Monterey / x86_64  OK    OK    OK    OK  UNNEEDED, same version is already published
kjohnson3macOS 13.7.7 Ventura / arm64  OK    OK    OK    OK  UNNEEDED, same version is already published
Package 112/225HostnameOS / ArchINSTALLBUILDCHECKBUILD BIN
hicVennDiagram 1.8.0  (landing page)
Jianhong Ou
git_last_commit: 33c3f4f
git_last_commit_date: 2025-10-29 11:24:22 -0400
nebbiolo2Linux (Ubuntu 24.04.3 LTS) / x86_64  OK    OK    OK  UNNEEDED, same version is already published
lconwaymacOS 12.7.6 Monterey / x86_64  OK    OK    OK    OK  UNNEEDED, same version is already published
kjohnson3macOS 13.7.7 Ventura / arm64  OK    OK    OK    OK  UNNEEDED, same version is already published
Package 113/225HostnameOS / ArchINSTALLBUILDCHECKBUILD BIN
HiTC 1.54.0  (landing page)
Nicolas Servant
git_last_commit: f8056e1
git_last_commit_date: 2025-10-29 10:10:49 -0400
nebbiolo2Linux (Ubuntu 24.04.3 LTS) / x86_64  OK    OK    WARNINGS  UNNEEDED, same version is already published
lconwaymacOS 12.7.6 Monterey / x86_64  OK    OK    WARNINGS    OK  UNNEEDED, same version is already published
kjohnson3macOS 13.7.7 Ventura / arm64  OK    OK    WARNINGS    OK  UNNEEDED, same version is already published
Package 114/225HostnameOS / ArchINSTALLBUILDCHECKBUILD BIN
IMAS 1.34.0  (landing page)
Seonggyun Han
git_last_commit: ec268ac
git_last_commit_date: 2025-10-29 10:38:10 -0400
nebbiolo2Linux (Ubuntu 24.04.3 LTS) / x86_64  OK    ERROR  skipped
lconwaymacOS 12.7.6 Monterey / x86_64  OK    ERROR  skippedskipped
kjohnson3macOS 13.7.7 Ventura / arm64  OK    ERROR  skippedskipped
Package 115/225HostnameOS / ArchINSTALLBUILDCHECKBUILD BIN
InPAS 2.18.0  (landing page)
Jianhong Ou
git_last_commit: b015763
git_last_commit_date: 2025-10-29 10:24:45 -0400
nebbiolo2Linux (Ubuntu 24.04.3 LTS) / x86_64  OK    OK    WARNINGS  UNNEEDED, same version is already published
lconwaymacOS 12.7.6 Monterey / x86_64  OK    OK    WARNINGS    OK  UNNEEDED, same version is already published
kjohnson3macOS 13.7.7 Ventura / arm64  OK    OK    WARNINGS    OK  UNNEEDED, same version is already published
Package 116/225HostnameOS / ArchINSTALLBUILDCHECKBUILD BIN
INSPEcT 1.40.0  (landing page)
Stefano de Pretis
git_last_commit: c9f5ce1
git_last_commit_date: 2025-10-29 10:26:37 -0400
nebbiolo2Linux (Ubuntu 24.04.3 LTS) / x86_64  OK    OK    OK  UNNEEDED, same version is already published
lconwaymacOS 12.7.6 Monterey / x86_64  OK    OK    OK    OK  UNNEEDED, same version is already published
kjohnson3macOS 13.7.7 Ventura / arm64  OK    OK    OK    OK  UNNEEDED, same version is already published
Package 117/225HostnameOS / ArchINSTALLBUILDCHECKBUILD BIN
InteractionSet 1.38.0  (landing page)
Aaron Lun
git_last_commit: b784a04
git_last_commit_date: 2025-10-29 10:31:52 -0400
nebbiolo2Linux (Ubuntu 24.04.3 LTS) / x86_64  OK    OK    OK  UNNEEDED, same version is already published
lconwaymacOS 12.7.6 Monterey / x86_64  OK    OK    OK    OK  UNNEEDED, same version is already published
kjohnson3macOS 13.7.7 Ventura / arm64  OK    OK    OK    OK  UNNEEDED, same version is already published
Package 118/225HostnameOS / ArchINSTALLBUILDCHECKBUILD BIN
IsoformSwitchAnalyzeR 2.10.0  (landing page)
Kristoffer Vitting-Seerup
git_last_commit: 34e7c83
git_last_commit_date: 2025-10-29 10:38:58 -0400
nebbiolo2Linux (Ubuntu 24.04.3 LTS) / x86_64  OK    OK    OK  UNNEEDED, same version is already published
lconwaymacOS 12.7.6 Monterey / x86_64  OK    OK    OK    OK  UNNEEDED, same version is already published
kjohnson3macOS 13.7.7 Ventura / arm64  OK    OK    OK    OK  UNNEEDED, same version is already published
Package 119/225HostnameOS / ArchINSTALLBUILDCHECKBUILD BIN
IVAS 2.30.0  (landing page)
Seonggyun Han
git_last_commit: 5aaa72a
git_last_commit_date: 2025-10-29 10:23:46 -0400
nebbiolo2Linux (Ubuntu 24.04.3 LTS) / x86_64  OK    OK    WARNINGS  UNNEEDED, same version is already published
lconwaymacOS 12.7.6 Monterey / x86_64  OK    OK    WARNINGS    OK  UNNEEDED, same version is already published
kjohnson3macOS 13.7.7 Ventura / arm64  OK    OK    WARNINGS    OK  UNNEEDED, same version is already published
Package 120/225HostnameOS / ArchINSTALLBUILDCHECKBUILD BIN
karyoploteR 1.36.0  (landing page)
Bernat Gel
git_last_commit: 50652ef
git_last_commit_date: 2025-10-29 10:36:38 -0400
nebbiolo2Linux (Ubuntu 24.04.3 LTS) / x86_64  OK    OK    OK  UNNEEDED, same version is already published
lconwaymacOS 12.7.6 Monterey / x86_64  OK    OK    OK    OK  UNNEEDED, same version is already published
kjohnson3macOS 13.7.7 Ventura / arm64  OK    OK    OK    OK  UNNEEDED, same version is already published
Package 121/225HostnameOS / ArchINSTALLBUILDCHECKBUILD BIN
ldblock 1.40.0  (landing page)
VJ Carey
git_last_commit: debfb00
git_last_commit_date: 2025-10-29 10:27:30 -0400
nebbiolo2Linux (Ubuntu 24.04.3 LTS) / x86_64  OK    OK    OK  UNNEEDED, same version is already published
lconwaymacOS 12.7.6 Monterey / x86_64  OK    OK    OK    OK  UNNEEDED, same version is already published
kjohnson3macOS 13.7.7 Ventura / arm64  OK    OK    OK    OK  UNNEEDED, same version is already published
Package 122/225HostnameOS / ArchINSTALLBUILDCHECKBUILD BIN
maser 1.28.0  (landing page)
Diogo F.T. Veiga
git_last_commit: f9a04bc
git_last_commit_date: 2025-10-29 10:45:34 -0400
nebbiolo2Linux (Ubuntu 24.04.3 LTS) / x86_64  OK    OK    OK  UNNEEDED, same version is already published
lconwaymacOS 12.7.6 Monterey / x86_64  OK    OK    OK    OK  UNNEEDED, same version is already published
kjohnson3macOS 13.7.7 Ventura / arm64  OK    OK    OK    OK  UNNEEDED, same version is already published
Package 123/225HostnameOS / ArchINSTALLBUILDCHECKBUILD BIN
metaseqR2 1.22.0  (landing page)
Panagiotis Moulos
git_last_commit: e5e7809
git_last_commit_date: 2025-10-29 10:59:18 -0400
nebbiolo2Linux (Ubuntu 24.04.3 LTS) / x86_64  OK    OK    OK  UNNEEDED, same version is already published
lconwaymacOS 12.7.6 Monterey / x86_64  OK    OK    OK    OK  UNNEEDED, same version is already published
kjohnson3macOS 13.7.7 Ventura / arm64  OK    OK    OK    OK  UNNEEDED, same version is already published
Package 124/225HostnameOS / ArchINSTALLBUILDCHECKBUILD BIN
methInheritSim 1.32.0  (landing page)
Pascal Belleau
git_last_commit: b52e28a
git_last_commit_date: 2025-10-29 10:38:50 -0400
nebbiolo2Linux (Ubuntu 24.04.3 LTS) / x86_64  OK    OK    OK  UNNEEDED, same version is already published
lconwaymacOS 12.7.6 Monterey / x86_64  OK    OK    OK    OK  UNNEEDED, same version is already published
kjohnson3macOS 13.7.7 Ventura / arm64  OK    OK    OK    OK  UNNEEDED, same version is already published
Package 125/225HostnameOS / ArchINSTALLBUILDCHECKBUILD BIN
methylKit 1.36.0  (landing page)
Altuna Akalin , Alexander Blume
git_last_commit: c65437a
git_last_commit_date: 2025-10-29 10:33:14 -0400
nebbiolo2Linux (Ubuntu 24.04.3 LTS) / x86_64  OK    OK    OK  UNNEEDED, same version is already published
lconwaymacOS 12.7.6 Monterey / x86_64  OK    OK    OK    OK  UNNEEDED, same version is already published
kjohnson3macOS 13.7.7 Ventura / arm64  OK    OK    OK    OK  UNNEEDED, same version is already published
Package 126/225HostnameOS / ArchINSTALLBUILDCHECKBUILD BIN
methylPipe 1.44.0  (landing page)
Mattia Furlan
git_last_commit: ba28f43
git_last_commit_date: 2025-10-29 10:21:09 -0400
nebbiolo2Linux (Ubuntu 24.04.3 LTS) / x86_64  OK    OK    WARNINGS  UNNEEDED, same version is already published
lconwaymacOS 12.7.6 Monterey / x86_64  OK    OK    WARNINGS    OK  UNNEEDED, same version is already published
kjohnson3macOS 13.7.7 Ventura / arm64  OK    OK    WARNINGS    OK  UNNEEDED, same version is already published
Package 127/225HostnameOS / ArchINSTALLBUILDCHECKBUILD BIN
methylSig 1.22.0  (landing page)
Raymond G. Cavalcante
git_last_commit: e0dc461
git_last_commit_date: 2025-10-29 10:58:51 -0400
nebbiolo2Linux (Ubuntu 24.04.3 LTS) / x86_64  OK    OK    OK  UNNEEDED, same version is already published
lconwaymacOS 12.7.6 Monterey / x86_64  OK    OK    OK    OK  UNNEEDED, same version is already published
kjohnson3macOS 13.7.7 Ventura / arm64  OK    OK    OK    OK  UNNEEDED, same version is already published
Package 128/225HostnameOS / ArchINSTALLBUILDCHECKBUILD BIN
minfi 1.56.0  (landing page)
Kasper Daniel Hansen
git_last_commit: e6780b4
git_last_commit_date: 2025-10-29 10:09:18 -0400
nebbiolo2Linux (Ubuntu 24.04.3 LTS) / x86_64  OK    OK    OK  UNNEEDED, same version is already published
lconwaymacOS 12.7.6 Monterey / x86_64  OK    OK    OK    OK  UNNEEDED, same version is already published
kjohnson3macOS 13.7.7 Ventura / arm64  OK    OK    OK    OK  UNNEEDED, same version is already published
Package 129/225HostnameOS / ArchINSTALLBUILDCHECKBUILD BIN
MinimumDistance 1.54.0  (landing page)
Robert Scharpf
git_last_commit: ac79af7
git_last_commit_date: 2025-10-29 10:10:57 -0400
nebbiolo2Linux (Ubuntu 24.04.3 LTS) / x86_64  OK    OK    WARNINGS  UNNEEDED, same version is already published
lconwaymacOS 12.7.6 Monterey / x86_64  OK    OK    WARNINGS    OK  UNNEEDED, same version is already published
kjohnson3macOS 13.7.7 Ventura / arm64  OK    OK    WARNINGS    OK  UNNEEDED, same version is already published
Package 130/225HostnameOS / ArchINSTALLBUILDCHECKBUILD BIN
monaLisa 1.16.0  (landing page)
Michael Stadler
git_last_commit: fb7bf5b
git_last_commit_date: 2025-10-29 11:12:31 -0400
nebbiolo2Linux (Ubuntu 24.04.3 LTS) / x86_64  OK    OK    OK  UNNEEDED, same version is already published
lconwaymacOS 12.7.6 Monterey / x86_64  OK    OK    OK    OK  UNNEEDED, same version is already published
kjohnson3macOS 13.7.7 Ventura / arm64  OK    OK    OK    OK  UNNEEDED, same version is already published
Package 131/225HostnameOS / ArchINSTALLBUILDCHECKBUILD BIN
mosaics 2.48.0  (landing page)
Dongjun Chung
git_last_commit: 80f962c
git_last_commit_date: 2025-10-29 10:06:36 -0400
nebbiolo2Linux (Ubuntu 24.04.3 LTS) / x86_64  OK    OK    OK  UNNEEDED, same version is already published
lconwaymacOS 12.7.6 Monterey / x86_64  OK    OK    OK    OK  UNNEEDED, same version is already published
kjohnson3macOS 13.7.7 Ventura / arm64  OK    OK    OK    OK  UNNEEDED, same version is already published
Package 132/225HostnameOS / ArchINSTALLBUILDCHECKBUILD BIN
motifmatchr 1.32.0  (landing page)
Alicia Schep
git_last_commit: ef46b48
git_last_commit_date: 2025-10-29 10:38:55 -0400
nebbiolo2Linux (Ubuntu 24.04.3 LTS) / x86_64  OK    OK    OK  UNNEEDED, same version is already published
lconwaymacOS 12.7.6 Monterey / x86_64  OK    OK    OK    OK  UNNEEDED, same version is already published
kjohnson3macOS 13.7.7 Ventura / arm64  OK    OK    OK    OK  UNNEEDED, same version is already published
Package 133/225HostnameOS / ArchINSTALLBUILDCHECKBUILD BIN
MotifPeeker 1.2.0  (landing page)
Hiranyamaya Dash
git_last_commit: aee3e06
git_last_commit_date: 2025-10-29 11:33:15 -0400
nebbiolo2Linux (Ubuntu 24.04.3 LTS) / x86_64  OK    OK    OK  UNNEEDED, same version is already published
lconwaymacOS 12.7.6 Monterey / x86_64  OK    OK    OK    OK  UNNEEDED, same version is already published
kjohnson3macOS 13.7.7 Ventura / arm64  OK    OK    OK    OK  UNNEEDED, same version is already published
Package 134/225HostnameOS / ArchINSTALLBUILDCHECKBUILD BIN
motifTestR 1.6.0  (landing page)
Stevie Pederson
git_last_commit: 1ae0d82
git_last_commit_date: 2025-10-29 11:28:54 -0400
nebbiolo2Linux (Ubuntu 24.04.3 LTS) / x86_64  OK    OK    OK  UNNEEDED, same version is already published
lconwaymacOS 12.7.6 Monterey / x86_64  OK    OK    OK    OK  UNNEEDED, same version is already published
kjohnson3macOS 13.7.7 Ventura / arm64  OK    OK    OK    OK  UNNEEDED, same version is already published
Package 135/225HostnameOS / ArchINSTALLBUILDCHECKBUILD BIN
MouseFM 1.20.0  (landing page)
Matthias Munz
git_last_commit: d76d60a
git_last_commit_date: 2025-10-29 11:13:56 -0400
nebbiolo2Linux (Ubuntu 24.04.3 LTS) / x86_64  OK    OK    OK  UNNEEDED, same version is already published
lconwaymacOS 12.7.6 Monterey / x86_64  OK    OK    OK    OK  UNNEEDED, same version is already published
kjohnson3macOS 13.7.7 Ventura / arm64  OK    OK    OK    OK  UNNEEDED, same version is already published
Package 136/225HostnameOS / ArchINSTALLBUILDCHECKBUILD BIN
msgbsR 1.34.0  (landing page)
Benjamin Mayne
git_last_commit: 1016b01
git_last_commit_date: 2025-10-29 10:38:42 -0400
nebbiolo2Linux (Ubuntu 24.04.3 LTS) / x86_64  OK    OK    OK  UNNEEDED, same version is already published
lconwaymacOS 12.7.6 Monterey / x86_64  OK    OK    OK    OK  UNNEEDED, same version is already published
kjohnson3macOS 13.7.7 Ventura / arm64  OK    OK    OK    OK  UNNEEDED, same version is already published
Package 137/225HostnameOS / ArchINSTALLBUILDCHECKBUILD BIN
multicrispr 1.20.0  (landing page)
Aditya Bhagwat
git_last_commit: 1e84407
git_last_commit_date: 2025-10-29 10:59:55 -0400
nebbiolo2Linux (Ubuntu 24.04.3 LTS) / x86_64  OK    OK    OK  UNNEEDED, same version is already published
lconwaymacOS 12.7.6 Monterey / x86_64  OK    OK    OK    OK  UNNEEDED, same version is already published
kjohnson3macOS 13.7.7 Ventura / arm64  OK    OK    OK    OK  UNNEEDED, same version is already published
Package 138/225HostnameOS / ArchINSTALLBUILDCHECKBUILD BIN
MutationalPatterns 3.20.0  (landing page)
Mark van Roosmalen
git_last_commit: 25b6359
git_last_commit_date: 2025-10-29 10:35:07 -0400
nebbiolo2Linux (Ubuntu 24.04.3 LTS) / x86_64  OK    OK    ERROR  
lconwaymacOS 12.7.6 Monterey / x86_64  OK    ERROR  skippedskipped
kjohnson3macOS 13.7.7 Ventura / arm64  OK    ERROR  skippedskipped
Package 139/225HostnameOS / ArchINSTALLBUILDCHECKBUILD BIN
myvariant 1.40.0  (landing page)
Adam Mark, Chunlei Wu
git_last_commit: 7fa4399
git_last_commit_date: 2025-10-29 10:27:24 -0400
nebbiolo2Linux (Ubuntu 24.04.3 LTS) / x86_64  OK    OK    OK  UNNEEDED, same version is already published
lconwaymacOS 12.7.6 Monterey / x86_64  OK    OK    OK    OK  YES
kjohnson3macOS 13.7.7 Ventura / arm64  OK    ERROR  skippedskipped
Package 140/225HostnameOS / ArchINSTALLBUILDCHECKBUILD BIN
nearBynding 1.20.0  (landing page)
Veronica Busa
git_last_commit: a5f36da
git_last_commit_date: 2025-10-29 11:02:17 -0400
nebbiolo2Linux (Ubuntu 24.04.3 LTS) / x86_64  OK    OK    OK  UNNEEDED, same version is already published
lconwaymacOS 12.7.6 Monterey / x86_64  OK    OK    OK    OK  UNNEEDED, same version is already published
kjohnson3macOS 13.7.7 Ventura / arm64  OK    OK    OK    OK  UNNEEDED, same version is already published
Package 141/225HostnameOS / ArchINSTALLBUILDCHECKBUILD BIN
NoRCE 1.22.0  (landing page)
Gulden Olgun
git_last_commit: 355a24c
git_last_commit_date: 2025-10-29 10:57:38 -0400
nebbiolo2Linux (Ubuntu 24.04.3 LTS) / x86_64  OK    OK    OK  UNNEEDED, same version is already published
lconwaymacOS 12.7.6 Monterey / x86_64  OK    OK    OK    OK  UNNEEDED, same version is already published
kjohnson3macOS 13.7.7 Ventura / arm64  OK    OK    OK    OK  UNNEEDED, same version is already published
Package 142/225HostnameOS / ArchINSTALLBUILDCHECKBUILD BIN
nucleR 2.42.0  (landing page)
Alba Sala
git_last_commit: 90978c6
git_last_commit_date: 2025-10-29 10:08:16 -0400
nebbiolo2Linux (Ubuntu 24.04.3 LTS) / x86_64  OK    OK    WARNINGS  UNNEEDED, same version is already published
lconwaymacOS 12.7.6 Monterey / x86_64  OK    OK    WARNINGS    OK  UNNEEDED, same version is already published
kjohnson3macOS 13.7.7 Ventura / arm64  OK    OK    WARNINGS    OK  UNNEEDED, same version is already published
Package 143/225HostnameOS / ArchINSTALLBUILDCHECKBUILD BIN
nullranges 1.16.0  (landing page)
Michael Love
git_last_commit: 9352bd0
git_last_commit_date: 2025-10-29 11:12:51 -0400
nebbiolo2Linux (Ubuntu 24.04.3 LTS) / x86_64  OK    OK    OK  UNNEEDED, same version is already published
lconwaymacOS 12.7.6 Monterey / x86_64  OK    OK    OK    OK  UNNEEDED, same version is already published
kjohnson3macOS 13.7.7 Ventura / arm64  OK    OK    OK    OK  UNNEEDED, same version is already published
Package 144/225HostnameOS / ArchINSTALLBUILDCHECKBUILD BIN
OGRE 1.14.0  (landing page)
Sven Berres
git_last_commit: 0f074f4
git_last_commit_date: 2025-10-29 11:14:29 -0400
nebbiolo2Linux (Ubuntu 24.04.3 LTS) / x86_64  OK    OK    OK  UNNEEDED, same version is already published
lconwaymacOS 12.7.6 Monterey / x86_64  OK    OK    OK    OK  UNNEEDED, same version is already published
kjohnson3macOS 13.7.7 Ventura / arm64  OK    OK    OK    OK  UNNEEDED, same version is already published
Package 145/225HostnameOS / ArchINSTALLBUILDCHECKBUILD BIN
OMICsPCA 1.28.0  (landing page)
Subhadeep Das
git_last_commit: 57b6111
git_last_commit_date: 2025-10-29 10:47:49 -0400
nebbiolo2Linux (Ubuntu 24.04.3 LTS) / x86_64  OK    OK    OK  UNNEEDED, same version is already published
lconwaymacOS 12.7.6 Monterey / x86_64  OK    OK    OK    OK  UNNEEDED, same version is already published
kjohnson3macOS 13.7.7 Ventura / arm64  OK    OK    OK    OK  UNNEEDED, same version is already published
Package 146/225HostnameOS / ArchINSTALLBUILDCHECKBUILD BIN
Organism.dplyr 1.38.0  (landing page)
Martin Morgan
git_last_commit: d022acf
git_last_commit_date: 2025-10-29 10:37:10 -0400
nebbiolo2Linux (Ubuntu 24.04.3 LTS) / x86_64  OK    OK    ERROR  
lconwaymacOS 12.7.6 Monterey / x86_64  OK    OK    ERROR    OK  
kjohnson3macOS 13.7.7 Ventura / arm64  OK    OK    ERROR    OK  
Package 147/225HostnameOS / ArchINSTALLBUILDCHECKBUILD BIN
OrganismDbi 1.52.0  (landing page)
Bioconductor Package Maintainer
git_last_commit: bd13a8e
git_last_commit_date: 2025-10-29 10:12:00 -0400
nebbiolo2Linux (Ubuntu 24.04.3 LTS) / x86_64  OK    OK    OK  UNNEEDED, same version is already published
lconwaymacOS 12.7.6 Monterey / x86_64  OK    OK    OK    OK  UNNEEDED, same version is already published
kjohnson3macOS 13.7.7 Ventura / arm64  OK    OK    OK    OK  UNNEEDED, same version is already published
Package 148/225HostnameOS / ArchINSTALLBUILDCHECKBUILD BIN
panelcn.mops 1.32.0  (landing page)
Gundula Povysil
git_last_commit: 55f3146
git_last_commit_date: 2025-10-29 10:40:57 -0400
nebbiolo2Linux (Ubuntu 24.04.3 LTS) / x86_64  OK    OK    OK  UNNEEDED, same version is already published
lconwaymacOS 12.7.6 Monterey / x86_64  OK    OK    OK    OK  UNNEEDED, same version is already published
kjohnson3macOS 13.7.7 Ventura / arm64  OK    OK    OK    OK  UNNEEDED, same version is already published
Package 149/225HostnameOS / ArchINSTALLBUILDCHECKBUILD BIN
peakCombiner 1.0.0  (landing page)
Markus Muckenhuber
git_last_commit: 152407d
git_last_commit_date: 2025-10-29 11:38:29 -0400
nebbiolo2Linux (Ubuntu 24.04.3 LTS) / x86_64  OK    OK    OK  UNNEEDED, same version is already published
lconwaymacOS 12.7.6 Monterey / x86_64  OK    OK    OK    OK  UNNEEDED, same version is already published
kjohnson3macOS 13.7.7 Ventura / arm64  OK    OK    OK    OK  UNNEEDED, same version is already published
Package 150/225HostnameOS / ArchINSTALLBUILDCHECKBUILD BIN
periodicDNA 1.20.0  (landing page)
Jacques Serizay
git_last_commit: 4feee90
git_last_commit_date: 2025-10-29 11:01:58 -0400
nebbiolo2Linux (Ubuntu 24.04.3 LTS) / x86_64  OK    OK    WARNINGS  UNNEEDED, same version is already published
lconwaymacOS 12.7.6 Monterey / x86_64  OK    OK    WARNINGS    OK  UNNEEDED, same version is already published
kjohnson3macOS 13.7.7 Ventura / arm64  OK    OK    WARNINGS    OK  UNNEEDED, same version is already published
Package 151/225HostnameOS / ArchINSTALLBUILDCHECKBUILD BIN
PICB 1.2.0  (landing page)
Franziska Ahrend
git_last_commit: b93bc74
git_last_commit_date: 2025-10-29 11:34:05 -0400
nebbiolo2Linux (Ubuntu 24.04.3 LTS) / x86_64  OK    OK    OK  UNNEEDED, same version is already published
lconwaymacOS 12.7.6 Monterey / x86_64  OK    OK    OK    OK  UNNEEDED, same version is already published
kjohnson3macOS 13.7.7 Ventura / arm64  OK    OK    OK    OK  UNNEEDED, same version is already published
Package 152/225HostnameOS / ArchINSTALLBUILDCHECKBUILD BIN
pipeFrame 1.26.0  (landing page)
Zheng Wei
git_last_commit: baee5fd
git_last_commit_date: 2025-10-29 10:51:51 -0400
nebbiolo2Linux (Ubuntu 24.04.3 LTS) / x86_64  OK    OK    OK  UNNEEDED, same version is already published
lconwaymacOS 12.7.6 Monterey / x86_64  OK    OK    OK    OK  UNNEEDED, same version is already published
kjohnson3macOS 13.7.7 Ventura / arm64  OK    OK    OK    OK  UNNEEDED, same version is already published
Package 153/225HostnameOS / ArchINSTALLBUILDCHECKBUILD BIN
plyinteractions 1.8.0  (landing page)
Jacques Serizay
git_last_commit: 18a50a3
git_last_commit_date: 2025-10-29 11:25:39 -0400
nebbiolo2Linux (Ubuntu 24.04.3 LTS) / x86_64  OK    OK    OK  UNNEEDED, same version is already published
lconwaymacOS 12.7.6 Monterey / x86_64  OK    OK    OK    OK  UNNEEDED, same version is already published
kjohnson3macOS 13.7.7 Ventura / arm64  OK    OK    OK    OK  UNNEEDED, same version is already published
Package 154/225HostnameOS / ArchINSTALLBUILDCHECKBUILD BIN
plyranges 1.30.0  (landing page)
Michael Love
git_last_commit: 6243859
git_last_commit_date: 2025-10-29 10:44:22 -0400
nebbiolo2Linux (Ubuntu 24.04.3 LTS) / x86_64  OK    OK    OK  UNNEEDED, same version is already published
lconwaymacOS 12.7.6 Monterey / x86_64  OK    OK    OK    OK  UNNEEDED, same version is already published
kjohnson3macOS 13.7.7 Ventura / arm64  OK    OK    ERROR    OK  
Package 155/225HostnameOS / ArchINSTALLBUILDCHECKBUILD BIN
podkat 1.42.0  (landing page)
Ulrich Bodenhofer
git_last_commit: a5e8201
git_last_commit_date: 2025-10-29 10:24:59 -0400
nebbiolo2Linux (Ubuntu 24.04.3 LTS) / x86_64  OK    OK    OK  UNNEEDED, same version is already published
lconwaymacOS 12.7.6 Monterey / x86_64  OK    OK    OK    OK  UNNEEDED, same version is already published
kjohnson3macOS 13.7.7 Ventura / arm64  OK    OK    OK    OK  UNNEEDED, same version is already published
Package 156/225HostnameOS / ArchINSTALLBUILDCHECKBUILD BIN
pram 1.26.0  (landing page)
Peng Liu
git_last_commit: 18e4eb0
git_last_commit_date: 2025-10-29 10:50:34 -0400
nebbiolo2Linux (Ubuntu 24.04.3 LTS) / x86_64  OK    OK    OK  UNNEEDED, same version is already published
lconwaymacOS 12.7.6 Monterey / x86_64  OK    OK    OK    OK  UNNEEDED, same version is already published
kjohnson3macOS 13.7.7 Ventura / arm64  OK    OK    OK    OK  UNNEEDED, same version is already published
Package 157/225HostnameOS / ArchINSTALLBUILDCHECKBUILD BIN
prebs 1.50.0  (landing page)
Karolis Uziela
git_last_commit: a3b9bf7
git_last_commit_date: 2025-10-29 10:14:39 -0400
nebbiolo2Linux (Ubuntu 24.04.3 LTS) / x86_64  OK    OK    OK  UNNEEDED, same version is already published
lconwaymacOS 12.7.6 Monterey / x86_64  OK    OK    OK    OK  UNNEEDED, same version is already published
kjohnson3macOS 13.7.7 Ventura / arm64  OK    OK    OK    OK  UNNEEDED, same version is already published
Package 158/225HostnameOS / ArchINSTALLBUILDCHECKBUILD BIN
profileplyr 1.26.0  (landing page)
Tom Carroll , Doug Barrows
git_last_commit: b8113ee
git_last_commit_date: 2025-10-29 10:51:25 -0400
nebbiolo2Linux (Ubuntu 24.04.3 LTS) / x86_64  OK    OK    OK  NO, package depends on 'soGGi' which is not available
lconwaymacOS 12.7.6 Monterey / x86_64  OK    OK    OK    OK  NO, package depends on 'soGGi' which is not available
kjohnson3macOS 13.7.7 Ventura / arm64  OK    OK    OK    OK  NO, package depends on 'soGGi' which is not available
Package 159/225HostnameOS / ArchINSTALLBUILDCHECKBUILD BIN
ProteoDisco 1.16.0  (landing page)
Job van Riet
git_last_commit: d4be16c
git_last_commit_date: 2025-10-29 11:11:51 -0400
nebbiolo2Linux (Ubuntu 24.04.3 LTS) / x86_64  OK    OK    WARNINGS  UNNEEDED, same version is already published
lconwaymacOS 12.7.6 Monterey / x86_64  OK    OK    WARNINGS    OK  UNNEEDED, same version is already published
kjohnson3macOS 13.7.7 Ventura / arm64  OK    OK    WARNINGS    OK  UNNEEDED, same version is already published
Package 160/225HostnameOS / ArchINSTALLBUILDCHECKBUILD BIN
PureCN 2.16.0  (landing page)
Markus Riester
git_last_commit: c7ace8b
git_last_commit_date: 2025-10-29 10:31:57 -0400
nebbiolo2Linux (Ubuntu 24.04.3 LTS) / x86_64  OK    OK    OK  UNNEEDED, same version is already published
lconwaymacOS 12.7.6 Monterey / x86_64  OK    OK    OK    OK  UNNEEDED, same version is already published
kjohnson3macOS 13.7.7 Ventura / arm64  OK    OK    OK    OK  UNNEEDED, same version is already published
Package 161/225HostnameOS / ArchINSTALLBUILDCHECKBUILD BIN
QDNAseq 1.46.0  (landing page)
Daoud Sie
git_last_commit: 00b06a1
git_last_commit_date: 2025-10-29 10:18:34 -0400
nebbiolo2Linux (Ubuntu 24.04.3 LTS) / x86_64  OK    OK    OK  UNNEEDED, same version is already published
lconwaymacOS 12.7.6 Monterey / x86_64  OK    OK    OK    OK  UNNEEDED, same version is already published
kjohnson3macOS 13.7.7 Ventura / arm64  OK    OK    OK    OK  UNNEEDED, same version is already published
Package 162/225HostnameOS / ArchINSTALLBUILDCHECKBUILD BIN
qpgraph 2.44.0  (landing page)
Robert Castelo
git_last_commit: 7de7e0c
git_last_commit_date: 2025-10-29 10:02:10 -0400
nebbiolo2Linux (Ubuntu 24.04.3 LTS) / x86_64  OK    OK    OK  UNNEEDED, same version is already published
lconwaymacOS 12.7.6 Monterey / x86_64  OK    OK    OK    OK  UNNEEDED, same version is already published
kjohnson3macOS 13.7.7 Ventura / arm64  OK    OK    OK    OK  UNNEEDED, same version is already published
Package 163/225HostnameOS / ArchINSTALLBUILDCHECKBUILD BIN
qsea 1.36.0  (landing page)
Matthias Lienhard
git_last_commit: a9ac816
git_last_commit_date: 2025-10-29 10:32:56 -0400
nebbiolo2Linux (Ubuntu 24.04.3 LTS) / x86_64  OK    OK    WARNINGS  UNNEEDED, same version is already published
lconwaymacOS 12.7.6 Monterey / x86_64  ERROR    ERROR  skippedskipped
kjohnson3macOS 13.7.7 Ventura / arm64  ERROR    ERROR  skippedskipped
Package 164/225HostnameOS / ArchINSTALLBUILDCHECKBUILD BIN
QuasR 1.50.0  (landing page)
Michael Stadler
git_last_commit: 3274f2d
git_last_commit_date: 2025-10-29 10:13:16 -0400
nebbiolo2Linux (Ubuntu 24.04.3 LTS) / x86_64  OK    OK    WARNINGS  UNNEEDED, same version is already published
lconwaymacOS 12.7.6 Monterey / x86_64  OK    OK    WARNINGS    OK  UNNEEDED, same version is already published
kjohnson3macOS 13.7.7 Ventura / arm64  OK    OK    WARNINGS    OK  UNNEEDED, same version is already published
Package 165/225HostnameOS / ArchINSTALLBUILDCHECKBUILD BIN
r3Cseq 1.56.0  (landing page)
Supat Thongjuea or
git_last_commit: 4184f01
git_last_commit_date: 2025-10-29 10:09:24 -0400
nebbiolo2Linux (Ubuntu 24.04.3 LTS) / x86_64  OK    OK    OK  UNNEEDED, same version is already published
lconwaymacOS 12.7.6 Monterey / x86_64  OK    OK    OK    OK  UNNEEDED, same version is already published
kjohnson3macOS 13.7.7 Ventura / arm64  OK    OK    OK    OK  UNNEEDED, same version is already published
Package 166/225HostnameOS / ArchINSTALLBUILDCHECKBUILD BIN
raer 1.8.0  (landing page)
Kent Riemondy
git_last_commit: 1e83c0c
git_last_commit_date: 2025-10-29 11:26:05 -0400
nebbiolo2Linux (Ubuntu 24.04.3 LTS) / x86_64  OK    OK    OK  UNNEEDED, same version is already published
lconwaymacOS 12.7.6 Monterey / x86_64  OK    OK    OK    OK  UNNEEDED, same version is already published
kjohnson3macOS 13.7.7 Ventura / arm64  OK    OK    OK    OK  UNNEEDED, same version is already published
Package 167/225HostnameOS / ArchINSTALLBUILDCHECKBUILD BIN
RaggedExperiment 1.34.0  (landing page)
Marcel Ramos
git_last_commit: 2cf1b41
git_last_commit_date: 2025-10-29 10:37:59 -0400
nebbiolo2Linux (Ubuntu 24.04.3 LTS) / x86_64  OK    OK    OK  UNNEEDED, same version is already published
lconwaymacOS 12.7.6 Monterey / x86_64  OK    OK    OK    OK  UNNEEDED, same version is already published
kjohnson3macOS 13.7.7 Ventura / arm64  OK    OK    OK    OK  UNNEEDED, same version is already published
Package 168/225HostnameOS / ArchINSTALLBUILDCHECKBUILD BIN
ramr 1.18.0  (landing page)
Oleksii Nikolaienko
git_last_commit: f809d5f
git_last_commit_date: 2025-10-29 11:05:28 -0400
nebbiolo2Linux (Ubuntu 24.04.3 LTS) / x86_64  OK    OK    OK  UNNEEDED, same version is already published
lconwaymacOS 12.7.6 Monterey / x86_64  OK    OK    OK    OK  UNNEEDED, same version is already published
kjohnson3macOS 13.7.7 Ventura / arm64  OK    OK    OK    OK  UNNEEDED, same version is already published
Package 169/225HostnameOS / ArchINSTALLBUILDCHECKBUILD BIN
rCGH 1.40.0  (landing page)
Frederic Commo
git_last_commit: 2a97521
git_last_commit_date: 2025-10-29 10:26:46 -0400
nebbiolo2Linux (Ubuntu 24.04.3 LTS) / x86_64  OK    OK    OK  UNNEEDED, same version is already published
lconwaymacOS 12.7.6 Monterey / x86_64  OK    OK    OK    OK  UNNEEDED, same version is already published
kjohnson3macOS 13.7.7 Ventura / arm64  OK    OK    OK    OK  UNNEEDED, same version is already published
Package 170/225HostnameOS / ArchINSTALLBUILDCHECKBUILD BIN
recoup 1.38.0  (landing page)
Panagiotis Moulos
git_last_commit: 7728d2d
git_last_commit_date: 2025-10-29 10:31:02 -0400
nebbiolo2Linux (Ubuntu 24.04.3 LTS) / x86_64  OK    OK    OK  UNNEEDED, same version is already published
lconwaymacOS 12.7.6 Monterey / x86_64  OK    OK    OK    OK  UNNEEDED, same version is already published
kjohnson3macOS 13.7.7 Ventura / arm64  OK    OK    OK    OK  UNNEEDED, same version is already published
Package 171/225HostnameOS / ArchINSTALLBUILDCHECKBUILD BIN
regioneR 1.42.0  (landing page)
Bernat Gel
git_last_commit: eb018a1
git_last_commit_date: 2025-10-29 10:25:09 -0400
nebbiolo2Linux (Ubuntu 24.04.3 LTS) / x86_64  OK    OK    OK  UNNEEDED, same version is already published
lconwaymacOS 12.7.6 Monterey / x86_64  OK    OK    OK    OK  UNNEEDED, same version is already published
kjohnson3macOS 13.7.7 Ventura / arm64  OK    OK    OK    OK  UNNEEDED, same version is already published
Package 172/225HostnameOS / ArchINSTALLBUILDCHECKBUILD BIN
regionReport 1.44.0  (landing page)
Leonardo Collado-Torres
git_last_commit: 0ae7ca5
git_last_commit_date: 2025-10-29 10:21:56 -0400
nebbiolo2Linux (Ubuntu 24.04.3 LTS) / x86_64  OK    OK    OK  UNNEEDED, same version is already published
lconwaymacOS 12.7.6 Monterey / x86_64  OK    OK    OK    OK  UNNEEDED, same version is already published
kjohnson3macOS 13.7.7 Ventura / arm64  OK    OK    OK    OK  UNNEEDED, same version is already published
Package 173/225HostnameOS / ArchINSTALLBUILDCHECKBUILD BIN
REMP 1.34.0  (landing page)
Yinan Zheng
git_last_commit: 7f2a04f
git_last_commit_date: 2025-10-29 10:36:53 -0400
nebbiolo2Linux (Ubuntu 24.04.3 LTS) / x86_64  OK    OK    OK  UNNEEDED, same version is already published
lconwaymacOS 12.7.6 Monterey / x86_64  OK    OK    OK    OK  UNNEEDED, same version is already published
kjohnson3macOS 13.7.7 Ventura / arm64  OK    OK    OK    OK  UNNEEDED, same version is already published
Package 174/225HostnameOS / ArchINSTALLBUILDCHECKBUILD BIN
Repitools 1.56.0  (landing page)
Mark Robinson
git_last_commit: e46521a
git_last_commit_date: 2025-10-29 10:08:02 -0400
nebbiolo2Linux (Ubuntu 24.04.3 LTS) / x86_64  ERROR    ERROR  skipped
lconwaymacOS 12.7.6 Monterey / x86_64  ERROR    ERROR  skippedskipped
kjohnson3macOS 13.7.7 Ventura / arm64  ERROR    ERROR  skippedskipped
Package 175/225HostnameOS / ArchINSTALLBUILDCHECKBUILD BIN
rfPred 1.48.0  (landing page)
Hugo Varet
git_last_commit: a86c9b0
git_last_commit_date: 2025-10-29 10:15:50 -0400
nebbiolo2Linux (Ubuntu 24.04.3 LTS) / x86_64  OK    OK    OK  UNNEEDED, same version is already published
lconwaymacOS 12.7.6 Monterey / x86_64  OK    OK    OK    OK  UNNEEDED, same version is already published
kjohnson3macOS 13.7.7 Ventura / arm64  OK    OK    OK    OK  UNNEEDED, same version is already published
Package 176/225HostnameOS / ArchINSTALLBUILDCHECKBUILD BIN
RgnTX 1.12.0  (landing page)
Yue Wang
git_last_commit: 6613ae3
git_last_commit_date: 2025-10-29 11:17:15 -0400
nebbiolo2Linux (Ubuntu 24.04.3 LTS) / x86_64  OK    ERROR  skipped
lconwaymacOS 12.7.6 Monterey / x86_64  OK    ERROR  skippedskipped
kjohnson3macOS 13.7.7 Ventura / arm64  OK    ERROR  skippedskipped
Package 177/225HostnameOS / ArchINSTALLBUILDCHECKBUILD BIN
RiboCrypt 1.16.0  (landing page)
Michal Swirski
git_last_commit: e202b8e
git_last_commit_date: 2025-10-29 11:13:40 -0400
nebbiolo2Linux (Ubuntu 24.04.3 LTS) / x86_64  OK    OK    OK  UNNEEDED, same version is already published
lconwaymacOS 12.7.6 Monterey / x86_64  OK    OK    OK    OK  UNNEEDED, same version is already published
kjohnson3macOS 13.7.7 Ventura / arm64  OK    OK    OK    OK  UNNEEDED, same version is already published
Package 178/225HostnameOS / ArchINSTALLBUILDCHECKBUILD BIN
RiboProfiling 1.40.0  (landing page)
A. Popa
git_last_commit: 43cc4ee
git_last_commit_date: 2025-10-29 10:28:21 -0400
nebbiolo2Linux (Ubuntu 24.04.3 LTS) / x86_64  OK    ERROR  skipped
lconwaymacOS 12.7.6 Monterey / x86_64  OK    ERROR  skippedskipped
kjohnson3macOS 13.7.7 Ventura / arm64  OK    ERROR  skippedskipped
Package 179/225HostnameOS / ArchINSTALLBUILDCHECKBUILD BIN
riboSeqR 1.44.0  (landing page)
Samuel Granjeaud
git_last_commit: d196728
git_last_commit_date: 2025-10-29 10:20:05 -0400
nebbiolo2Linux (Ubuntu 24.04.3 LTS) / x86_64  OK    OK    OK  UNNEEDED, same version is already published
lconwaymacOS 12.7.6 Monterey / x86_64  OK    OK    OK    OK  UNNEEDED, same version is already published
kjohnson3macOS 13.7.7 Ventura / arm64  OK    OK    OK    OK  UNNEEDED, same version is already published
Package 180/225HostnameOS / ArchINSTALLBUILDCHECKBUILD BIN
ribosomeProfilingQC 1.22.0  (landing page)
Jianhong Ou
git_last_commit: d8ce3bd
git_last_commit_date: 2025-10-29 10:57:03 -0400
nebbiolo2Linux (Ubuntu 24.04.3 LTS) / x86_64  OK    OK    OK  UNNEEDED, same version is already published
lconwaymacOS 12.7.6 Monterey / x86_64  OK    OK    OK    OK  UNNEEDED, same version is already published
kjohnson3macOS 13.7.7 Ventura / arm64  OK    OK    OK    OK  UNNEEDED, same version is already published
Package 181/225HostnameOS / ArchINSTALLBUILDCHECKBUILD BIN
rigvf 1.2.0  (landing page)
Michael Love
git_last_commit: 790a647
git_last_commit_date: 2025-10-29 11:35:13 -0400
nebbiolo2Linux (Ubuntu 24.04.3 LTS) / x86_64  OK    OK    OK  UNNEEDED, same version is already published
lconwaymacOS 12.7.6 Monterey / x86_64  OK    OK    OK    OK  UNNEEDED, same version is already published
kjohnson3macOS 13.7.7 Ventura / arm64  OK    OK    OK    OK  UNNEEDED, same version is already published
Package 182/225HostnameOS / ArchINSTALLBUILDCHECKBUILD BIN
RJMCMCNucleosomes 1.34.0  (landing page)
Astrid Deschênes
git_last_commit: 91e1b58
git_last_commit_date: 2025-10-29 10:36:10 -0400
nebbiolo2Linux (Ubuntu 24.04.3 LTS) / x86_64  OK    OK    OK  UNNEEDED, same version is already published
lconwaymacOS 12.7.6 Monterey / x86_64  OK    OK    OK    OK  UNNEEDED, same version is already published
kjohnson3macOS 13.7.7 Ventura / arm64  OK    OK    OK    OK  UNNEEDED, same version is already published
Package 183/225HostnameOS / ArchINSTALLBUILDCHECKBUILD BIN
rnaEditr 1.20.0  (landing page)
Lanyu Zhang
git_last_commit: 326b028
git_last_commit_date: 2025-10-29 11:03:10 -0400
nebbiolo2Linux (Ubuntu 24.04.3 LTS) / x86_64  OK    OK    WARNINGS  UNNEEDED, same version is already published
lconwaymacOS 12.7.6 Monterey / x86_64  OK    OK    WARNINGS    OK  UNNEEDED, same version is already published
kjohnson3macOS 13.7.7 Ventura / arm64  OK    OK    WARNINGS    OK  UNNEEDED, same version is already published
Package 184/225HostnameOS / ArchINSTALLBUILDCHECKBUILD BIN
RNAmodR 1.24.0  (landing page)
Felix G.M. Ernst
git_last_commit: 683b357
git_last_commit_date: 2025-10-29 10:52:38 -0400
nebbiolo2Linux (Ubuntu 24.04.3 LTS) / x86_64  OK    OK    OK  UNNEEDED, same version is already published
lconwaymacOS 12.7.6 Monterey / x86_64  OK    OK    OK    OK  UNNEEDED, same version is already published
kjohnson3macOS 13.7.7 Ventura / arm64  OK    OK    OK    OK  UNNEEDED, same version is already published
Package 185/225HostnameOS / ArchINSTALLBUILDCHECKBUILD BIN
Rsamtools 2.26.0  (landing page)
Bioconductor Package Maintainer
git_last_commit: ea99fb0
git_last_commit_date: 2025-10-29 10:04:41 -0400
nebbiolo2Linux (Ubuntu 24.04.3 LTS) / x86_64  OK    OK    WARNINGS  UNNEEDED, same version is already published
lconwaymacOS 12.7.6 Monterey / x86_64  OK    OK    WARNINGS    OK  UNNEEDED, same version is already published
kjohnson3macOS 13.7.7 Ventura / arm64  OK    OK    WARNINGS    OK  UNNEEDED, same version is already published
Package 186/225HostnameOS / ArchINSTALLBUILDCHECKBUILD BIN
RTCGAToolbox 2.40.0  (landing page)
Marcel Ramos
git_last_commit: 7f9df8a
git_last_commit_date: 2025-10-29 10:26:09 -0400
nebbiolo2Linux (Ubuntu 24.04.3 LTS) / x86_64  OK    OK    OK  UNNEEDED, same version is already published
lconwaymacOS 12.7.6 Monterey / x86_64  OK    OK    OK    OK  UNNEEDED, same version is already published
kjohnson3macOS 13.7.7 Ventura / arm64  OK    OK    OK    OK  UNNEEDED, same version is already published
Package 187/225HostnameOS / ArchINSTALLBUILDCHECKBUILD BIN
rtracklayer 1.70.0  (landing page)
Michael Lawrence
git_last_commit: b6dc2ec
git_last_commit_date: 2025-10-29 10:00:29 -0400
nebbiolo2Linux (Ubuntu 24.04.3 LTS) / x86_64  OK    OK    WARNINGS  UNNEEDED, same version is already published
lconwaymacOS 12.7.6 Monterey / x86_64  OK    OK    WARNINGS    OK  UNNEEDED, same version is already published
kjohnson3macOS 13.7.7 Ventura / arm64  OK    OK    WARNINGS    OK  UNNEEDED, same version is already published
Package 188/225HostnameOS / ArchINSTALLBUILDCHECKBUILD BIN
scanMiR 1.16.0  (landing page)
Pierre-Luc Germain
git_last_commit: fa9b00a
git_last_commit_date: 2025-10-29 11:10:43 -0400
nebbiolo2Linux (Ubuntu 24.04.3 LTS) / x86_64  OK    OK    OK  UNNEEDED, same version is already published
lconwaymacOS 12.7.6 Monterey / x86_64  OK    OK    OK    OK  UNNEEDED, same version is already published
kjohnson3macOS 13.7.7 Ventura / arm64  OK    OK    OK    OK  UNNEEDED, same version is already published
Package 189/225HostnameOS / ArchINSTALLBUILDCHECKBUILD BIN
scmeth 1.30.0  (landing page)
Divy Kangeyan
git_last_commit: 0e01390
git_last_commit_date: 2025-10-29 10:43:21 -0400
nebbiolo2Linux (Ubuntu 24.04.3 LTS) / x86_64  OK    OK    OK  UNNEEDED, same version is already published
lconwaymacOS 12.7.6 Monterey / x86_64  OK    OK    OK    OK  UNNEEDED, same version is already published
kjohnson3macOS 13.7.7 Ventura / arm64  OK    OK    OK    OK  UNNEEDED, same version is already published
Package 190/225HostnameOS / ArchINSTALLBUILDCHECKBUILD BIN
segmentSeq 2.44.0  (landing page)
Samuel Granjeaud
git_last_commit: cab2d96
git_last_commit_date: 2025-10-29 10:04:32 -0400
nebbiolo2Linux (Ubuntu 24.04.3 LTS) / x86_64  OK    OK    OK  UNNEEDED, same version is already published
lconwaymacOS 12.7.6 Monterey / x86_64  OK    OK    OK    OK  UNNEEDED, same version is already published
kjohnson3macOS 13.7.7 Ventura / arm64  OK    OK    OK    OK  UNNEEDED, same version is already published
Package 191/225HostnameOS / ArchINSTALLBUILDCHECKBUILD BIN
seqArchRplus 1.10.0  (landing page)
Sarvesh Nikumbh
git_last_commit: 7ad13f0
git_last_commit_date: 2025-10-29 11:20:15 -0400
nebbiolo2Linux (Ubuntu 24.04.3 LTS) / x86_64  OK    OK    ERROR  
lconwaymacOS 12.7.6 Monterey / x86_64  OK    OK    ERROR    OK  
kjohnson3macOS 13.7.7 Ventura / arm64  OK    OK    ERROR    OK  
Package 192/225HostnameOS / ArchINSTALLBUILDCHECKBUILD BIN
SeqArray 1.50.0  (landing page)
Xiuwen Zheng
git_last_commit: e6376f0
git_last_commit_date: 2025-10-29 10:14:07 -0400
nebbiolo2Linux (Ubuntu 24.04.3 LTS) / x86_64  OK    OK    OK  UNNEEDED, same version is already published
lconwaymacOS 12.7.6 Monterey / x86_64  OK    OK    OK    OK  UNNEEDED, same version is already published
kjohnson3macOS 13.7.7 Ventura / arm64  OK    OK    OK    OK  UNNEEDED, same version is already published
Package 193/225HostnameOS / ArchINSTALLBUILDCHECKBUILD BIN
seqsetvis 1.30.0  (landing page)
Joseph R Boyd
git_last_commit: 079b602
git_last_commit_date: 2025-10-29 10:44:19 -0400
nebbiolo2Linux (Ubuntu 24.04.3 LTS) / x86_64  OK    OK    OK  UNNEEDED, same version is already published
lconwaymacOS 12.7.6 Monterey / x86_64  OK    OK    OK    OK  UNNEEDED, same version is already published
kjohnson3macOS 13.7.7 Ventura / arm64  OK    OK    OK    OK  UNNEEDED, same version is already published
Package 194/225HostnameOS / ArchINSTALLBUILDCHECKBUILD BIN
sesame 1.28.0  (landing page)
Wanding Zhou
git_last_commit: f0f05cb
git_last_commit_date: 2025-10-29 10:46:05 -0400
nebbiolo2Linux (Ubuntu 24.04.3 LTS) / x86_64  OK    OK    OK  UNNEEDED, same version is already published
lconwaymacOS 12.7.6 Monterey / x86_64  OK    OK    OK    OK  UNNEEDED, same version is already published
kjohnson3macOS 13.7.7 Ventura / arm64  OK    OK    OK    OK  UNNEEDED, same version is already published
Package 195/225HostnameOS / ArchINSTALLBUILDCHECKBUILD BIN
sevenC 1.30.0  (landing page)
Jonas Ibn-Salem
git_last_commit: c38ab75
git_last_commit_date: 2025-10-29 10:45:03 -0400
nebbiolo2Linux (Ubuntu 24.04.3 LTS) / x86_64  OK    OK    OK  UNNEEDED, same version is already published
lconwaymacOS 12.7.6 Monterey / x86_64  OK    OK    OK    OK  UNNEEDED, same version is already published
kjohnson3macOS 13.7.7 Ventura / arm64  OK    OK    OK    OK  UNNEEDED, same version is already published
Package 196/225HostnameOS / ArchINSTALLBUILDCHECKBUILD BIN
SGSeq 1.44.0  (landing page)
Leonard Goldstein
git_last_commit: 2a90d1b
git_last_commit_date: 2025-10-29 10:22:27 -0400
nebbiolo2Linux (Ubuntu 24.04.3 LTS) / x86_64  OK    OK    OK  UNNEEDED, same version is already published
lconwaymacOS 12.7.6 Monterey / x86_64  OK    OK    OK    OK  UNNEEDED, same version is already published
kjohnson3macOS 13.7.7 Ventura / arm64  OK    OK    OK    OK  UNNEEDED, same version is already published
Package 197/225HostnameOS / ArchINSTALLBUILDCHECKBUILD BIN
ShortRead 1.68.0  (landing page)
Bioconductor Package Maintainer
git_last_commit: df90c87
git_last_commit_date: 2025-10-29 10:00:34 -0400
nebbiolo2Linux (Ubuntu 24.04.3 LTS) / x86_64  OK    OK    WARNINGS  UNNEEDED, same version is already published
lconwaymacOS 12.7.6 Monterey / x86_64  OK    OK    WARNINGS    OK  UNNEEDED, same version is already published
kjohnson3macOS 13.7.7 Ventura / arm64  OK    OK    WARNINGS    OK  UNNEEDED, same version is already published
Package 198/225HostnameOS / ArchINSTALLBUILDCHECKBUILD BIN
SingleMoleculeFootprinting 2.4.0  (landing page)
Guido Barzaghi
git_last_commit: a905f25
git_last_commit_date: 2025-10-29 11:10:00 -0400
nebbiolo2Linux (Ubuntu 24.04.3 LTS) / x86_64  OK    OK    OK  UNNEEDED, same version is already published
lconwaymacOS 12.7.6 Monterey / x86_64  OK    OK    OK    OK  UNNEEDED, same version is already published
kjohnson3macOS 13.7.7 Ventura / arm64  OK    OK    OK    OK  UNNEEDED, same version is already published
Package 199/225HostnameOS / ArchINSTALLBUILDCHECKBUILD BIN
sitadela 1.18.0  (landing page)
Panagiotis Moulos
git_last_commit: 84fdb44
git_last_commit_date: 2025-10-29 11:07:04 -0400
nebbiolo2Linux (Ubuntu 24.04.3 LTS) / x86_64  OK    OK    OK  UNNEEDED, same version is already published
lconwaymacOS 12.7.6 Monterey / x86_64  OK    OK    OK    OK  UNNEEDED, same version is already published
kjohnson3macOS 13.7.7 Ventura / arm64  OK    OK    OK    OK  UNNEEDED, same version is already published
Package 200/225HostnameOS / ArchINSTALLBUILDCHECKBUILD BIN
soGGi 1.42.0  (landing page)
Tom Carroll
git_last_commit: 857d021
git_last_commit_date: 2025-10-29 10:25:37 -0400
nebbiolo2Linux (Ubuntu 24.04.3 LTS) / x86_64  OK    OK    ERROR  
lconwaymacOS 12.7.6 Monterey / x86_64  OK    OK    ERROR    OK  
kjohnson3macOS 13.7.7 Ventura / arm64  OK    OK    ERROR    OK  
Package 201/225HostnameOS / ArchINSTALLBUILDCHECKBUILD BIN
SomaticSignatures 2.46.0  (landing page)
Julian Gehring
git_last_commit: 7058eda
git_last_commit_date: 2025-10-29 10:17:57 -0400
nebbiolo2Linux (Ubuntu 24.04.3 LTS) / x86_64  OK    OK    OK  UNNEEDED, same version is already published
lconwaymacOS 12.7.6 Monterey / x86_64  OK    OK    OK    OK  UNNEEDED, same version is already published
kjohnson3macOS 13.7.7 Ventura / arm64  OK    OK    ERROR    OK  
Package 202/225HostnameOS / ArchINSTALLBUILDCHECKBUILD BIN
spatzie 1.16.0  (landing page)
Jennifer Hammelman
git_last_commit: 7892310
git_last_commit_date: 2025-10-29 11:11:08 -0400
nebbiolo2Linux (Ubuntu 24.04.3 LTS) / x86_64  OK    OK    ERROR  
lconwaymacOS 12.7.6 Monterey / x86_64  OK    OK    ERROR    OK  
kjohnson3macOS 13.7.7 Ventura / arm64  OK    OK    ERROR    OK  
Package 203/225HostnameOS / ArchINSTALLBUILDCHECKBUILD BIN
SplicingGraphs 1.50.0  (landing page)
H. Pagès
git_last_commit: 91028d7
git_last_commit_date: 2025-10-29 10:14:47 -0400
nebbiolo2Linux (Ubuntu 24.04.3 LTS) / x86_64  OK    ERROR  skipped
lconwaymacOS 12.7.6 Monterey / x86_64  OK    ERROR  skippedskipped
kjohnson3macOS 13.7.7 Ventura / arm64  OK    ERROR  skippedskipped
Package 204/225HostnameOS / ArchINSTALLBUILDCHECKBUILD BIN
SPLINTER 1.36.0  (landing page)
Diana Low
git_last_commit: 00c62ac
git_last_commit_date: 2025-10-29 10:34:37 -0400
nebbiolo2Linux (Ubuntu 24.04.3 LTS) / x86_64  OK    OK    OK  UNNEEDED, same version is already published
lconwaymacOS 12.7.6 Monterey / x86_64  OK    OK    OK    OK  UNNEEDED, same version is already published
kjohnson3macOS 13.7.7 Ventura / arm64  OK    ERROR  skippedskipped
Package 205/225HostnameOS / ArchINSTALLBUILDCHECKBUILD BIN
srnadiff 1.30.0  (landing page)
Zytnicki Matthias
git_last_commit: 809d1c9
git_last_commit_date: 2025-10-29 10:43:01 -0400
nebbiolo2Linux (Ubuntu 24.04.3 LTS) / x86_64  OK    OK    WARNINGS  UNNEEDED, same version is already published
lconwaymacOS 12.7.6 Monterey / x86_64  OK    OK    WARNINGS    OK  UNNEEDED, same version is already published
kjohnson3macOS 13.7.7 Ventura / arm64  OK    OK    WARNINGS    OK  UNNEEDED, same version is already published
Package 206/225HostnameOS / ArchINSTALLBUILDCHECKBUILD BIN
strandCheckR 1.28.0  (landing page)
Thu-Hien To
git_last_commit: 01a9239
git_last_commit_date: 2025-10-29 10:46:35 -0400
nebbiolo2Linux (Ubuntu 24.04.3 LTS) / x86_64  OK    OK    OK  UNNEEDED, same version is already published
lconwaymacOS 12.7.6 Monterey / x86_64  OK    OK    OK    OK  UNNEEDED, same version is already published
kjohnson3macOS 13.7.7 Ventura / arm64  OK    OK    OK    OK  UNNEEDED, same version is already published
Package 207/225HostnameOS / ArchINSTALLBUILDCHECKBUILD BIN
SummarizedExperiment 1.40.0  (landing page)
Hervé Pagès
git_last_commit: 469a2de
git_last_commit_date: 2025-10-29 14:00:01 -0400
nebbiolo2Linux (Ubuntu 24.04.3 LTS) / x86_64  OK    OK    OK  UNNEEDED, same version is already published
lconwaymacOS 12.7.6 Monterey / x86_64  OK    OK    OK    OK  UNNEEDED, same version is already published
kjohnson3macOS 13.7.7 Ventura / arm64  OK    OK    OK    OK  UNNEEDED, same version is already published
Package 208/225HostnameOS / ArchINSTALLBUILDCHECKBUILD BIN
svaNUMT 1.16.0  (landing page)
Ruining Dong
git_last_commit: 87701e2
git_last_commit_date: 2025-10-29 11:10:38 -0400
nebbiolo2Linux (Ubuntu 24.04.3 LTS) / x86_64  OK    OK    OK  UNNEEDED, same version is already published
lconwaymacOS 12.7.6 Monterey / x86_64  OK    OK    OK    OK  UNNEEDED, same version is already published
kjohnson3macOS 13.7.7 Ventura / arm64  OK    OK    OK    OK  UNNEEDED, same version is already published
Package 209/225HostnameOS / ArchINSTALLBUILDCHECKBUILD BIN
svaRetro 1.16.0  (landing page)
Ruining Dong
git_last_commit: 11afdf0
git_last_commit_date: 2025-10-29 11:11:45 -0400
nebbiolo2Linux (Ubuntu 24.04.3 LTS) / x86_64  OK    ERROR  skipped
lconwaymacOS 12.7.6 Monterey / x86_64  OK    ERROR  skippedskipped
kjohnson3macOS 13.7.7 Ventura / arm64  OK    ERROR  skippedskipped
Package 210/225HostnameOS / ArchINSTALLBUILDCHECKBUILD BIN
tadar 1.8.0  (landing page)
Lachlan Baer
git_last_commit: bdb4556
git_last_commit_date: 2025-10-29 11:25:24 -0400
nebbiolo2Linux (Ubuntu 24.04.3 LTS) / x86_64  OK    OK    OK  UNNEEDED, same version is already published
lconwaymacOS 12.7.6 Monterey / x86_64  OK    OK    OK    OK  UNNEEDED, same version is already published
kjohnson3macOS 13.7.7 Ventura / arm64  OK    OK    OK    OK  UNNEEDED, same version is already published
Package 211/225HostnameOS / ArchINSTALLBUILDCHECKBUILD BIN
TCGAutils 1.30.0  (landing page)
Marcel Ramos
git_last_commit: 4195bdf
git_last_commit_date: 2025-10-29 10:45:09 -0400
nebbiolo2Linux (Ubuntu 24.04.3 LTS) / x86_64  OK    OK    ERROR  
lconwaymacOS 12.7.6 Monterey / x86_64  OK    OK    ERROR    OK  
kjohnson3macOS 13.7.7 Ventura / arm64  OK    OK    ERROR    OK  
Package 212/225HostnameOS / ArchINSTALLBUILDCHECKBUILD BIN
TEKRABber 1.14.0  (landing page)
Yao-Chung Chen
git_last_commit: 3191b35
git_last_commit_date: 2025-10-29 11:14:57 -0400
nebbiolo2Linux (Ubuntu 24.04.3 LTS) / x86_64  OK    OK    OK  UNNEEDED, same version is already published
lconwaymacOS 12.7.6 Monterey / x86_64  OK    OK    OK    OK  UNNEEDED, same version is already published
kjohnson3macOS 13.7.7 Ventura / arm64  OK    OK    OK    OK  UNNEEDED, same version is already published
Package 213/225HostnameOS / ArchINSTALLBUILDCHECKBUILD BIN
TENxIO 1.12.0  (landing page)
Marcel Ramos
git_last_commit: 4adee52
git_last_commit_date: 2025-10-29 11:19:24 -0400
nebbiolo2Linux (Ubuntu 24.04.3 LTS) / x86_64  OK    OK    OK  UNNEEDED, same version is already published
lconwaymacOS 12.7.6 Monterey / x86_64  OK    ERROR  skippedskipped
kjohnson3macOS 13.7.7 Ventura / arm64  OK    ERROR  skippedskipped
Package 214/225HostnameOS / ArchINSTALLBUILDCHECKBUILD BIN
TEQC 4.32.0  (landing page)
Sarah Bonnin
git_last_commit: 536787c
git_last_commit_date: 2025-10-29 10:06:21 -0400
nebbiolo2Linux (Ubuntu 24.04.3 LTS) / x86_64  OK    OK    WARNINGS  UNNEEDED, same version is already published
lconwaymacOS 12.7.6 Monterey / x86_64  OK    OK    WARNINGS    OK  UNNEEDED, same version is already published
kjohnson3macOS 13.7.7 Ventura / arm64  OK    OK    WARNINGS    OK  UNNEEDED, same version is already published
Package 215/225HostnameOS / ArchINSTALLBUILDCHECKBUILD BIN
TFBSTools 1.48.0  (landing page)
Ge Tan
git_last_commit: 77e9a0e
git_last_commit_date: 2025-10-29 10:16:59 -0400
nebbiolo2Linux (Ubuntu 24.04.3 LTS) / x86_64  OK    OK    OK  UNNEEDED, same version is already published
lconwaymacOS 12.7.6 Monterey / x86_64  OK    OK    OK    OK  UNNEEDED, same version is already published
kjohnson3macOS 13.7.7 Ventura / arm64  OK    OK    OK    OK  UNNEEDED, same version is already published
Package 216/225HostnameOS / ArchINSTALLBUILDCHECKBUILD BIN
trackViewer 1.46.0  (landing page)
Jianhong Ou
git_last_commit: 7f9ba3a
git_last_commit_date: 2025-10-29 10:17:52 -0400
nebbiolo2Linux (Ubuntu 24.04.3 LTS) / x86_64  OK    OK    OK  UNNEEDED, same version is already published
lconwaymacOS 12.7.6 Monterey / x86_64  OK    OK    OK    OK  UNNEEDED, same version is already published
kjohnson3macOS 13.7.7 Ventura / arm64  OK    OK    OK    OK  UNNEEDED, same version is already published
Package 217/225HostnameOS / ArchINSTALLBUILDCHECKBUILD BIN
transmogR 1.6.0  (landing page)
Stevie Pederson
git_last_commit: 7065211
git_last_commit_date: 2025-10-29 11:27:49 -0400
nebbiolo2Linux (Ubuntu 24.04.3 LTS) / x86_64  OK    OK    OK  UNNEEDED, same version is already published
lconwaymacOS 12.7.6 Monterey / x86_64  OK    OK    OK    OK  UNNEEDED, same version is already published
kjohnson3macOS 13.7.7 Ventura / arm64  OK    OK    OK    OK  UNNEEDED, same version is already published
Package 218/225HostnameOS / ArchINSTALLBUILDCHECKBUILD BIN
tRNAscanImport 1.30.0  (landing page)
Felix G.M. Ernst
git_last_commit: ac13675
git_last_commit_date: 2025-10-29 10:43:40 -0400
nebbiolo2Linux (Ubuntu 24.04.3 LTS) / x86_64  OK    OK    OK  UNNEEDED, same version is already published
lconwaymacOS 12.7.6 Monterey / x86_64  OK    OK    OK    OK  UNNEEDED, same version is already published
kjohnson3macOS 13.7.7 Ventura / arm64  OK    OK    OK    OK  UNNEEDED, same version is already published
Package 219/225HostnameOS / ArchINSTALLBUILDCHECKBUILD BIN
TVTB 1.36.0  (landing page)
Kevin Rue-Albrecht
git_last_commit: f5471e1
git_last_commit_date: 2025-10-29 10:35:21 -0400
nebbiolo2Linux (Ubuntu 24.04.3 LTS) / x86_64  OK    OK    OK  UNNEEDED, same version is already published
lconwaymacOS 12.7.6 Monterey / x86_64  OK    OK    OK    OK  UNNEEDED, same version is already published
kjohnson3macOS 13.7.7 Ventura / arm64  OK    OK    OK    OK  UNNEEDED, same version is already published
Package 220/225HostnameOS / ArchINSTALLBUILDCHECKBUILD BIN
txdbmaker 1.6.0  (landing page)
H. Pagès
git_last_commit: eed71e0
git_last_commit_date: 2025-10-29 13:57:16 -0400
nebbiolo2Linux (Ubuntu 24.04.3 LTS) / x86_64  OK    OK    OK  UNNEEDED, same version is already published
lconwaymacOS 12.7.6 Monterey / x86_64  OK    OK    OK    OK  UNNEEDED, same version is already published
kjohnson3macOS 13.7.7 Ventura / arm64  OK    OK    OK    OK  UNNEEDED, same version is already published
Package 221/225HostnameOS / ArchINSTALLBUILDCHECKBUILD BIN
tximeta 1.28.0  (landing page)
Michael Love
git_last_commit: 4479514
git_last_commit_date: 2025-10-29 10:47:16 -0400
nebbiolo2Linux (Ubuntu 24.04.3 LTS) / x86_64  OK    OK    OK  UNNEEDED, same version is already published
lconwaymacOS 12.7.6 Monterey / x86_64  OK    OK    OK    OK  UNNEEDED, same version is already published
kjohnson3macOS 13.7.7 Ventura / arm64  OK    OK    OK    OK  UNNEEDED, same version is already published
Package 222/225HostnameOS / ArchINSTALLBUILDCHECKBUILD BIN
VariantAnnotation 1.56.0  (landing page)
Bioconductor Package Maintainer
git_last_commit: dc8ecd1
git_last_commit_date: 2025-10-29 10:08:24 -0400
nebbiolo2Linux (Ubuntu 24.04.3 LTS) / x86_64  OK    OK    WARNINGS  UNNEEDED, same version is already published
lconwaymacOS 12.7.6 Monterey / x86_64  OK    OK    WARNINGS    OK  UNNEEDED, same version is already published
kjohnson3macOS 13.7.7 Ventura / arm64  OK    OK    WARNINGS    OK  UNNEEDED, same version is already published
Package 223/225HostnameOS / ArchINSTALLBUILDCHECKBUILD BIN
VariantFiltering 1.46.0  (landing page)
Robert Castelo
git_last_commit: 958023b
git_last_commit_date: 2025-10-29 10:19:08 -0400
nebbiolo2Linux (Ubuntu 24.04.3 LTS) / x86_64  OK    OK    OK  UNNEEDED, same version is already published
lconwaymacOS 12.7.6 Monterey / x86_64  OK    OK    OK    OK  UNNEEDED, same version is already published
kjohnson3macOS 13.7.7 Ventura / arm64  OK    OK    OK    OK  UNNEEDED, same version is already published
Package 224/225HostnameOS / ArchINSTALLBUILDCHECKBUILD BIN
VplotR 1.20.0  (landing page)
Jacques Serizay
git_last_commit: 33ae55c
git_last_commit_date: 2025-10-29 11:01:33 -0400
nebbiolo2Linux (Ubuntu 24.04.3 LTS) / x86_64  OK    OK    ERROR  
lconwaymacOS 12.7.6 Monterey / x86_64  OK    OK    OK    OK  UNNEEDED, same version is already published
kjohnson3macOS 13.7.7 Ventura / arm64  OK    OK    OK    OK  UNNEEDED, same version is already published
Package 225/225HostnameOS / ArchINSTALLBUILDCHECKBUILD BIN
YAPSA 1.36.0  (landing page)
Zuguang Gu
git_last_commit: 568357f
git_last_commit_date: 2025-10-29 10:34:03 -0400
nebbiolo2Linux (Ubuntu 24.04.3 LTS) / x86_64  OK    OK    OK  UNNEEDED, same version is already published
lconwaymacOS 12.7.6 Monterey / x86_64  OK    OK    OK    OK  UNNEEDED, same version is already published
kjohnson3macOS 13.7.7 Ventura / arm64  OK    OK    OK    OK  UNNEEDED, same version is already published