Back to Multiple platform build/check report for BioC 3.22:   simplified   long
ABCDEFGH[I]JKLMNOPQRSTUVWXYZ

This page was generated on 2025-11-17 11:58 -0500 (Mon, 17 Nov 2025).

HostnameOSArch (*)R versionInstalled pkgs
nebbiolo2Linux (Ubuntu 24.04.3 LTS)x86_644.5.1 Patched (2025-08-23 r88802) -- "Great Square Root" 4903
taishanLinux (openEuler 24.03 LTS)aarch644.5.0 (2025-04-11) -- "How About a Twenty-Six" 4668
Click on any hostname to see more info about the system (e.g. compilers)      (*) as reported by 'uname -p', except on Windows and Mac OS X

Package 1064/2361HostnameOS / ArchINSTALLBUILDCHECKBUILD BIN
INSPEcT 1.40.0  (landing page)
Stefano de Pretis
Snapshot Date: 2025-11-16 13:45 -0500 (Sun, 16 Nov 2025)
git_url: https://git.bioconductor.org/packages/INSPEcT
git_branch: RELEASE_3_22
git_last_commit: c9f5ce1
git_last_commit_date: 2025-10-29 10:26:37 -0500 (Wed, 29 Oct 2025)
nebbiolo2Linux (Ubuntu 24.04.3 LTS) / x86_64  OK    OK    OK  UNNEEDED, same version is already published
taishanLinux (openEuler 24.03 LTS) / aarch64  OK    OK    OK  


CHECK results for INSPEcT on nebbiolo2

To the developers/maintainers of the INSPEcT package:
- Allow up to 24 hours (and sometimes 48 hours) for your latest push to git@git.bioconductor.org:packages/INSPEcT.git to reflect on this report. See Troubleshooting Build Report for more information.
- Use the following Renviron settings to reproduce errors and warnings.
- If 'R CMD check' started to fail recently on the Linux builder(s) over a missing dependency, add the missing dependency to 'Suggests:' in your DESCRIPTION file. See Renviron.bioc for more information.

raw results


Summary

Package: INSPEcT
Version: 1.40.0
Command: /home/biocbuild/bbs-3.22-bioc/R/bin/R CMD check --install=check:INSPEcT.install-out.txt --library=/home/biocbuild/bbs-3.22-bioc/R/site-library --timings INSPEcT_1.40.0.tar.gz
StartedAt: 2025-11-17 00:51:30 -0500 (Mon, 17 Nov 2025)
EndedAt: 2025-11-17 01:10:21 -0500 (Mon, 17 Nov 2025)
EllapsedTime: 1131.3 seconds
RetCode: 0
Status:   OK  
CheckDir: INSPEcT.Rcheck
Warnings: 0

Command output

##############################################################################
##############################################################################
###
### Running command:
###
###   /home/biocbuild/bbs-3.22-bioc/R/bin/R CMD check --install=check:INSPEcT.install-out.txt --library=/home/biocbuild/bbs-3.22-bioc/R/site-library --timings INSPEcT_1.40.0.tar.gz
###
##############################################################################
##############################################################################


* using log directory ‘/home/biocbuild/bbs-3.22-bioc/meat/INSPEcT.Rcheck’
* using R version 4.5.1 Patched (2025-08-23 r88802)
* using platform: x86_64-pc-linux-gnu
* R was compiled by
    gcc (Ubuntu 13.3.0-6ubuntu2~24.04) 13.3.0
    GNU Fortran (Ubuntu 13.3.0-6ubuntu2~24.04) 13.3.0
* running under: Ubuntu 24.04.3 LTS
* using session charset: UTF-8
* checking for file ‘INSPEcT/DESCRIPTION’ ... OK
* checking extension type ... Package
* this is package ‘INSPEcT’ version ‘1.40.0’
* checking package namespace information ... OK
* checking package dependencies ... OK
* checking if this is a source package ... OK
* checking if there is a namespace ... OK
* checking for hidden files and directories ... OK
* checking for portable file names ... OK
* checking for sufficient/correct file permissions ... OK
* checking whether package ‘INSPEcT’ can be installed ... OK
* checking installed package size ... INFO
  installed size is  7.1Mb
  sub-directories of 1Mb or more:
    R      1.8Mb
    data   2.8Mb
* checking package directory ... OK
* checking ‘build’ directory ... OK
* checking DESCRIPTION meta-information ... OK
* checking top-level files ... OK
* checking for left-over files ... OK
* checking index information ... OK
* checking package subdirectories ... OK
* checking code files for non-ASCII characters ... OK
* checking R files for syntax errors ... OK
* checking whether the package can be loaded ... OK
* checking whether the package can be loaded with stated dependencies ... OK
* checking whether the package can be unloaded cleanly ... OK
* checking whether the namespace can be loaded with stated dependencies ... OK
* checking whether the namespace can be unloaded cleanly ... OK
* checking loading without being on the library search path ... OK
* checking dependencies in R code ... OK
* checking S3 generic/method consistency ... OK
* checking replacement functions ... OK
* checking foreign function calls ... OK
* checking R code for possible problems ... NOTE
output_pars: no visible global function definition for ‘plot.new’
plotSingleRNADynamic: no visible global function definition for ‘lines’
Undefined global functions or variables:
  lines plot.new
Consider adding
  importFrom("graphics", "lines", "plot.new")
to your NAMESPACE file.
* checking Rd files ... OK
* checking Rd metadata ... OK
* checking Rd cross-references ... NOTE
Found the following Rd file(s) with Rd \link{} targets missing package
anchors:
  INSPEcT-class.Rd: featureNames
Please provide package anchors for all Rd \link{} targets not in the
package itself and the base packages.
* checking for missing documentation entries ... OK
* checking for code/documentation mismatches ... OK
* checking Rd \usage sections ... OK
* checking Rd contents ... OK
* checking for unstated dependencies in examples ... OK
* checking contents of ‘data’ directory ... OK
* checking data for non-ASCII characters ... OK
* checking data for ASCII and uncompressed saves ... OK
* checking files in ‘vignettes’ ... OK
* checking examples ... OK
Examples with CPU (user + system) or elapsed time > 5s
                                  user system elapsed
makeSimDataset                  73.873  0.342  74.305
modelRates                      38.875  0.152  39.028
quantifyExpressionsFromBAMs     29.658  0.087  30.073
INSPEcT_diffsteady-class        27.433  0.642  28.075
rocCurve                        25.700  0.036  25.737
makeSimModel                    25.128  0.072  25.199
rocThresholds                   24.460  0.152  24.613
plotMA                          23.273  0.121  23.393
compareSteady                   23.195  0.173  23.369
quantifyExpressionsFromTrCounts 15.683  0.001  15.684
processingDelay                 14.047  0.126  14.188
newINSPEcT                      13.991  0.042  14.033
inspectFromPCR                   6.529  0.070   6.599
makeOscillatorySimModel          5.764  0.077   5.841
compareSteadyNoNascent           5.353  0.065   5.418
* checking for unstated dependencies in vignettes ... OK
* checking package vignettes ... OK
* checking re-building of vignette outputs ... OK
* checking PDF version of manual ... OK
* DONE

Status: 2 NOTEs
See
  ‘/home/biocbuild/bbs-3.22-bioc/meat/INSPEcT.Rcheck/00check.log’
for details.


Installation output

INSPEcT.Rcheck/00install.out

##############################################################################
##############################################################################
###
### Running command:
###
###   /home/biocbuild/bbs-3.22-bioc/R/bin/R CMD INSTALL INSPEcT
###
##############################################################################
##############################################################################


* installing to library ‘/home/biocbuild/bbs-3.22-bioc/R/site-library’
* installing *source* package ‘INSPEcT’ ...
** this is package ‘INSPEcT’ version ‘1.40.0’
** using staged installation
** R
** data
** inst
** byte-compile and prepare package for lazy loading
** help
*** installing help indices
** building package indices
** installing vignettes
** testing if installed package can be loaded from temporary location
** testing if installed package can be loaded from final location
** testing if installed package keeps a record of temporary installation path
* DONE (INSPEcT)

Tests output


Example timings

INSPEcT.Rcheck/INSPEcT-Ex.timings

nameusersystemelapsed
AIC-INSPEcT-method0.1890.0140.202
Extract0.3600.0070.367
INSPEcT_diffsteady-class27.433 0.64228.075
calculateRatePvals0.2270.0000.227
chisqmodel0.1910.0000.191
chisqtest0.1890.0000.189
combine0.3530.0030.356
compareSteady23.195 0.17323.369
compareSteadyNoNascent5.3530.0655.418
convergence0.1920.0040.195
geneClass0.2270.0020.230
inHeatmap0.2230.0040.227
inspectFromPCR6.5290.0706.599
labeledSF0.1910.0060.196
logLik0.1920.0020.193
makeModelRates0.2280.0010.228
makeOscillatorySimModel5.7640.0775.841
makeSimDataset73.873 0.34274.305
makeSimModel25.128 0.07225.199
modelRates38.875 0.15239.028
modelRatesNF4.1550.0364.191
modelSelection0.1920.0010.193
modelingParams0.1880.0030.191
nGenes0.1920.0000.192
nTpts0.1890.0040.193
newINSPEcT13.991 0.04214.033
plotGene0.2310.0010.232
plotMA23.273 0.12123.393
processingDelay14.047 0.12614.188
quantifyExpressionsFromBAMs29.658 0.08730.073
quantifyExpressionsFromTrCounts15.683 0.00115.684
ratePvals0.1890.0010.189
ratesFirstGuess0.1880.0010.189
ratesFirstGuessVar0.1890.0000.189
removeModel0.2840.0000.284
rocCurve25.700 0.03625.737
rocThresholds24.460 0.15224.613
split0.2790.0090.288
tpts0.1900.0020.192
viewConfidenceIntervals0.1910.0010.192
viewModelRates0.190.000.19