| Back to Multiple platform build/check report for BioC 3.22: simplified long |
|
This page was generated on 2025-10-25 12:04 -0400 (Sat, 25 Oct 2025).
| Hostname | OS | Arch (*) | R version | Installed pkgs |
|---|---|---|---|---|
| nebbiolo2 | Linux (Ubuntu 24.04.3 LTS) | x86_64 | 4.5.1 Patched (2025-08-23 r88802) -- "Great Square Root" | 4901 |
| lconway | macOS 12.7.6 Monterey | x86_64 | 4.5.1 Patched (2025-09-10 r88807) -- "Great Square Root" | 4691 |
| kjohnson3 | macOS 13.7.7 Ventura | arm64 | 4.5.1 Patched (2025-09-10 r88807) -- "Great Square Root" | 4637 |
| taishan | Linux (openEuler 24.03 LTS) | aarch64 | 4.5.0 (2025-04-11) -- "How About a Twenty-Six" | 4658 |
| Click on any hostname to see more info about the system (e.g. compilers) (*) as reported by 'uname -p', except on Windows and Mac OS X | ||||
| Package 2110/2361 | Hostname | OS / Arch | INSTALL | BUILD | CHECK | BUILD BIN | ||||||||
| SPLINTER 1.35.1 (landing page) Diana Low
| nebbiolo2 | Linux (Ubuntu 24.04.3 LTS) / x86_64 | OK | OK | OK | |||||||||
| lconway | macOS 12.7.6 Monterey / x86_64 | OK | OK | OK | OK | |||||||||
| kjohnson3 | macOS 13.7.7 Ventura / arm64 | OK | ERROR | skipped | skipped | |||||||||
| taishan | Linux (openEuler 24.03 LTS) / aarch64 | OK | NA | NA | ||||||||||
|
To the developers/maintainers of the SPLINTER package: - Allow up to 24 hours (and sometimes 48 hours) for your latest push to git@git.bioconductor.org:packages/SPLINTER.git to reflect on this report. See Troubleshooting Build Report for more information. - Use the following Renviron settings to reproduce errors and warnings. - If 'R CMD check' started to fail recently on the Linux builder(s) over a missing dependency, add the missing dependency to 'Suggests:' in your DESCRIPTION file. See Renviron.bioc for more information. |
| Package: SPLINTER |
| Version: 1.35.1 |
| Command: /home/biocbuild/bbs-3.22-bioc/R/bin/R CMD check --install=check:SPLINTER.install-out.txt --library=/home/biocbuild/bbs-3.22-bioc/R/site-library --timings SPLINTER_1.35.1.tar.gz |
| StartedAt: 2025-10-25 04:33:30 -0400 (Sat, 25 Oct 2025) |
| EndedAt: 2025-10-25 04:39:56 -0400 (Sat, 25 Oct 2025) |
| EllapsedTime: 386.3 seconds |
| RetCode: 0 |
| Status: OK |
| CheckDir: SPLINTER.Rcheck |
| Warnings: 0 |
##############################################################################
##############################################################################
###
### Running command:
###
### /home/biocbuild/bbs-3.22-bioc/R/bin/R CMD check --install=check:SPLINTER.install-out.txt --library=/home/biocbuild/bbs-3.22-bioc/R/site-library --timings SPLINTER_1.35.1.tar.gz
###
##############################################################################
##############################################################################
* using log directory ‘/home/biocbuild/bbs-3.22-bioc/meat/SPLINTER.Rcheck’
* using R version 4.5.1 Patched (2025-08-23 r88802)
* using platform: x86_64-pc-linux-gnu
* R was compiled by
gcc (Ubuntu 13.3.0-6ubuntu2~24.04) 13.3.0
GNU Fortran (Ubuntu 13.3.0-6ubuntu2~24.04) 13.3.0
* running under: Ubuntu 24.04.3 LTS
* using session charset: UTF-8
* checking for file ‘SPLINTER/DESCRIPTION’ ... OK
* checking extension type ... Package
* this is package ‘SPLINTER’ version ‘1.35.1’
* package encoding: UTF-8
* checking package namespace information ... OK
* checking package dependencies ... OK
* checking if this is a source package ... OK
* checking if there is a namespace ... OK
* checking for hidden files and directories ... OK
* checking for portable file names ... OK
* checking for sufficient/correct file permissions ... OK
* checking whether package ‘SPLINTER’ can be installed ... OK
* checking installed package size ... OK
* checking package directory ... OK
* checking ‘build’ directory ... OK
* checking DESCRIPTION meta-information ... OK
* checking top-level files ... OK
* checking for left-over files ... OK
* checking index information ... OK
* checking package subdirectories ... OK
* checking code files for non-ASCII characters ... OK
* checking R files for syntax errors ... OK
* checking whether the package can be loaded ... OK
* checking whether the package can be loaded with stated dependencies ... OK
* checking whether the package can be unloaded cleanly ... OK
* checking whether the namespace can be loaded with stated dependencies ... OK
* checking whether the namespace can be unloaded cleanly ... OK
* checking loading without being on the library search path ... OK
* checking dependencies in R code ... OK
* checking S3 generic/method consistency ... OK
* checking replacement functions ... OK
* checking foreign function calls ... OK
* checking R code for possible problems ... OK
* checking Rd files ... OK
* checking Rd metadata ... OK
* checking Rd cross-references ... OK
* checking for missing documentation entries ... OK
* checking for code/documentation mismatches ... OK
* checking Rd \usage sections ... OK
* checking Rd contents ... OK
* checking for unstated dependencies in examples ... OK
* checking contents of ‘data’ directory ... OK
* checking data for non-ASCII characters ... OK
* checking LazyData ... OK
* checking data for ASCII and uncompressed saves ... OK
* checking files in ‘vignettes’ ... OK
* checking examples ... OK
Examples with CPU (user + system) or elapsed time > 5s
user system elapsed
eventPlot 11.633 0.331 11.969
* checking for unstated dependencies in vignettes ... OK
* checking package vignettes ... OK
* checking re-building of vignette outputs ... OK
* checking PDF version of manual ... OK
* DONE
Status: OK
SPLINTER.Rcheck/00install.out
############################################################################## ############################################################################## ### ### Running command: ### ### /home/biocbuild/bbs-3.22-bioc/R/bin/R CMD INSTALL SPLINTER ### ############################################################################## ############################################################################## * installing to library ‘/home/biocbuild/bbs-3.22-bioc/R/site-library’ * installing *source* package ‘SPLINTER’ ... ** this is package ‘SPLINTER’ version ‘1.35.1’ ** using staged installation ** R ** data *** moving datasets to lazyload DB ** inst ** byte-compile and prepare package for lazy loading ** help *** installing help indices ** building package indices ** installing vignettes ** testing if installed package can be loaded from temporary location ** testing if installed package can be loaded from final location ** testing if installed package keeps a record of temporary installation path * DONE (SPLINTER)
SPLINTER.Rcheck/SPLINTER-Ex.timings
| name | user | system | elapsed | |
| acceptor.m | 0.001 | 0.001 | 0.002 | |
| addEnsemblAnnotation | 0.005 | 0.000 | 0.005 | |
| callPrimer3 | 0.001 | 0.000 | 0.000 | |
| checkPrimer | 0.068 | 0.002 | 0.070 | |
| compatible_cds | 0.001 | 0.000 | 0.001 | |
| compatible_tx | 0.000 | 0.000 | 0.001 | |
| donor.m | 0.001 | 0.000 | 0.001 | |
| eventOutcomeCompare | 1.270 | 0.076 | 1.346 | |
| eventOutcomeTranslate | 0.388 | 0.003 | 0.391 | |
| eventPlot | 11.633 | 0.331 | 11.969 | |
| extendROI | 0.634 | 0.000 | 0.634 | |
| extractSpliceEvents | 0.003 | 0.000 | 0.003 | |
| extractSpliceSites | 0.078 | 0.008 | 0.086 | |
| findCompatibleEvents | 0.318 | 0.000 | 0.318 | |
| findCompatibleExon | 0.201 | 0.003 | 0.204 | |
| findTX | 0.014 | 0.000 | 0.014 | |
| getPCRsizes | 2.280 | 0.166 | 2.449 | |
| getRegionDNA | 0.278 | 0.004 | 0.282 | |
| insertRegion | 0.185 | 0.003 | 0.187 | |
| makeROI | 0.253 | 0.009 | 0.261 | |
| makeUniqueIDs | 0.003 | 0.000 | 0.003 | |
| pcr_result1 | 0.000 | 0.000 | 0.001 | |
| plot_seqlogo | 0.037 | 0.003 | 0.041 | |
| primers | 0.000 | 0.000 | 0.001 | |
| psiPlot | 0.329 | 0.013 | 0.343 | |
| region_minus_exon | 0.001 | 0.000 | 0.001 | |
| roi | 0.000 | 0.000 | 0.001 | |
| shapiroAcceptor | 1.603 | 0.099 | 1.703 | |
| shapiroDonor | 0.384 | 0.002 | 0.386 | |
| splice_data | 0.001 | 0.000 | 0.001 | |
| splice_fasta | 0.001 | 0.000 | 0.001 | |
| splitPCRhit | 0.002 | 0.000 | 0.002 | |
| thecds | 0.001 | 0.000 | 0.001 | |
| theexons | 0 | 0 | 0 | |
| valid_cds | 0 | 0 | 0 | |
| valid_tx | 0.000 | 0.001 | 0.000 | |