Back to Multiple platform build/check report for BioC 3.22:   simplified   long
ABCDEFGHIJKLMNOPQR[S]TUVWXYZ

This page was generated on 2025-10-25 12:04 -0400 (Sat, 25 Oct 2025).

HostnameOSArch (*)R versionInstalled pkgs
nebbiolo2Linux (Ubuntu 24.04.3 LTS)x86_644.5.1 Patched (2025-08-23 r88802) -- "Great Square Root" 4901
lconwaymacOS 12.7.6 Montereyx86_644.5.1 Patched (2025-09-10 r88807) -- "Great Square Root" 4691
kjohnson3macOS 13.7.7 Venturaarm644.5.1 Patched (2025-09-10 r88807) -- "Great Square Root" 4637
taishanLinux (openEuler 24.03 LTS)aarch644.5.0 (2025-04-11) -- "How About a Twenty-Six" 4658
Click on any hostname to see more info about the system (e.g. compilers)      (*) as reported by 'uname -p', except on Windows and Mac OS X

Package 1992/2361HostnameOS / ArchINSTALLBUILDCHECKBUILD BIN
sesame 1.27.1  (landing page)
Wanding Zhou
Snapshot Date: 2025-10-24 13:45 -0400 (Fri, 24 Oct 2025)
git_url: https://git.bioconductor.org/packages/sesame
git_branch: devel
git_last_commit: e90f911
git_last_commit_date: 2025-06-21 02:29:58 -0400 (Sat, 21 Jun 2025)
nebbiolo2Linux (Ubuntu 24.04.3 LTS) / x86_64  OK    OK    OK  UNNEEDED, same version is already published
lconwaymacOS 12.7.6 Monterey / x86_64  OK    OK    OK    OK  UNNEEDED, same version is already published
kjohnson3macOS 13.7.7 Ventura / arm64  OK    OK    OK    OK  UNNEEDED, same version is already published
taishanLinux (openEuler 24.03 LTS) / aarch64  OK    NA    NA  


CHECK results for sesame on nebbiolo2

To the developers/maintainers of the sesame package:
- Allow up to 24 hours (and sometimes 48 hours) for your latest push to git@git.bioconductor.org:packages/sesame.git to reflect on this report. See Troubleshooting Build Report for more information.
- Use the following Renviron settings to reproduce errors and warnings.
- If 'R CMD check' started to fail recently on the Linux builder(s) over a missing dependency, add the missing dependency to 'Suggests:' in your DESCRIPTION file. See Renviron.bioc for more information.

raw results


Summary

Package: sesame
Version: 1.27.1
Command: /home/biocbuild/bbs-3.22-bioc/R/bin/R CMD check --install=check:sesame.install-out.txt --library=/home/biocbuild/bbs-3.22-bioc/R/site-library --timings sesame_1.27.1.tar.gz
StartedAt: 2025-10-25 04:07:05 -0400 (Sat, 25 Oct 2025)
EndedAt: 2025-10-25 04:23:38 -0400 (Sat, 25 Oct 2025)
EllapsedTime: 993.0 seconds
RetCode: 0
Status:   OK  
CheckDir: sesame.Rcheck
Warnings: 0

Command output

##############################################################################
##############################################################################
###
### Running command:
###
###   /home/biocbuild/bbs-3.22-bioc/R/bin/R CMD check --install=check:sesame.install-out.txt --library=/home/biocbuild/bbs-3.22-bioc/R/site-library --timings sesame_1.27.1.tar.gz
###
##############################################################################
##############################################################################


* using log directory ‘/home/biocbuild/bbs-3.22-bioc/meat/sesame.Rcheck’
* using R version 4.5.1 Patched (2025-08-23 r88802)
* using platform: x86_64-pc-linux-gnu
* R was compiled by
    gcc (Ubuntu 13.3.0-6ubuntu2~24.04) 13.3.0
    GNU Fortran (Ubuntu 13.3.0-6ubuntu2~24.04) 13.3.0
* running under: Ubuntu 24.04.3 LTS
* using session charset: UTF-8
* checking for file ‘sesame/DESCRIPTION’ ... OK
* checking extension type ... Package
* this is package ‘sesame’ version ‘1.27.1’
* package encoding: UTF-8
* checking package namespace information ... OK
* checking package dependencies ... OK
* checking if this is a source package ... OK
* checking if there is a namespace ... OK
* checking for hidden files and directories ... OK
* checking for portable file names ... OK
* checking for sufficient/correct file permissions ... OK
* checking whether package ‘sesame’ can be installed ... OK
* checking installed package size ... OK
* checking package directory ... OK
* checking ‘build’ directory ... OK
* checking DESCRIPTION meta-information ... OK
* checking top-level files ... OK
* checking for left-over files ... OK
* checking index information ... OK
* checking package subdirectories ... OK
* checking code files for non-ASCII characters ... OK
* checking R files for syntax errors ... OK
* checking whether the package can be loaded ... OK
* checking whether the package can be loaded with stated dependencies ... OK
* checking whether the package can be unloaded cleanly ... OK
* checking whether the namespace can be loaded with stated dependencies ... OK
* checking whether the namespace can be unloaded cleanly ... OK
* checking loading without being on the library search path ... OK
* checking whether startup messages can be suppressed ... OK
* checking dependencies in R code ... OK
* checking S3 generic/method consistency ... OK
* checking replacement functions ... OK
* checking foreign function calls ... OK
* checking R code for possible problems ... OK
* checking Rd files ... OK
* checking Rd metadata ... OK
* checking Rd cross-references ... OK
* checking for missing documentation entries ... OK
* checking for code/documentation mismatches ... OK
* checking Rd \usage sections ... OK
* checking Rd contents ... OK
* checking for unstated dependencies in examples ... OK
* checking files in ‘vignettes’ ... OK
* checking examples ... OK
Examples with CPU (user + system) or elapsed time > 5s
                                user system elapsed
imputeBetasByGenomicNeighbors 34.097  0.732  34.835
inferSex                      22.510  0.298  22.810
sesameQC_calcStats            18.703  0.230  18.936
imputeBetas                   18.457  0.418  18.879
sesameQC_plotHeatSNPs         17.827  0.222  18.052
diffRefSet                    15.522  0.256  15.780
inferSpecies                  14.851  0.754  15.605
ELBAR                         13.873  0.275  14.147
getRefSet                     11.596  0.187  11.783
sesameQC_plotBar              11.350  0.157  11.517
matchDesign                   10.999  0.111  11.114
compareMouseStrainReference   10.911  0.196  11.107
compareReference              10.653  0.204  10.858
sesameQC_plotBetaByDesign      8.627  0.095   8.724
DMR                            8.275  0.198   8.474
visualizeGene                  8.027  0.146   8.173
DML                            7.480  0.322   7.802
estimateLeukocyte              7.634  0.113   7.747
inferStrain                    7.127  0.420   7.550
sdf_read_table                 7.260  0.153   7.414
dyeBiasNL                      6.856  0.172   7.029
inferTissue                    6.520  0.121   6.642
dyeBiasCorrMostBalanced        6.259  0.090   6.349
getMask                        6.153  0.110   6.264
createUCSCtrack                5.454  0.144   5.599
deIdentify                     5.335  0.085   5.422
probeSuccessRate               5.051  0.085   5.136
openSesame                     5.013  0.060   5.081
* checking for unstated dependencies in ‘tests’ ... OK
* checking tests ...
  Running ‘testthat.R’
 OK
* checking for unstated dependencies in vignettes ... OK
* checking package vignettes ... OK
* checking re-building of vignette outputs ... OK
* checking PDF version of manual ... OK
* DONE

Status: OK


Installation output

sesame.Rcheck/00install.out

##############################################################################
##############################################################################
###
### Running command:
###
###   /home/biocbuild/bbs-3.22-bioc/R/bin/R CMD INSTALL sesame
###
##############################################################################
##############################################################################


* installing to library ‘/home/biocbuild/bbs-3.22-bioc/R/site-library’
* installing *source* package ‘sesame’ ...
** this is package ‘sesame’ version ‘1.27.1’
** using staged installation
** R
** inst
** byte-compile and prepare package for lazy loading
** help
*** installing help indices
** building package indices
** installing vignettes
** testing if installed package can be loaded from temporary location
** testing if installed package can be loaded from final location
** testing if installed package keeps a record of temporary installation path
* DONE (sesame)

Tests output

sesame.Rcheck/tests/testthat.Rout


R version 4.5.1 Patched (2025-08-23 r88802) -- "Great Square Root"
Copyright (C) 2025 The R Foundation for Statistical Computing
Platform: x86_64-pc-linux-gnu

R is free software and comes with ABSOLUTELY NO WARRANTY.
You are welcome to redistribute it under certain conditions.
Type 'license()' or 'licence()' for distribution details.

R is a collaborative project with many contributors.
Type 'contributors()' for more information and
'citation()' on how to cite R or R packages in publications.

Type 'demo()' for some demos, 'help()' for on-line help, or
'help.start()' for an HTML browser interface to help.
Type 'q()' to quit R.

> library(testthat)
> library(sesame)
Loading required package: sesameData
Loading required package: ExperimentHub
Loading required package: BiocGenerics
Loading required package: generics

Attaching package: 'generics'

The following objects are masked from 'package:base':

    as.difftime, as.factor, as.ordered, intersect, is.element, setdiff,
    setequal, union


Attaching package: 'BiocGenerics'

The following objects are masked from 'package:stats':

    IQR, mad, sd, var, xtabs

The following objects are masked from 'package:base':

    Filter, Find, Map, Position, Reduce, anyDuplicated, aperm, append,
    as.data.frame, basename, cbind, colnames, dirname, do.call,
    duplicated, eval, evalq, get, grep, grepl, is.unsorted, lapply,
    mapply, match, mget, order, paste, pmax, pmax.int, pmin, pmin.int,
    rank, rbind, rownames, sapply, saveRDS, table, tapply, unique,
    unsplit, which.max, which.min

Loading required package: AnnotationHub
Loading required package: BiocFileCache
Loading required package: dbplyr
Loading sesameData.

----------------------------------------------------------
| SEnsible Step-wise Analysis of DNA MEthylation (SeSAMe)
| --------------------------------------------------------
| Please cache auxiliary data by "sesameDataCache()".
| This needs to be done only once per SeSAMe installation.
----------------------------------------------------------

> 
> test_check("sesame")
[ FAIL 0 | WARN 0 | SKIP 0 | PASS 5 ]
> 
> proc.time()
   user  system elapsed 
 18.108   0.924  19.019 

Example timings

sesame.Rcheck/sesame-Ex.timings

nameusersystemelapsed
BetaValueToMValue000
DML7.4800.3227.802
DMLpredict1.3690.0551.423
DMR8.2750.1988.474
ELBAR13.873 0.27514.147
MValueToBetaValue000
SigDF0.2940.0120.305
addMask0.0760.0010.076
betasCollapseToPfx0.0110.0000.011
bisConversionControl4.2860.0594.345
calcEffectSize1.2670.0351.302
checkLevels3.7300.0573.788
cnSegmentation0.2810.0130.294
compareMouseStrainReference10.911 0.19611.107
compareMouseTissueReference000
compareReference10.653 0.20410.858
controls2.0920.0512.143
createUCSCtrack5.4540.1445.599
deIdentify5.3350.0855.422
detectionPnegEcdf0.9120.0070.919
diffRefSet15.522 0.25615.780
dmContrasts1.9760.0382.015
dyeBiasCorr2.6840.1202.805
dyeBiasCorrMostBalanced6.2590.0906.349
dyeBiasL2.2110.0562.266
dyeBiasNL6.8560.1727.029
estimateLeukocyte7.6340.1137.747
formatVCF2.0920.0422.134
getAFTypeIbySumAlleles1.6670.0521.720
getAFs1.0450.0201.066
getBetas0.7560.0350.790
getMask6.1530.1106.264
getRefSet11.596 0.18711.783
imputeBetas18.457 0.41818.879
imputeBetasByGenomicNeighbors34.097 0.73234.835
imputeBetasMatrixByMean0.0020.0000.001
inferEthnicity0.0010.0000.001
inferInfiniumIChannel0.2450.0710.315
inferSex22.510 0.29822.810
inferSpecies14.851 0.75415.605
inferStrain7.1270.4207.550
inferTissue6.5200.1216.642
initFileSet1.2680.0331.302
listAvailableMasks1.3210.0341.355
mLiftOver000
mapFileSet0.0310.0020.042
mapToMammal402.6100.0572.668
matchDesign10.999 0.11111.114
meanIntensity2.6150.1292.744
medianTotalIntensity0.8910.0510.943
noMasked3.4950.0533.548
noob1.8220.0491.872
openSesame5.0130.0605.081
openSesameToFile1.5260.0061.534
pOOBAH1.1940.0001.194
palgen0.0320.0030.034
parseGEOsignalMU2.8240.0372.862
predictAge2.4620.0302.492
predictAgeHorvath353000
predictAgeSkinBlood000
predictMouseAgeInMonth0.0000.0010.000
prefixMask0.3670.0010.369
prefixMaskButC0.0950.0000.095
prefixMaskButCG0.0350.0000.034
prepSesame3.5060.0313.538
prepSesameList0.0000.0010.002
print.DMLSummary2.9910.0403.032
print.fileSet1.1950.0451.240
probeID_designType000
probeSuccessRate5.0510.0855.136
qualityMask1.7980.0521.849
reIdentify4.3640.0364.400
readFileSet0.0520.0000.052
readIDATpair0.1000.0010.100
recommendedMaskNames000
resetMask0.3530.0120.365
scrub2.1130.0172.130
scrubSoft3.1110.0003.110
sdfPlatform0.2930.0140.307
sdf_read_table7.2600.1537.414
sdf_write_table1.7360.0451.899
searchIDATprefixes0.0030.0010.005
sesame-package2.3050.1012.408
sesameAnno_attachManifest000
sesameAnno_buildAddressFile000
sesameAnno_buildManifestGRanges000
sesameAnno_download000
sesameAnno_readManifestTSV000
sesameQC_calcStats18.703 0.23018.936
sesameQC_getStats1.8670.0221.890
sesameQC_plotBar11.350 0.15711.517
sesameQC_plotBetaByDesign8.6270.0958.724
sesameQC_plotHeatSNPs17.827 0.22218.052
sesameQC_plotIntensVsBetas1.8150.0371.852
sesameQC_plotRedGrnQQ1.7510.0491.800
sesameQC_rankStats3.3550.1163.478
sesameQCtoDF1.6280.0231.651
sesame_checkVersion0.0030.0000.003
sesamize000
setMask0.0960.0000.097
signalMU0.8490.0240.874
sliceFileSet0.0330.0000.033
summaryExtractTest2.5600.1282.688
totalIntensities2.3140.0572.371
updateSigDF3.0590.0983.157
visualizeGene8.0270.1468.173
visualizeProbes1.0240.0151.039
visualizeRegion0.3120.0000.312
visualizeSegments1.5570.0171.575