Back to Multiple platform build/check report for BioC 3.22:   simplified   long
AB[C]DEFGHIJKLMNOPQRSTUVWXYZ

This page was generated on 2025-10-25 12:03 -0400 (Sat, 25 Oct 2025).

HostnameOSArch (*)R versionInstalled pkgs
nebbiolo2Linux (Ubuntu 24.04.3 LTS)x86_644.5.1 Patched (2025-08-23 r88802) -- "Great Square Root" 4901
lconwaymacOS 12.7.6 Montereyx86_644.5.1 Patched (2025-09-10 r88807) -- "Great Square Root" 4691
kjohnson3macOS 13.7.7 Venturaarm644.5.1 Patched (2025-09-10 r88807) -- "Great Square Root" 4637
taishanLinux (openEuler 24.03 LTS)aarch644.5.0 (2025-04-11) -- "How About a Twenty-Six" 4658
Click on any hostname to see more info about the system (e.g. compilers)      (*) as reported by 'uname -p', except on Windows and Mac OS X

Package 271/2361HostnameOS / ArchINSTALLBUILDCHECKBUILD BIN
CAGEfightR 1.29.1  (landing page)
Malte Thodberg
Snapshot Date: 2025-10-24 13:45 -0400 (Fri, 24 Oct 2025)
git_url: https://git.bioconductor.org/packages/CAGEfightR
git_branch: devel
git_last_commit: 6331b70
git_last_commit_date: 2025-06-21 20:25:57 -0400 (Sat, 21 Jun 2025)
nebbiolo2Linux (Ubuntu 24.04.3 LTS) / x86_64  OK    OK    OK  UNNEEDED, same version is already published
lconwaymacOS 12.7.6 Monterey / x86_64  OK    OK    OK    OK  UNNEEDED, same version is already published
kjohnson3macOS 13.7.7 Ventura / arm64  OK    OK    OK    OK  UNNEEDED, same version is already published
taishanLinux (openEuler 24.03 LTS) / aarch64  OK    NA    NA  


CHECK results for CAGEfightR on nebbiolo2

To the developers/maintainers of the CAGEfightR package:
- Allow up to 24 hours (and sometimes 48 hours) for your latest push to git@git.bioconductor.org:packages/CAGEfightR.git to reflect on this report. See Troubleshooting Build Report for more information.
- Use the following Renviron settings to reproduce errors and warnings.
- If 'R CMD check' started to fail recently on the Linux builder(s) over a missing dependency, add the missing dependency to 'Suggests:' in your DESCRIPTION file. See Renviron.bioc for more information.

raw results


Summary

Package: CAGEfightR
Version: 1.29.1
Command: /home/biocbuild/bbs-3.22-bioc/R/bin/R CMD check --install=check:CAGEfightR.install-out.txt --library=/home/biocbuild/bbs-3.22-bioc/R/site-library --timings CAGEfightR_1.29.1.tar.gz
StartedAt: 2025-10-24 21:49:54 -0400 (Fri, 24 Oct 2025)
EndedAt: 2025-10-24 21:58:56 -0400 (Fri, 24 Oct 2025)
EllapsedTime: 542.6 seconds
RetCode: 0
Status:   OK  
CheckDir: CAGEfightR.Rcheck
Warnings: 0

Command output

##############################################################################
##############################################################################
###
### Running command:
###
###   /home/biocbuild/bbs-3.22-bioc/R/bin/R CMD check --install=check:CAGEfightR.install-out.txt --library=/home/biocbuild/bbs-3.22-bioc/R/site-library --timings CAGEfightR_1.29.1.tar.gz
###
##############################################################################
##############################################################################


* using log directory ‘/home/biocbuild/bbs-3.22-bioc/meat/CAGEfightR.Rcheck’
* using R version 4.5.1 Patched (2025-08-23 r88802)
* using platform: x86_64-pc-linux-gnu
* R was compiled by
    gcc (Ubuntu 13.3.0-6ubuntu2~24.04) 13.3.0
    GNU Fortran (Ubuntu 13.3.0-6ubuntu2~24.04) 13.3.0
* running under: Ubuntu 24.04.3 LTS
* using session charset: UTF-8
* checking for file ‘CAGEfightR/DESCRIPTION’ ... OK
* checking extension type ... Package
* this is package ‘CAGEfightR’ version ‘1.29.1’
* package encoding: UTF-8
* checking package namespace information ... OK
* checking package dependencies ... OK
* checking if this is a source package ... OK
* checking if there is a namespace ... OK
* checking for hidden files and directories ... OK
* checking for portable file names ... OK
* checking for sufficient/correct file permissions ... OK
* checking whether package ‘CAGEfightR’ can be installed ... OK
* checking installed package size ... OK
* checking package directory ... OK
* checking ‘build’ directory ... OK
* checking DESCRIPTION meta-information ... OK
* checking top-level files ... OK
* checking for left-over files ... OK
* checking index information ... OK
* checking package subdirectories ... OK
* checking code files for non-ASCII characters ... OK
* checking R files for syntax errors ... OK
* checking whether the package can be loaded ... OK
* checking whether the package can be loaded with stated dependencies ... OK
* checking whether the package can be unloaded cleanly ... OK
* checking whether the namespace can be loaded with stated dependencies ... OK
* checking whether the namespace can be unloaded cleanly ... OK
* checking loading without being on the library search path ... OK
* checking whether startup messages can be suppressed ... OK
* checking dependencies in R code ... OK
* checking S3 generic/method consistency ... OK
* checking replacement functions ... OK
* checking foreign function calls ... OK
* checking R code for possible problems ... OK
* checking Rd files ... OK
* checking Rd metadata ... OK
* checking Rd cross-references ... OK
* checking for missing documentation entries ... OK
* checking for code/documentation mismatches ... OK
* checking Rd \usage sections ... OK
* checking Rd contents ... OK
* checking for unstated dependencies in examples ... OK
* checking contents of ‘data’ directory ... OK
* checking data for non-ASCII characters ... OK
* checking LazyData ... OK
* checking data for ASCII and uncompressed saves ... OK
* checking files in ‘vignettes’ ... OK
* checking examples ... OK
Examples with CPU (user + system) or elapsed time > 5s
           user system elapsed
findLinks 5.891  1.059   6.332
* checking for unstated dependencies in vignettes ... OK
* checking package vignettes ... OK
* checking re-building of vignette outputs ... OK
* checking PDF version of manual ... OK
* DONE

Status: OK


Installation output

CAGEfightR.Rcheck/00install.out

##############################################################################
##############################################################################
###
### Running command:
###
###   /home/biocbuild/bbs-3.22-bioc/R/bin/R CMD INSTALL CAGEfightR
###
##############################################################################
##############################################################################


* installing to library ‘/home/biocbuild/bbs-3.22-bioc/R/site-library’
* installing *source* package ‘CAGEfightR’ ...
** this is package ‘CAGEfightR’ version ‘1.29.1’
** using staged installation
** R
** data
*** moving datasets to lazyload DB
** inst
** byte-compile and prepare package for lazy loading
** help
*** installing help indices
** building package indices
** installing vignettes
** testing if installed package can be loaded from temporary location
** testing if installed package can be loaded from final location
** testing if installed package keeps a record of temporary installation path
* DONE (CAGEfightR)

Tests output


Example timings

CAGEfightR.Rcheck/CAGEfightR-Ex.timings

nameusersystemelapsed
assignGeneID3.2760.0473.328
assignMissingID0.8970.0020.899
assignTxID0.7610.0010.762
assignTxType000
balanceBC0.0010.0000.001
balanceD0.0000.0010.000
bwCommonGenome0.0310.0010.033
bwGenomeCompatibility0.0160.0010.017
bwValid0.0070.0010.008
calcBidirectionality0.3710.0020.373
calcComposition2.0910.0972.188
calcPooled0.0730.0230.097
calcShape2.0900.1372.227
calcSupport0.0930.0060.099
calcTPM0.1070.0070.114
calcTotalTags0.0530.0060.060
checkCTSSs0.2230.0070.231
checkPeaked0.0610.0040.065
checkPooled0.0510.0080.059
clusterBidirectionally000
clusterUnidirectionally1.3940.0411.435
combineClusters0.7110.0100.721
convertBAM2BigWig0.0010.0000.000
convertBED2BigWig000
convertGRanges2GPos0.0650.0010.066
exampleDesign0.0030.0000.004
findLinks5.8911.0596.332
findStretches0.3520.0460.398
quantifyCTSSs000
quantifyCTSSs2000
quantifyClusters0.3480.0670.415
quantifyGenes1.0970.1111.208
quickEnhancers000
quickGenes000
quickTSSs000
shapeEntropy0.0000.0000.001
shapeIQR0.0000.0000.001
shapeMean0.0000.0000.001
shapeMultimodality000
subsetByBidirectionality0.3850.0360.422
subsetByComposition1.0760.0691.146
subsetBySupport0.0670.0100.077
swapRanges0.1830.0130.195
swapScores0.0770.0030.080
trackBalance000
trackCTSS3.0790.3873.466
trackClusters2.0440.1922.236
trackLinks0.7970.4440.983
trimToPeak0.7670.0960.862
trimToPercentiles1.9030.1492.053
tuneTagClustering000
utilsAggregateRows0.2670.0770.344
utilsDeStrand0.1080.0010.110
utilsScoreOverlaps0.0570.0000.057
utilsSimplifyTxDb0.0000.0000.001