Back to Multiple platform build/check report for BioC 3.22:   simplified   long
AB[C]DEFGHIJKLMNOPQRSTUVWXYZ

This page was generated on 2025-11-15 11:58 -0500 (Sat, 15 Nov 2025).

HostnameOSArch (*)R versionInstalled pkgs
nebbiolo2Linux (Ubuntu 24.04.3 LTS)x86_644.5.1 Patched (2025-08-23 r88802) -- "Great Square Root" 4903
taishanLinux (openEuler 24.03 LTS)aarch644.5.0 (2025-04-11) -- "How About a Twenty-Six" 4668
Click on any hostname to see more info about the system (e.g. compilers)      (*) as reported by 'uname -p', except on Windows and Mac OS X

Package 273/2361HostnameOS / ArchINSTALLBUILDCHECKBUILD BIN
CAGEr 2.16.0  (landing page)
Charles Plessy
Snapshot Date: 2025-11-14 13:45 -0500 (Fri, 14 Nov 2025)
git_url: https://git.bioconductor.org/packages/CAGEr
git_branch: RELEASE_3_22
git_last_commit: b717389
git_last_commit_date: 2025-10-29 10:13:45 -0500 (Wed, 29 Oct 2025)
nebbiolo2Linux (Ubuntu 24.04.3 LTS) / x86_64  OK    OK    OK  UNNEEDED, same version is already published
taishanLinux (openEuler 24.03 LTS) / aarch64  OK    OK    OK  


CHECK results for CAGEr on nebbiolo2

To the developers/maintainers of the CAGEr package:
- Allow up to 24 hours (and sometimes 48 hours) for your latest push to git@git.bioconductor.org:packages/CAGEr.git to reflect on this report. See Troubleshooting Build Report for more information.
- Use the following Renviron settings to reproduce errors and warnings.
- If 'R CMD check' started to fail recently on the Linux builder(s) over a missing dependency, add the missing dependency to 'Suggests:' in your DESCRIPTION file. See Renviron.bioc for more information.

raw results


Summary

Package: CAGEr
Version: 2.16.0
Command: /home/biocbuild/bbs-3.22-bioc/R/bin/R CMD check --install=check:CAGEr.install-out.txt --library=/home/biocbuild/bbs-3.22-bioc/R/site-library --timings CAGEr_2.16.0.tar.gz
StartedAt: 2025-11-14 21:52:01 -0500 (Fri, 14 Nov 2025)
EndedAt: 2025-11-14 22:04:44 -0500 (Fri, 14 Nov 2025)
EllapsedTime: 762.9 seconds
RetCode: 0
Status:   OK  
CheckDir: CAGEr.Rcheck
Warnings: 0

Command output

##############################################################################
##############################################################################
###
### Running command:
###
###   /home/biocbuild/bbs-3.22-bioc/R/bin/R CMD check --install=check:CAGEr.install-out.txt --library=/home/biocbuild/bbs-3.22-bioc/R/site-library --timings CAGEr_2.16.0.tar.gz
###
##############################################################################
##############################################################################


* using log directory ‘/home/biocbuild/bbs-3.22-bioc/meat/CAGEr.Rcheck’
* using R version 4.5.1 Patched (2025-08-23 r88802)
* using platform: x86_64-pc-linux-gnu
* R was compiled by
    gcc (Ubuntu 13.3.0-6ubuntu2~24.04) 13.3.0
    GNU Fortran (Ubuntu 13.3.0-6ubuntu2~24.04) 13.3.0
* running under: Ubuntu 24.04.3 LTS
* using session charset: UTF-8
* checking for file ‘CAGEr/DESCRIPTION’ ... OK
* this is package ‘CAGEr’ version ‘2.16.0’
* package encoding: UTF-8
* checking package namespace information ... OK
* checking package dependencies ... INFO
Imports includes 30 non-default packages.
Importing from so many packages makes the package vulnerable to any of
them becoming unavailable.  Move as many as possible to Suggests and
use conditionally.
* checking if this is a source package ... OK
* checking if there is a namespace ... OK
* checking for hidden files and directories ... OK
* checking for portable file names ... OK
* checking for sufficient/correct file permissions ... OK
* checking whether package ‘CAGEr’ can be installed ... OK
* checking installed package size ... OK
* checking package directory ... OK
* checking ‘build’ directory ... OK
* checking DESCRIPTION meta-information ... OK
* checking top-level files ... OK
* checking for left-over files ... OK
* checking index information ... OK
* checking package subdirectories ... OK
* checking code files for non-ASCII characters ... OK
* checking R files for syntax errors ... OK
* checking whether the package can be loaded ... OK
* checking whether the package can be loaded with stated dependencies ... OK
* checking whether the package can be unloaded cleanly ... OK
* checking whether the namespace can be loaded with stated dependencies ... OK
* checking whether the namespace can be unloaded cleanly ... OK
* checking loading without being on the library search path ... OK
* checking dependencies in R code ... OK
* checking S3 generic/method consistency ... OK
* checking replacement functions ... OK
* checking foreign function calls ... OK
* checking R code for possible problems ... OK
* checking Rd files ... OK
* checking Rd metadata ... OK
* checking Rd cross-references ... OK
* checking for missing documentation entries ... OK
* checking for code/documentation mismatches ... OK
* checking Rd \usage sections ... OK
* checking Rd contents ... OK
* checking for unstated dependencies in examples ... OK
* checking contents of ‘data’ directory ... OK
* checking data for non-ASCII characters ... OK
* checking LazyData ... OK
* checking data for ASCII and uncompressed saves ... OK
* checking files in ‘vignettes’ ... OK
* checking examples ... OK
Examples with CPU (user + system) or elapsed time > 5s
                         user system elapsed
paraclu                43.712  0.131  43.854
exportToTrack          36.006  0.145  36.151
scoreShift             21.672  0.187  21.859
aggregateTagClusters   19.620  0.075  19.700
quantilePositions      12.292  0.022  12.316
annotateCTSS           12.133  0.081  12.215
distclu                10.719  0.134  10.853
plotExpressionProfiles  8.462  0.099   8.576
* checking for unstated dependencies in vignettes ... OK
* checking package vignettes ... OK
* checking re-building of vignette outputs ... OK
* checking PDF version of manual ... OK
* DONE

Status: OK


Installation output

CAGEr.Rcheck/00install.out

##############################################################################
##############################################################################
###
### Running command:
###
###   /home/biocbuild/bbs-3.22-bioc/R/bin/R CMD INSTALL CAGEr
###
##############################################################################
##############################################################################


* installing to library ‘/home/biocbuild/bbs-3.22-bioc/R/site-library’
* installing *source* package ‘CAGEr’ ...
** this is package ‘CAGEr’ version ‘2.16.0’
** using staged installation
** R
** data
*** moving datasets to lazyload DB
** inst
** byte-compile and prepare package for lazy loading
** help
*** installing help indices
** building package indices
** installing vignettes
** testing if installed package can be loaded from temporary location
** testing if installed package can be loaded from final location
** testing if installed package keeps a record of temporary installation path
* DONE (CAGEr)

Tests output


Example timings

CAGEr.Rcheck/CAGEr-Ex.timings

nameusersystemelapsed
CAGEexp-class2.7230.0852.809
CAGEr_Multicore3.5280.0013.530
CTSS-class0.2410.0010.242
CTSScoordinates0.0770.0010.078
CTSSnormalizedTpm0.7040.0190.723
CTSStagCount0.6400.1360.776
CTSStoGenes0.4000.0540.454
CustomConsensusClusters4.7770.0054.782
GeneExpDESeq20.5290.0060.535
GeneExpSE0.0040.0000.004
QuantileWidthFunctions0.1330.0010.134
TSSlogo2.8610.0242.889
aggregateTagClusters19.620 0.07519.700
annotateCTSS12.133 0.08112.215
byCtss0.0140.0000.015
consensusClusters0.1550.0080.163
consensusClustersDESeq21.9760.0592.035
consensusClustersTpm0.0060.0000.006
cumulativeCTSSdistribution3.7600.0453.806
distclu10.719 0.13410.853
dot-ctss_summary_for_clusters0.8170.0160.833
exampleCAGEexp0.0000.0010.001
exportToTrack36.006 0.14536.151
expressionClasses1.8230.0011.823
filteredCTSSidx0.0090.0010.010
flagLowExpCTSS0.0320.0010.033
genomeName000
getCTSS0.8950.0080.903
getExpressionProfiles4.8130.0304.843
getShiftingPromoters1.8570.0581.916
hanabi0.2290.0070.236
hanabiPlot0.2740.0100.284
import.CAGEscanMolecule000
import.CTSS0.0740.0020.075
import.bam000
import.bedCTSS000
import.bedScore000
import.bedmolecule000
import.bigwig0.3120.0030.316
importPublicData000
inputFiles0.0010.0000.001
inputFilesType0.0010.0000.001
librarySizes0.0010.0000.001
mapStats0.0810.0010.082
mergeCAGEsets2.0710.0022.073
mergeSamples0.4330.0030.436
moleculesGR2CTSS0.1210.0000.121
normalizeTagCount0.4960.0030.478
paraclu43.712 0.13143.854
parseCAGEscanBlocksToGrangeTSS0.0200.0010.021
plotAnnot3.2660.0623.328
plotCorrelation0.2440.0000.244
plotExpressionProfiles8.4620.0998.576
plotInterquantileWidth2.3040.0062.310
plotReverseCumulatives2.7130.0022.655
quantilePositions12.292 0.02212.316
quickEnhancers000
ranges2annot0.3340.0010.334
ranges2genes0.0610.0000.061
ranges2names0.0580.0000.058
resetCAGEexp0.3060.0000.306
rowSums.RleDataFrame0.0200.0000.021
rowsum.RleDataFrame0.0230.0000.024
sampleLabels0.0030.0000.004
scoreShift21.672 0.18721.859
seqNameTotalsSE0.0040.0000.003
setColors0.3190.0010.319
strandInvaders0.5880.0210.595
summariseChrExpr0.4230.0000.423
tagClusters0.4000.0010.401