Back to Multiple platform build/check report for BioC 3.22:   simplified   long
ABCDEFGHIJKL[M]NOPQRSTUVWXYZ

This page was generated on 2025-11-15 11:58 -0500 (Sat, 15 Nov 2025).

HostnameOSArch (*)R versionInstalled pkgs
nebbiolo2Linux (Ubuntu 24.04.3 LTS)x86_644.5.1 Patched (2025-08-23 r88802) -- "Great Square Root" 4903
taishanLinux (openEuler 24.03 LTS)aarch644.5.0 (2025-04-11) -- "How About a Twenty-Six" 4668
Click on any hostname to see more info about the system (e.g. compilers)      (*) as reported by 'uname -p', except on Windows and Mac OS X

Package 1430/2361HostnameOS / ArchINSTALLBUILDCHECKBUILD BIN
MutationalPatterns 3.20.0  (landing page)
Mark van Roosmalen
Snapshot Date: 2025-11-14 13:45 -0500 (Fri, 14 Nov 2025)
git_url: https://git.bioconductor.org/packages/MutationalPatterns
git_branch: RELEASE_3_22
git_last_commit: 25b6359
git_last_commit_date: 2025-10-29 10:35:07 -0500 (Wed, 29 Oct 2025)
nebbiolo2Linux (Ubuntu 24.04.3 LTS) / x86_64  OK    OK    ERROR  
taishanLinux (openEuler 24.03 LTS) / aarch64  OK    OK    ERROR  


CHECK results for MutationalPatterns on nebbiolo2

To the developers/maintainers of the MutationalPatterns package:
- Allow up to 24 hours (and sometimes 48 hours) for your latest push to git@git.bioconductor.org:packages/MutationalPatterns.git to reflect on this report. See Troubleshooting Build Report for more information.
- Use the following Renviron settings to reproduce errors and warnings.
- If 'R CMD check' started to fail recently on the Linux builder(s) over a missing dependency, add the missing dependency to 'Suggests:' in your DESCRIPTION file. See Renviron.bioc for more information.

raw results


Summary

Package: MutationalPatterns
Version: 3.20.0
Command: /home/biocbuild/bbs-3.22-bioc/R/bin/R CMD check --install=check:MutationalPatterns.install-out.txt --library=/home/biocbuild/bbs-3.22-bioc/R/site-library --timings MutationalPatterns_3.20.0.tar.gz
StartedAt: 2025-11-15 02:19:01 -0500 (Sat, 15 Nov 2025)
EndedAt: 2025-11-15 02:39:30 -0500 (Sat, 15 Nov 2025)
EllapsedTime: 1229.3 seconds
RetCode: 1
Status:   ERROR  
CheckDir: MutationalPatterns.Rcheck
Warnings: NA

Command output

##############################################################################
##############################################################################
###
### Running command:
###
###   /home/biocbuild/bbs-3.22-bioc/R/bin/R CMD check --install=check:MutationalPatterns.install-out.txt --library=/home/biocbuild/bbs-3.22-bioc/R/site-library --timings MutationalPatterns_3.20.0.tar.gz
###
##############################################################################
##############################################################################


* using log directory ‘/home/biocbuild/bbs-3.22-bioc/meat/MutationalPatterns.Rcheck’
* using R version 4.5.1 Patched (2025-08-23 r88802)
* using platform: x86_64-pc-linux-gnu
* R was compiled by
    gcc (Ubuntu 13.3.0-6ubuntu2~24.04) 13.3.0
    GNU Fortran (Ubuntu 13.3.0-6ubuntu2~24.04) 13.3.0
* running under: Ubuntu 24.04.3 LTS
* using session charset: UTF-8
* checking for file ‘MutationalPatterns/DESCRIPTION’ ... OK
* checking extension type ... Package
* this is package ‘MutationalPatterns’ version ‘3.20.0’
* package encoding: UTF-8
* checking package namespace information ... OK
* checking package dependencies ... OK
* checking if this is a source package ... OK
* checking if there is a namespace ... OK
* checking for hidden files and directories ... OK
* checking for portable file names ... OK
* checking for sufficient/correct file permissions ... OK
* checking whether package ‘MutationalPatterns’ can be installed ... OK
* checking installed package size ... OK
* checking package directory ... OK
* checking ‘build’ directory ... OK
* checking DESCRIPTION meta-information ... NOTE
License stub is invalid DCF.
* checking top-level files ... OK
* checking for left-over files ... OK
* checking index information ... OK
* checking package subdirectories ... OK
* checking code files for non-ASCII characters ... OK
* checking R files for syntax errors ... OK
* checking whether the package can be loaded ... OK
* checking whether the package can be loaded with stated dependencies ... OK
* checking whether the package can be unloaded cleanly ... OK
* checking whether the namespace can be loaded with stated dependencies ... OK
* checking whether the namespace can be unloaded cleanly ... OK
* checking loading without being on the library search path ... OK
* checking dependencies in R code ... OK
* checking S3 generic/method consistency ... OK
* checking replacement functions ... OK
* checking foreign function calls ... OK
* checking R code for possible problems ... OK
* checking Rd files ... OK
* checking Rd metadata ... OK
* checking Rd cross-references ... OK
* checking for missing documentation entries ... OK
* checking for code/documentation mismatches ... OK
* checking Rd \usage sections ... OK
* checking Rd contents ... OK
* checking for unstated dependencies in examples ... OK
* checking files in ‘vignettes’ ... OK
* checking examples ... OK
Examples with CPU (user + system) or elapsed time > 5s
                                    user system elapsed
context_potential_damage_analysis 24.325  1.001  25.332
read_vcfs_as_granges              21.373  1.909  28.436
plot_lesion_segregation           17.410  0.068  17.478
get_mut_type                      11.662  0.063  11.726
calculate_lesion_segregation      10.924  0.774  11.699
plot_compare_indels               11.030  0.034  11.065
genomic_distribution              10.417  0.289  10.707
plot_indel_contexts               10.547  0.031  10.579
bin_mutation_density               9.645  0.486  10.133
get_indel_context                  6.746  0.383   7.129
plot_compare_dbs                   6.954  0.082   7.037
plot_spectrum_region               6.281  0.066   6.348
fit_to_signatures_bootstrapped     6.264  0.076   6.340
plot_spectrum                      6.219  0.033   6.252
plot_profile_heatmap               5.744  0.086   5.830
plot_river                         5.733  0.029   5.763
fit_to_signatures_strict           5.266  0.197   5.464
mut_matrix_stranded                5.197  0.246   5.444
plot_dbs_contexts                  5.294  0.051   5.345
* checking for unstated dependencies in ‘tests’ ... OK
* checking tests ...
  Running ‘testthat.R’
 ERROR
Running the tests in ‘tests/testthat.R’ failed.
Last 13 lines of output:
  [68] 2 - 1 ==  1
  [69] 4 - 3 ==  1
  [70] 5 - 6 == -1
  [71] 2 - 1 ==  1
  [72] 1 - 0 ==  1
  [74] 3 - 2 ==  1
  [77] 4 - 3 ==  1
  [78] 2 - 1 ==  1
  [79] 1 - 0 ==  1
  ...
  
  [ FAIL 3 | WARN 41 | SKIP 0 | PASS 471 ]
  Error:
  ! Test failures.
  Execution halted
* checking for unstated dependencies in vignettes ... OK
* checking package vignettes ... OK
* checking re-building of vignette outputs ... OK
* checking PDF version of manual ... OK
* DONE

Status: 1 ERROR, 1 NOTE
See
  ‘/home/biocbuild/bbs-3.22-bioc/meat/MutationalPatterns.Rcheck/00check.log’
for details.


Installation output

MutationalPatterns.Rcheck/00install.out

##############################################################################
##############################################################################
###
### Running command:
###
###   /home/biocbuild/bbs-3.22-bioc/R/bin/R CMD INSTALL MutationalPatterns
###
##############################################################################
##############################################################################


* installing to library ‘/home/biocbuild/bbs-3.22-bioc/R/site-library’
* installing *source* package ‘MutationalPatterns’ ...
** this is package ‘MutationalPatterns’ version ‘3.20.0’
** using staged installation
** R
** inst
** byte-compile and prepare package for lazy loading
** help
*** installing help indices
** building package indices
** installing vignettes
** testing if installed package can be loaded from temporary location
** testing if installed package can be loaded from final location
** testing if installed package keeps a record of temporary installation path
* DONE (MutationalPatterns)

Tests output

MutationalPatterns.Rcheck/tests/testthat.Rout.fail


R version 4.5.1 Patched (2025-08-23 r88802) -- "Great Square Root"
Copyright (C) 2025 The R Foundation for Statistical Computing
Platform: x86_64-pc-linux-gnu

R is free software and comes with ABSOLUTELY NO WARRANTY.
You are welcome to redistribute it under certain conditions.
Type 'license()' or 'licence()' for distribution details.

R is a collaborative project with many contributors.
Type 'contributors()' for more information and
'citation()' on how to cite R or R packages in publications.

Type 'demo()' for some demos, 'help()' for on-line help, or
'help.start()' for an HTML browser interface to help.
Type 'q()' to quit R.

> library(testthat)
> library(MutationalPatterns)
Loading required package: GenomicRanges
Loading required package: stats4
Loading required package: BiocGenerics
Loading required package: generics

Attaching package: 'generics'

The following objects are masked from 'package:base':

    as.difftime, as.factor, as.ordered, intersect, is.element, setdiff,
    setequal, union


Attaching package: 'BiocGenerics'

The following objects are masked from 'package:stats':

    IQR, mad, sd, var, xtabs

The following objects are masked from 'package:base':

    Filter, Find, Map, Position, Reduce, anyDuplicated, aperm, append,
    as.data.frame, basename, cbind, colnames, dirname, do.call,
    duplicated, eval, evalq, get, grep, grepl, is.unsorted, lapply,
    mapply, match, mget, order, paste, pmax, pmax.int, pmin, pmin.int,
    rank, rbind, rownames, sapply, saveRDS, table, tapply, unique,
    unsplit, which.max, which.min

Loading required package: S4Vectors

Attaching package: 'S4Vectors'

The following object is masked from 'package:utils':

    findMatches

The following objects are masked from 'package:base':

    I, expand.grid, unname

Loading required package: IRanges
Loading required package: Seqinfo
Loading required package: NMF
Loading required package: registry
Loading required package: rngtools
Loading required package: cluster
NMF - BioConductor layer [OK] | Shared memory capabilities [NO: bigmemory] | Cores 2/2
  To enable shared memory capabilities, try: install.extras('
NMF
')

Attaching package: 'NMF'

The following object is masked from 'package:S4Vectors':

    nrun

The following object is masked from 'package:generics':

    fit

The following object is masked from 'package:testthat':

    compare

> 
> test_check("MutationalPatterns")
Saving _problems/test-context_potential_damage_analysis-46.R
Saving _problems/test-mut_matrix_stranded-20.R
Saving _problems/test-mut_matrix_stranded-29.R
[ FAIL 3 | WARN 41 | SKIP 0 | PASS 471 ]

══ Failed tests ════════════════════════════════════════════════════════════════
── Failure ('test-context_potential_damage_analysis.R:46:3'): Output is equal to expected ──
Expected `output` to equal `expected`.
Differences:
Component "n": Mean relative difference: 0.09452736
Component "ratio": Mean relative difference: 0.06150134
Component "blosum62": Mean relative difference: 0.2656804
── Failure ('test-mut_matrix_stranded.R:20:3'): transforms correctly ───────────
Expected `output` to equal `expected`.
Differences:
382/1728 mismatches (average diff: 1.45)
[68] 2 - 1 ==  1
[69] 4 - 3 ==  1
[70] 5 - 6 == -1
[71] 2 - 1 ==  1
[72] 1 - 0 ==  1
[74] 3 - 2 ==  1
[77] 4 - 3 ==  1
[78] 2 - 1 ==  1
[79] 1 - 0 ==  1
...
── Failure ('test-mut_matrix_stranded.R:29:3'): a list is also acceptable input ──
Expected `output_list` to equal `expected`.
Differences:
382/1728 mismatches (average diff: 1.45)
[68] 2 - 1 ==  1
[69] 4 - 3 ==  1
[70] 5 - 6 == -1
[71] 2 - 1 ==  1
[72] 1 - 0 ==  1
[74] 3 - 2 ==  1
[77] 4 - 3 ==  1
[78] 2 - 1 ==  1
[79] 1 - 0 ==  1
...

[ FAIL 3 | WARN 41 | SKIP 0 | PASS 471 ]
Error:
! Test failures.
Execution halted

Example timings

MutationalPatterns.Rcheck/MutationalPatterns-Ex.timings

nameusersystemelapsed
bin_mutation_density 9.645 0.48610.133
binomial_test0.0110.0000.010
calculate_lesion_segregation10.924 0.77411.699
cluster_signatures0.0460.0010.046
context_potential_damage_analysis24.325 1.00125.332
convert_sigs_to_ref0.0420.0030.045
cos_sim000
cos_sim_matrix0.0210.0010.022
count_dbs_contexts0.0930.0000.092
count_indel_contexts0.1020.0000.102
count_mbs_contexts0.1330.0000.133
determine_regional_similarity2.8530.0902.944
enrichment_depletion_test0.1330.0000.134
extract_signatures0.0000.0020.002
fit_to_signatures0.0890.0090.099
fit_to_signatures_bootstrapped6.2640.0766.340
fit_to_signatures_strict5.2660.1975.464
genomic_distribution10.417 0.28910.707
get_dbs_context0.2510.0020.253
get_indel_context6.7460.3837.129
get_known_signatures0.1940.0520.250
get_mut_type11.662 0.06311.726
lengthen_mut_matrix0.0120.0000.012
merge_signatures1.1810.0691.250
mut_context1.2180.0911.309
mut_matrix1.9330.1252.058
mut_matrix_stranded5.1970.2465.444
mut_strand1.8480.0361.885
mut_type0.0270.0010.028
mut_type_occurrences0.9230.0390.962
mutations_from_vcf0.030.000.03
plot_192_profile3.6480.0353.684
plot_96_profile3.0020.0123.014
plot_bootstrapped_contribution2.5650.0112.577
plot_compare_dbs6.9540.0827.037
plot_compare_indels11.030 0.03411.065
plot_compare_mbs1.4600.0191.480
plot_compare_profiles2.7410.0122.753
plot_contribution2.3030.0352.338
plot_contribution_heatmap2.4310.0082.439
plot_correlation_bootstrap1.8800.0391.919
plot_cosine_heatmap2.7690.0162.786
plot_dbs_contexts5.2940.0515.345
plot_enrichment_depletion4.7880.0514.839
plot_indel_contexts10.547 0.03110.579
plot_lesion_segregation17.410 0.06817.478
plot_main_dbs_contexts0.8470.0590.906
plot_main_indel_contexts0.9320.0100.942
plot_mbs_contexts0.7590.0000.759
plot_original_vs_reconstructed0.9690.0000.969
plot_profile_heatmap5.7440.0865.830
plot_profile_region1.2240.0031.227
plot_rainfall2.0890.0232.112
plot_regional_similarity2.8170.0342.852
plot_river5.7330.0295.763
plot_signature_strand_bias1.0740.0011.076
plot_spectrum6.2190.0336.252
plot_spectrum_region6.2810.0666.348
plot_strand0.3650.0020.368
plot_strand_bias1.0440.0011.045
pool_mut_mat0.0510.0010.052
read_vcfs_as_granges21.373 1.90928.436
rename_nmf_signatures0.0300.0030.033
signature_potential_damage_analysis0.0870.0060.093
split_muts_region3.9830.3794.362
strand_bias_test0.1300.0260.156
strand_occurrences0.1350.0070.143
type_context1.1080.1361.244