Back to Mac ARM64 build report for BioC 3.18 |
|
This page was generated on 2024-04-18 11:32:03 -0400 (Thu, 18 Apr 2024).
Hostname | OS | Arch (*) | R version | Installed pkgs |
---|---|---|---|---|
kjohnson1 | macOS 13.6.1 Ventura | arm64 | 4.3.3 (2024-02-29) -- "Angel Food Cake" | 4388 |
Click on any hostname to see more info about the system (e.g. compilers) (*) as reported by 'uname -p', except on Windows and Mac OS X |
To the developers/maintainers of the rtracklayer package: - Use the following Renviron settings to reproduce errors and warnings. - If 'R CMD check' started to fail recently on the Linux builder(s) over a missing dependency, add the missing dependency to 'Suggests:' in your DESCRIPTION file. See Renviron.bioc for more information. |
Package 1820/2266 | Hostname | OS / Arch | INSTALL | BUILD | CHECK | BUILD BIN | ||||||||
rtracklayer 1.62.0 (landing page) Michael Lawrence
| kjohnson1 | macOS 13.6.1 Ventura / arm64 | OK | OK | WARNINGS | OK | ![]() | |||||||
QUICK STATS | OS / Arch | INSTALL | BUILD | CHECK | BUILD BIN | |||||||||||||||||
kjohnson1 | macOS 13.6.1 Ventura / arm64 |
|
|
|
| |||||||||||||||||
Package 1/177 | Hostname | OS / Arch | INSTALL | BUILD | CHECK | BUILD BIN | ||||||||||||||||
alabaster.files 1.0.0 (landing page) Aaron Lun
| kjohnson1 | macOS 13.6.1 Ventura / arm64 | OK | OK | OK | OK | ![]() | |||||||||||||||
Package 2/177 | Hostname | OS / Arch | INSTALL | BUILD | CHECK | BUILD BIN | ||||||||||||||||
AnnotationHubData 1.32.1 (landing page) Bioconductor Package Maintainer
| kjohnson1 | macOS 13.6.1 Ventura / arm64 | OK | OK | ERROR | OK | ||||||||||||||||
Package 3/177 | Hostname | OS / Arch | INSTALL | BUILD | CHECK | BUILD BIN | ||||||||||||||||
annotatr 1.28.0 (landing page) Raymond G. Cavalcante
| kjohnson1 | macOS 13.6.1 Ventura / arm64 | OK | OK | OK | OK | ![]() | |||||||||||||||
Package 4/177 | Hostname | OS / Arch | INSTALL | BUILD | CHECK | BUILD BIN | ||||||||||||||||
APAlyzer 1.16.0 (landing page) Ruijia Wang
| kjohnson1 | macOS 13.6.1 Ventura / arm64 | OK | OK | WARNINGS | OK | ![]() | |||||||||||||||
Package 5/177 | Hostname | OS / Arch | INSTALL | BUILD | CHECK | BUILD BIN | ||||||||||||||||
ATACseqQC 1.26.0 (landing page) Jianhong Ou
| kjohnson1 | macOS 13.6.1 Ventura / arm64 | OK | OK | OK | OK | ![]() | |||||||||||||||
Package 6/177 | Hostname | OS / Arch | INSTALL | BUILD | CHECK | BUILD BIN | ||||||||||||||||
ballgown 2.34.0 (landing page) Jack Fu
| kjohnson1 | macOS 13.6.1 Ventura / arm64 | OK | OK | OK | OK | ![]() | |||||||||||||||
Package 7/177 | Hostname | OS / Arch | INSTALL | BUILD | CHECK | BUILD BIN | ||||||||||||||||
BgeeCall 1.18.1 (landing page) Julien Wollbrett
| kjohnson1 | macOS 13.6.1 Ventura / arm64 | OK | OK | OK | OK | ![]() | |||||||||||||||
Package 8/177 | Hostname | OS / Arch | INSTALL | BUILD | CHECK | BUILD BIN | ||||||||||||||||
BindingSiteFinder 2.0.0 (landing page) Mirko Brüggemann
| kjohnson1 | macOS 13.6.1 Ventura / arm64 | OK | OK | OK | OK | ![]() | |||||||||||||||
Package 9/177 | Hostname | OS / Arch | INSTALL | BUILD | CHECK | BUILD BIN | ||||||||||||||||
biscuiteer 1.16.0 (landing page) Jacob Morrison
| kjohnson1 | macOS 13.6.1 Ventura / arm64 | OK | OK | WARNINGS | OK | ![]() | |||||||||||||||
Package 10/177 | Hostname | OS / Arch | INSTALL | BUILD | CHECK | BUILD BIN | ||||||||||||||||
BiSeq 1.42.0 (landing page) Katja Hebestreit
| kjohnson1 | macOS 13.6.1 Ventura / arm64 | OK | OK | OK | OK | ![]() | |||||||||||||||
Package 11/177 | Hostname | OS / Arch | INSTALL | BUILD | CHECK | BUILD BIN | ||||||||||||||||
branchpointer 1.28.0 (landing page) Beth Signal
| kjohnson1 | macOS 13.6.1 Ventura / arm64 | OK | OK | OK | OK | ![]() | |||||||||||||||
Package 12/177 | Hostname | OS / Arch | INSTALL | BUILD | CHECK | BUILD BIN | ||||||||||||||||
BRGenomics 1.14.1 (landing page) Mike DeBerardine
| kjohnson1 | macOS 13.6.1 Ventura / arm64 | OK | OK | OK | OK | ![]() | |||||||||||||||
Package 13/177 | Hostname | OS / Arch | INSTALL | BUILD | CHECK | BUILD BIN | ||||||||||||||||
BSgenome 1.70.2 (landing page) Hervé Pagès
| kjohnson1 | macOS 13.6.1 Ventura / arm64 | OK | OK | WARNINGS | OK | ![]() | |||||||||||||||
Package 14/177 | Hostname | OS / Arch | INSTALL | BUILD | CHECK | BUILD BIN | ||||||||||||||||
BSgenomeForge 1.2.3 (landing page) Hervé Pagès
| kjohnson1 | macOS 13.6.1 Ventura / arm64 | OK | OK | OK | OK | ![]() | |||||||||||||||
Package 15/177 | Hostname | OS / Arch | INSTALL | BUILD | CHECK | BUILD BIN | ||||||||||||||||
CAGEfightR 1.22.0 (landing page) Malte Thodberg
| kjohnson1 | macOS 13.6.1 Ventura / arm64 | OK | OK | OK | OK | ![]() | |||||||||||||||
Package 16/177 | Hostname | OS / Arch | INSTALL | BUILD | CHECK | BUILD BIN | ||||||||||||||||
CAGEr 2.8.0 (landing page) Charles Plessy
| kjohnson1 | macOS 13.6.1 Ventura / arm64 | OK | OK | OK | OK | ![]() | |||||||||||||||
Package 17/177 | Hostname | OS / Arch | INSTALL | BUILD | CHECK | BUILD BIN | ||||||||||||||||
casper 2.36.0 (landing page) David Rossell
| kjohnson1 | macOS 13.6.1 Ventura / arm64 | OK | ERROR | skipped | skipped | ||||||||||||||||
Package 18/177 | Hostname | OS / Arch | INSTALL | BUILD | CHECK | BUILD BIN | ||||||||||||||||
CexoR 1.40.0 (landing page) Pedro Madrigal
| kjohnson1 | macOS 13.6.1 Ventura / arm64 | OK | OK | OK | OK | ![]() | |||||||||||||||
Package 19/177 | Hostname | OS / Arch | INSTALL | BUILD | CHECK | BUILD BIN | ||||||||||||||||
ChIPanalyser 1.24.0 (landing page) Patrick C.N. Martin
| kjohnson1 | macOS 13.6.1 Ventura / arm64 | OK | OK | OK | OK | ![]() | |||||||||||||||
Package 20/177 | Hostname | OS / Arch | INSTALL | BUILD | CHECK | BUILD BIN | ||||||||||||||||
ChIPComp 1.32.0 (landing page) Li Chen
| kjohnson1 | macOS 13.6.1 Ventura / arm64 | OK | OK | OK | OK | ![]() | |||||||||||||||
Package 21/177 | Hostname | OS / Arch | INSTALL | BUILD | CHECK | BUILD BIN | ||||||||||||||||
chipenrich 2.26.0 (landing page) Kai Wang
| kjohnson1 | macOS 13.6.1 Ventura / arm64 | OK | OK | OK | OK | ![]() | |||||||||||||||
Package 22/177 | Hostname | OS / Arch | INSTALL | BUILD | CHECK | BUILD BIN | ||||||||||||||||
ChIPpeakAnno 3.36.1 (landing page) Jianhong Ou
| kjohnson1 | macOS 13.6.1 Ventura / arm64 | OK | OK | OK | OK | ![]() | |||||||||||||||
Package 23/177 | Hostname | OS / Arch | INSTALL | BUILD | CHECK | BUILD BIN | ||||||||||||||||
ChIPseeker 1.38.0 (landing page) Guangchuang Yu
| kjohnson1 | macOS 13.6.1 Ventura / arm64 | OK | OK | OK | OK | ![]() | |||||||||||||||
Package 24/177 | Hostname | OS / Arch | INSTALL | BUILD | CHECK | BUILD BIN | ||||||||||||||||
ChromHeatMap 1.56.0 (landing page) Tim F. Rayner
| kjohnson1 | macOS 13.6.1 Ventura / arm64 | OK | OK | OK | OK | ![]() | |||||||||||||||
Package 25/177 | Hostname | OS / Arch | INSTALL | BUILD | CHECK | BUILD BIN | ||||||||||||||||
ChromSCape 1.12.0 (landing page) Pacome Prompsy
| kjohnson1 | macOS 13.6.1 Ventura / arm64 | OK | OK | ERROR | OK | ||||||||||||||||
Package 26/177 | Hostname | OS / Arch | INSTALL | BUILD | CHECK | BUILD BIN | ||||||||||||||||
circRNAprofiler 1.16.0 (landing page) Simona Aufiero
| kjohnson1 | macOS 13.6.1 Ventura / arm64 | OK | OK | OK | OK | ![]() | |||||||||||||||
Package 27/177 | Hostname | OS / Arch | INSTALL | BUILD | CHECK | BUILD BIN | ||||||||||||||||
cliProfiler 1.8.0 (landing page) You Zhou
| kjohnson1 | macOS 13.6.1 Ventura / arm64 | OK | OK | OK | OK | ![]() | |||||||||||||||
Package 28/177 | Hostname | OS / Arch | INSTALL | BUILD | CHECK | BUILD BIN | ||||||||||||||||
CNEr 1.38.0 (landing page) Ge Tan
| kjohnson1 | macOS 13.6.1 Ventura / arm64 | OK | OK | ERROR | OK | ||||||||||||||||
Package 29/177 | Hostname | OS / Arch | INSTALL | BUILD | CHECK | BUILD BIN | ||||||||||||||||
coMET 1.34.0 (landing page) Tiphaine Martin
| kjohnson1 | macOS 13.6.1 Ventura / arm64 | OK | OK | WARNINGS | OK | ![]() | |||||||||||||||
Package 30/177 | Hostname | OS / Arch | INSTALL | BUILD | CHECK | BUILD BIN | ||||||||||||||||
compartmap 1.20.0 (landing page) Benjamin Johnson
| kjohnson1 | macOS 13.6.1 Ventura / arm64 | OK | OK | OK | OK | ![]() | |||||||||||||||
Package 31/177 | Hostname | OS / Arch | INSTALL | BUILD | CHECK | BUILD BIN | ||||||||||||||||
consensusSeekeR 1.30.0 (landing page) Astrid Deschenes
| kjohnson1 | macOS 13.6.1 Ventura / arm64 | OK | OK | OK | OK | ![]() | |||||||||||||||
Package 32/177 | Hostname | OS / Arch | INSTALL | BUILD | CHECK | BUILD BIN | ||||||||||||||||
contiBAIT 1.30.0 (landing page) Kieran O'Neill
| kjohnson1 | macOS 13.6.1 Ventura / arm64 | OK | OK | WARNINGS | OK | ![]() | |||||||||||||||
Package 33/177 | Hostname | OS / Arch | INSTALL | BUILD | CHECK | BUILD BIN | ||||||||||||||||
conumee 1.36.0 (landing page) Volker Hovestadt
| kjohnson1 | macOS 13.6.1 Ventura / arm64 | OK | OK | OK | OK | ![]() | |||||||||||||||
Package 34/177 | Hostname | OS / Arch | INSTALL | BUILD | CHECK | BUILD BIN | ||||||||||||||||
CoverageView 1.40.0 (landing page) Ernesto Lowy
| kjohnson1 | macOS 13.6.1 Ventura / arm64 | OK | OK | WARNINGS | OK | ![]() | |||||||||||||||
Package 35/177 | Hostname | OS / Arch | INSTALL | BUILD | CHECK | BUILD BIN | ||||||||||||||||
crisprDesign 1.4.0 (landing page) Jean-Philippe Fortin
| kjohnson1 | macOS 13.6.1 Ventura / arm64 | OK | OK | OK | OK | ![]() | |||||||||||||||
Package 36/177 | Hostname | OS / Arch | INSTALL | BUILD | CHECK | BUILD BIN | ||||||||||||||||
CSSQ 1.14.0 (landing page) Fan Lab at Georgia Institute of Technology
| kjohnson1 | macOS 13.6.1 Ventura / arm64 | OK | OK | OK | OK | ![]() | |||||||||||||||
Package 37/177 | Hostname | OS / Arch | INSTALL | BUILD | CHECK | BUILD BIN | ||||||||||||||||
cummeRbund 2.44.0 (landing page) Loyal A. Goff
| kjohnson1 | macOS 13.6.1 Ventura / arm64 | OK | OK | WARNINGS | OK | ![]() | |||||||||||||||
Package 38/177 | Hostname | OS / Arch | INSTALL | BUILD | CHECK | BUILD BIN | ||||||||||||||||
customProDB 1.42.1 (landing page) Xiaojing Wang
| kjohnson1 | macOS 13.6.1 Ventura / arm64 | OK | OK | OK | OK | ![]() | |||||||||||||||
Package 39/177 | Hostname | OS / Arch | INSTALL | BUILD | CHECK | BUILD BIN | ||||||||||||||||
Felipe Albrecht
| kjohnson1 | macOS 13.6.1 Ventura / arm64 | ERROR | ERROR | skipped | skipped | ||||||||||||||||
Package 40/177 | Hostname | OS / Arch | INSTALL | BUILD | CHECK | BUILD BIN | ||||||||||||||||
derfinder 1.36.0 (landing page) Leonardo Collado-Torres
| kjohnson1 | macOS 13.6.1 Ventura / arm64 | OK | OK | OK | OK | ![]() | |||||||||||||||
Package 41/177 | Hostname | OS / Arch | INSTALL | BUILD | CHECK | BUILD BIN | ||||||||||||||||
DEScan2 1.22.0 (landing page) Dario Righelli
| kjohnson1 | macOS 13.6.1 Ventura / arm64 | OK | OK | WARNINGS | OK | ![]() | |||||||||||||||
Package 42/177 | Hostname | OS / Arch | INSTALL | BUILD | CHECK | BUILD BIN | ||||||||||||||||
diffHic 1.34.0 (landing page) Aaron Lun
| kjohnson1 | macOS 13.6.1 Ventura / arm64 | OK | OK | WARNINGS | OK | ![]() | |||||||||||||||
Package 43/177 | Hostname | OS / Arch | INSTALL | BUILD | CHECK | BUILD BIN | ||||||||||||||||
diffUTR 1.10.0 (landing page) Pierre-Luc Germain
| kjohnson1 | macOS 13.6.1 Ventura / arm64 | OK | OK | OK | OK | ![]() | |||||||||||||||
Package 44/177 | Hostname | OS / Arch | INSTALL | BUILD | CHECK | BUILD BIN | ||||||||||||||||
DMCFB 1.16.1 (landing page) Farhad Shokoohi
| kjohnson1 | macOS 13.6.1 Ventura / arm64 | OK | OK | OK | OK | ![]() | |||||||||||||||
Package 45/177 | Hostname | OS / Arch | INSTALL | BUILD | CHECK | BUILD BIN | ||||||||||||||||
DMCHMM 1.24.0 (landing page) Farhad Shokoohi
| kjohnson1 | macOS 13.6.1 Ventura / arm64 | OK | OK | OK | OK | ![]() | |||||||||||||||
Package 46/177 | Hostname | OS / Arch | INSTALL | BUILD | CHECK | BUILD BIN | ||||||||||||||||
dmrseq 1.22.1 (landing page) Keegan Korthauer
| kjohnson1 | macOS 13.6.1 Ventura / arm64 | OK | OK | OK | OK | ![]() | |||||||||||||||
Package 47/177 | Hostname | OS / Arch | INSTALL | BUILD | CHECK | BUILD BIN | ||||||||||||||||
easylift 1.0.0 (landing page) Abdullah Al Nahid
| kjohnson1 | macOS 13.6.1 Ventura / arm64 | OK | OK | OK | OK | ![]() | |||||||||||||||
Package 48/177 | Hostname | OS / Arch | INSTALL | BUILD | CHECK | BUILD BIN | ||||||||||||||||
ELMER 2.26.0 (landing page) Tiago Chedraoui Silva
| kjohnson1 | macOS 13.6.1 Ventura / arm64 | OK | OK | OK | OK | ![]() | |||||||||||||||
Package 49/177 | Hostname | OS / Arch | INSTALL | BUILD | CHECK | BUILD BIN | ||||||||||||||||
enhancerHomologSearch 1.8.3 (landing page) Jianhong Ou
| kjohnson1 | macOS 13.6.1 Ventura / arm64 | OK | OK | OK | OK | ![]() | |||||||||||||||
Package 50/177 | Hostname | OS / Arch | INSTALL | BUILD | CHECK | BUILD BIN | ||||||||||||||||
enrichTF 1.18.0 (landing page) Zheng Wei
| kjohnson1 | macOS 13.6.1 Ventura / arm64 | OK | OK | OK | OK | ![]() | |||||||||||||||
Package 51/177 | Hostname | OS / Arch | INSTALL | BUILD | CHECK | BUILD BIN | ||||||||||||||||
ensembldb 2.26.1 (landing page) Johannes Rainer
| kjohnson1 | macOS 13.6.1 Ventura / arm64 | OK | OK | OK | OK | ![]() | |||||||||||||||
Package 52/177 | Hostname | OS / Arch | INSTALL | BUILD | CHECK | BUILD BIN | ||||||||||||||||
EpiCompare 1.6.7 (landing page) Thomas Roberts
| kjohnson1 | macOS 13.6.1 Ventura / arm64 | OK | OK | ERROR | OK | ||||||||||||||||
Package 53/177 | Hostname | OS / Arch | INSTALL | BUILD | CHECK | BUILD BIN | ||||||||||||||||
epidecodeR 1.10.0 (landing page) Kandarp Joshi
| kjohnson1 | macOS 13.6.1 Ventura / arm64 | OK | OK | OK | OK | ![]() | |||||||||||||||
Package 54/177 | Hostname | OS / Arch | INSTALL | BUILD | CHECK | BUILD BIN | ||||||||||||||||
epigraHMM 1.10.0 (landing page) Pedro Baldoni
| kjohnson1 | macOS 13.6.1 Ventura / arm64 | OK | OK | WARNINGS | OK | ![]() | |||||||||||||||
Package 55/177 | Hostname | OS / Arch | INSTALL | BUILD | CHECK | BUILD BIN | ||||||||||||||||
epimutacions 1.6.1 (landing page) Dolors Pelegri-Siso
| kjohnson1 | macOS 13.6.1 Ventura / arm64 | OK | OK | OK | OK | ![]() | |||||||||||||||
Package 56/177 | Hostname | OS / Arch | INSTALL | BUILD | CHECK | BUILD BIN | ||||||||||||||||
erma 1.18.0 (landing page) VJ Carey
| kjohnson1 | macOS 13.6.1 Ventura / arm64 | OK | OK | OK | OK | ![]() | |||||||||||||||
Package 57/177 | Hostname | OS / Arch | INSTALL | BUILD | CHECK | BUILD BIN | ||||||||||||||||
esATAC 1.24.0 (landing page) Zheng Wei
| kjohnson1 | macOS 13.6.1 Ventura / arm64 | OK | OK | OK | OK | ![]() | |||||||||||||||
Package 58/177 | Hostname | OS / Arch | INSTALL | BUILD | CHECK | BUILD BIN | ||||||||||||||||
ExCluster 1.20.0 (landing page) R. Matthew Tanner
| kjohnson1 | macOS 13.6.1 Ventura / arm64 | OK | OK | OK | OK | ![]() | |||||||||||||||
Package 59/177 | Hostname | OS / Arch | INSTALL | BUILD | CHECK | BUILD BIN | ||||||||||||||||
exomePeak2 1.14.3 (landing page) Zhen Wei
| kjohnson1 | macOS 13.6.1 Ventura / arm64 | OK | OK | OK | OK | ![]() | |||||||||||||||
Package 60/177 | Hostname | OS / Arch | INSTALL | BUILD | CHECK | BUILD BIN | ||||||||||||||||
extraChIPs 1.6.1 (landing page) Stephen Pederson
| kjohnson1 | macOS 13.6.1 Ventura / arm64 | OK | OK | OK | OK | ![]() | |||||||||||||||
Package 61/177 | Hostname | OS / Arch | INSTALL | BUILD | CHECK | BUILD BIN | ||||||||||||||||
factR 1.4.0 (landing page) Fursham Hamid
| kjohnson1 | macOS 13.6.1 Ventura / arm64 | OK | OK | OK | OK | ![]() | |||||||||||||||
Package 62/177 | Hostname | OS / Arch | INSTALL | BUILD | CHECK | BUILD BIN | ||||||||||||||||
fcScan 1.16.0 (landing page) Pierre Khoueiry
| kjohnson1 | macOS 13.6.1 Ventura / arm64 | OK | OK | OK | OK | ![]() | |||||||||||||||
Package 63/177 | Hostname | OS / Arch | INSTALL | BUILD | CHECK | BUILD BIN | ||||||||||||||||
FindIT2 1.8.0 (landing page) Guandong Shang
| kjohnson1 | macOS 13.6.1 Ventura / arm64 | OK | OK | OK | OK | ![]() | |||||||||||||||
Package 64/177 | Hostname | OS / Arch | INSTALL | BUILD | CHECK | BUILD BIN | ||||||||||||||||
FLAMES 1.8.0 (landing page) Oliver Voogd
| kjohnson1 | macOS 13.6.1 Ventura / arm64 | OK | OK | ERROR | OK | ||||||||||||||||
Package 65/177 | Hostname | OS / Arch | INSTALL | BUILD | CHECK | BUILD BIN | ||||||||||||||||
Gabriel Becker
| kjohnson1 | macOS 13.6.1 Ventura / arm64 | OK | ERROR | skipped | skipped | ||||||||||||||||
Package 66/177 | Hostname | OS / Arch | INSTALL | BUILD | CHECK | BUILD BIN | ||||||||||||||||
geneAttribution 1.28.0 (landing page) Arthur Wuster
| kjohnson1 | macOS 13.6.1 Ventura / arm64 | OK | OK | OK | OK | ![]() | |||||||||||||||
Package 67/177 | Hostname | OS / Arch | INSTALL | BUILD | CHECK | BUILD BIN | ||||||||||||||||
GeneStructureTools 1.22.0 (landing page) Beth Signal
| kjohnson1 | macOS 13.6.1 Ventura / arm64 | OK | OK | OK | OK | ![]() | |||||||||||||||
Package 68/177 | Hostname | OS / Arch | INSTALL | BUILD | CHECK | BUILD BIN | ||||||||||||||||
geneXtendeR 1.28.0 (landing page) Bohdan Khomtchouk
| kjohnson1 | macOS 13.6.1 Ventura / arm64 | OK | OK | WARNINGS | OK | ![]() | |||||||||||||||
Package 69/177 | Hostname | OS / Arch | INSTALL | BUILD | CHECK | BUILD BIN | ||||||||||||||||
genomation 1.34.0 (landing page) Altuna Akalin
| kjohnson1 | macOS 13.6.1 Ventura / arm64 | OK | OK | WARNINGS | OK | ![]() | |||||||||||||||
Package 70/177 | Hostname | OS / Arch | INSTALL | BUILD | CHECK | BUILD BIN | ||||||||||||||||
GenomicFeatures 1.54.4 (landing page) H. Pagès
| kjohnson1 | macOS 13.6.1 Ventura / arm64 | OK | OK | OK | OK | ![]() | |||||||||||||||
Package 71/177 | Hostname | OS / Arch | INSTALL | BUILD | CHECK | BUILD BIN | ||||||||||||||||
GenomicFiles 1.38.0 (landing page) Bioconductor Package Maintainer
| kjohnson1 | macOS 13.6.1 Ventura / arm64 | OK | OK | WARNINGS | OK | ![]() | |||||||||||||||
Package 72/177 | Hostname | OS / Arch | INSTALL | BUILD | CHECK | BUILD BIN | ||||||||||||||||
GenomicInteractions 1.36.0 (landing page) Liz Ing-Simmons
| kjohnson1 | macOS 13.6.1 Ventura / arm64 | OK | OK | OK | OK | ![]() | |||||||||||||||
Package 73/177 | Hostname | OS / Arch | INSTALL | BUILD | CHECK | BUILD BIN | ||||||||||||||||
GenomicPlot 1.0.8 (landing page) Shuye Pu
| kjohnson1 | macOS 13.6.1 Ventura / arm64 | OK | OK | OK | OK | ![]() | |||||||||||||||
Package 74/177 | Hostname | OS / Arch | INSTALL | BUILD | CHECK | BUILD BIN | ||||||||||||||||
ggbio 1.50.0 (landing page) Michael Lawrence
| kjohnson1 | macOS 13.6.1 Ventura / arm64 | OK | OK | WARNINGS | OK | ![]() | |||||||||||||||
Package 75/177 | Hostname | OS / Arch | INSTALL | BUILD | CHECK | BUILD BIN | ||||||||||||||||
gmapR 1.44.0 (landing page) Michael Lawrence
| kjohnson1 | macOS 13.6.1 Ventura / arm64 | OK | OK | WARNINGS | OK | ![]() | |||||||||||||||
Package 76/177 | Hostname | OS / Arch | INSTALL | BUILD | CHECK | BUILD BIN | ||||||||||||||||
gmoviz 1.14.0 (landing page) Kathleen Zeglinski
| kjohnson1 | macOS 13.6.1 Ventura / arm64 | OK | OK | OK | OK | ![]() | |||||||||||||||
Package 77/177 | Hostname | OS / Arch | INSTALL | BUILD | CHECK | BUILD BIN | ||||||||||||||||
GOTHiC 1.38.0 (landing page) Borbala Mifsud
| kjohnson1 | macOS 13.6.1 Ventura / arm64 | OK | OK | OK | OK | ![]() | |||||||||||||||
Package 78/177 | Hostname | OS / Arch | INSTALL | BUILD | CHECK | BUILD BIN | ||||||||||||||||
GreyListChIP 1.34.0 (landing page) Matt Eldridge
| kjohnson1 | macOS 13.6.1 Ventura / arm64 | OK | OK | OK | OK | ![]() | |||||||||||||||
Package 79/177 | Hostname | OS / Arch | INSTALL | BUILD | CHECK | BUILD BIN | ||||||||||||||||
groHMM 1.36.0 (landing page) Tulip Nandu
| kjohnson1 | macOS 13.6.1 Ventura / arm64 | OK | OK | OK | OK | ![]() | |||||||||||||||
Package 80/177 | Hostname | OS / Arch | INSTALL | BUILD | CHECK | BUILD BIN | ||||||||||||||||
Guitar 2.18.0 (landing page) Jia Meng
| kjohnson1 | macOS 13.6.1 Ventura / arm64 | OK | OK | OK | OK | ![]() | |||||||||||||||
Package 81/177 | Hostname | OS / Arch | INSTALL | BUILD | CHECK | BUILD BIN | ||||||||||||||||
Gviz 1.46.1 (landing page) Robert Ivanek
| kjohnson1 | macOS 13.6.1 Ventura / arm64 | OK | OK | OK | OK | ![]() | |||||||||||||||
Package 82/177 | Hostname | OS / Arch | INSTALL | BUILD | CHECK | BUILD BIN | ||||||||||||||||
HelloRanges 1.28.0 (landing page) Michael Lawrence
| kjohnson1 | macOS 13.6.1 Ventura / arm64 | OK | OK | OK | OK | ![]() | |||||||||||||||
Package 83/177 | Hostname | OS / Arch | INSTALL | BUILD | CHECK | BUILD BIN | ||||||||||||||||
hiAnnotator 1.36.0 (landing page) Nirav V Malani
| kjohnson1 | macOS 13.6.1 Ventura / arm64 | OK | OK | OK | OK | ![]() | |||||||||||||||
Package 84/177 | Hostname | OS / Arch | INSTALL | BUILD | CHECK | BUILD BIN | ||||||||||||||||
HiCDCPlus 1.10.0 (landing page) Merve Sahin
| kjohnson1 | macOS 13.6.1 Ventura / arm64 | OK | OK | OK | OK | ![]() | |||||||||||||||
Package 85/177 | Hostname | OS / Arch | INSTALL | BUILD | CHECK | BUILD BIN | ||||||||||||||||
hicVennDiagram 1.0.2 (landing page) Jianhong Ou
| kjohnson1 | macOS 13.6.1 Ventura / arm64 | OK | OK | OK | OK | ![]() | |||||||||||||||
Package 86/177 | Hostname | OS / Arch | INSTALL | BUILD | CHECK | BUILD BIN | ||||||||||||||||
HiTC 1.46.0 (landing page) Nicolas Servant
| kjohnson1 | macOS 13.6.1 Ventura / arm64 | OK | OK | WARNINGS | OK | ![]() | |||||||||||||||
Package 87/177 | Hostname | OS / Arch | INSTALL | BUILD | CHECK | BUILD BIN | ||||||||||||||||
icetea 1.20.0 (landing page) Vivek Bhardwaj
| kjohnson1 | macOS 13.6.1 Ventura / arm64 | OK | OK | WARNINGS | OK | ![]() | |||||||||||||||
Package 88/177 | Hostname | OS / Arch | INSTALL | BUILD | CHECK | BUILD BIN | ||||||||||||||||
IdeoViz 1.38.0 (landing page) Shraddha Pai
| kjohnson1 | macOS 13.6.1 Ventura / arm64 | OK | ERROR | skipped | skipped | ||||||||||||||||
Package 89/177 | Hostname | OS / Arch | INSTALL | BUILD | CHECK | BUILD BIN | ||||||||||||||||
igvR 1.22.0 (landing page) Arkadiusz Gladki
| kjohnson1 | macOS 13.6.1 Ventura / arm64 | OK | OK | OK | OK | ![]() | |||||||||||||||
Package 90/177 | Hostname | OS / Arch | INSTALL | BUILD | CHECK | BUILD BIN | ||||||||||||||||
INSPEcT 1.32.1 (landing page) Stefano de Pretis
| kjohnson1 | macOS 13.6.1 Ventura / arm64 | OK | OK | OK | OK | ![]() | |||||||||||||||
Package 91/177 | Hostname | OS / Arch | INSTALL | BUILD | CHECK | BUILD BIN | ||||||||||||||||
InTAD 1.22.0 (landing page) Konstantin Okonechnikov
| kjohnson1 | macOS 13.6.1 Ventura / arm64 | OK | OK | OK | OK | ![]() | |||||||||||||||
Package 92/177 | Hostname | OS / Arch | INSTALL | BUILD | CHECK | BUILD BIN | ||||||||||||||||
IsoformSwitchAnalyzeR 2.2.0 (landing page) Kristoffer Vitting-Seerup
| kjohnson1 | macOS 13.6.1 Ventura / arm64 | OK | OK | OK | OK | ![]() | |||||||||||||||
Package 93/177 | Hostname | OS / Arch | INSTALL | BUILD | CHECK | BUILD BIN | ||||||||||||||||
karyoploteR 1.28.0 (landing page) Bernat Gel
| kjohnson1 | macOS 13.6.1 Ventura / arm64 | OK | OK | OK | OK | ![]() | |||||||||||||||
Package 94/177 | Hostname | OS / Arch | INSTALL | BUILD | CHECK | BUILD BIN | ||||||||||||||||
m6Aboost 1.8.0 (landing page) You Zhou
| kjohnson1 | macOS 13.6.1 Ventura / arm64 | OK | OK | OK | OK | ![]() | |||||||||||||||
Package 95/177 | Hostname | OS / Arch | INSTALL | BUILD | CHECK | BUILD BIN | ||||||||||||||||
MADSEQ 1.28.0 (landing page) Yu Kong
| kjohnson1 | macOS 13.6.1 Ventura / arm64 | OK | OK | OK | OK | ![]() | |||||||||||||||
Package 96/177 | Hostname | OS / Arch | INSTALL | BUILD | CHECK | BUILD BIN | ||||||||||||||||
magpie 1.2.0 (landing page) Daoyu Duan
| kjohnson1 | macOS 13.6.1 Ventura / arm64 | OK | OK | OK | OK | ![]() | |||||||||||||||
Package 97/177 | Hostname | OS / Arch | INSTALL | BUILD | CHECK | BUILD BIN | ||||||||||||||||
maser 1.20.0 (landing page) Diogo F.T. Veiga
| kjohnson1 | macOS 13.6.1 Ventura / arm64 | OK | OK | OK | OK | ![]() | |||||||||||||||
Package 98/177 | Hostname | OS / Arch | INSTALL | BUILD | CHECK | BUILD BIN | ||||||||||||||||
MEDIPS 1.54.0 (landing page) Lukas Chavez
| kjohnson1 | macOS 13.6.1 Ventura / arm64 | OK | OK | OK | OK | ![]() | |||||||||||||||
Package 99/177 | Hostname | OS / Arch | INSTALL | BUILD | CHECK | BUILD BIN | ||||||||||||||||
metagene 2.34.0 (landing page) Charles Joly Beauparlant
| kjohnson1 | macOS 13.6.1 Ventura / arm64 | OK | OK | ERROR | OK | ||||||||||||||||
Package 100/177 | Hostname | OS / Arch | INSTALL | BUILD | CHECK | BUILD BIN | ||||||||||||||||
metagene2 1.18.0 (landing page) Eric Fournier
| kjohnson1 | macOS 13.6.1 Ventura / arm64 | OK | OK | WARNINGS | OK | ![]() | |||||||||||||||
Package 101/177 | Hostname | OS / Arch | INSTALL | BUILD | CHECK | BUILD BIN | ||||||||||||||||
metaseqR2 1.14.0 (landing page) Panagiotis Moulos
| kjohnson1 | macOS 13.6.1 Ventura / arm64 | OK | OK | OK | OK | ![]() | |||||||||||||||
Package 102/177 | Hostname | OS / Arch | INSTALL | BUILD | CHECK | BUILD BIN | ||||||||||||||||
methrix 1.16.0 (landing page) Anand Mayakonda
| kjohnson1 | macOS 13.6.1 Ventura / arm64 | OK | OK | OK | OK | ![]() | |||||||||||||||
Package 103/177 | Hostname | OS / Arch | INSTALL | BUILD | CHECK | BUILD BIN | ||||||||||||||||
methylKit 1.28.0 (landing page) Altuna Akalin
| kjohnson1 | macOS 13.6.1 Ventura / arm64 | OK | OK | WARNINGS | OK | ![]() | |||||||||||||||
Package 104/177 | Hostname | OS / Arch | INSTALL | BUILD | CHECK | BUILD BIN | ||||||||||||||||
MethylSeekR 1.42.0 (landing page) Lukas Burger
| kjohnson1 | macOS 13.6.1 Ventura / arm64 | OK | OK | OK | OK | ![]() | |||||||||||||||
Package 105/177 | Hostname | OS / Arch | INSTALL | BUILD | CHECK | BUILD BIN | ||||||||||||||||
Moonlight2R 1.0.0 (landing page) Matteo Tiberti
| kjohnson1 | macOS 13.6.1 Ventura / arm64 | OK | OK | OK | OK | ![]() | |||||||||||||||
Package 106/177 | Hostname | OS / Arch | INSTALL | BUILD | CHECK | BUILD BIN | ||||||||||||||||
motifbreakR 2.16.0 (landing page) Simon Gert Coetzee
| kjohnson1 | macOS 13.6.1 Ventura / arm64 | OK | OK | WARNINGS | OK | ![]() | |||||||||||||||
Package 107/177 | Hostname | OS / Arch | INSTALL | BUILD | CHECK | BUILD BIN | ||||||||||||||||
MotifDb 1.44.0 (landing page) Paul Shannon
| kjohnson1 | macOS 13.6.1 Ventura / arm64 | OK | OK | WARNINGS | OK | ![]() | |||||||||||||||
Package 108/177 | Hostname | OS / Arch | INSTALL | BUILD | CHECK | BUILD BIN | ||||||||||||||||
multicrispr 1.12.9 (landing page) Aditya Bhagwat
| kjohnson1 | macOS 13.6.1 Ventura / arm64 | OK | OK | OK | OK | ![]() | |||||||||||||||
Package 109/177 | Hostname | OS / Arch | INSTALL | BUILD | CHECK | BUILD BIN | ||||||||||||||||
MungeSumstats 1.10.1 (landing page) Alan Murphy
| kjohnson1 | macOS 13.6.1 Ventura / arm64 | OK | OK | OK | OK | ![]() | |||||||||||||||
Package 110/177 | Hostname | OS / Arch | INSTALL | BUILD | CHECK | BUILD BIN | ||||||||||||||||
NADfinder 1.26.0 (landing page) Jianhong Ou
| kjohnson1 | macOS 13.6.1 Ventura / arm64 | OK | OK | OK | OK | ![]() | |||||||||||||||
Package 111/177 | Hostname | OS / Arch | INSTALL | BUILD | CHECK | BUILD BIN | ||||||||||||||||
nearBynding 1.12.0 (landing page) Veronica Busa
| kjohnson1 | macOS 13.6.1 Ventura / arm64 | OK | OK | OK | OK | ![]() | |||||||||||||||
Package 112/177 | Hostname | OS / Arch | INSTALL | BUILD | CHECK | BUILD BIN | ||||||||||||||||
NoRCE 1.14.0 (landing page) Gulden Olgun
| kjohnson1 | macOS 13.6.1 Ventura / arm64 | OK | OK | OK | OK | ![]() | |||||||||||||||
Package 113/177 | Hostname | OS / Arch | INSTALL | BUILD | CHECK | BUILD BIN | ||||||||||||||||
normr 1.28.0 (landing page) Johannes Helmuth
| kjohnson1 | macOS 13.6.1 Ventura / arm64 | OK | OK | WARNINGS | OK | ![]() | |||||||||||||||
Package 114/177 | Hostname | OS / Arch | INSTALL | BUILD | CHECK | BUILD BIN | ||||||||||||||||
OGRE 1.6.0 (landing page) Sven Berres
| kjohnson1 | macOS 13.6.1 Ventura / arm64 | OK | OK | OK | OK | ![]() | |||||||||||||||
Package 115/177 | Hostname | OS / Arch | INSTALL | BUILD | CHECK | BUILD BIN | ||||||||||||||||
OMICsPCA 1.20.0 (landing page) Subhadeep Das
| kjohnson1 | macOS 13.6.1 Ventura / arm64 | OK | OK | OK | OK | ![]() | |||||||||||||||
Package 116/177 | Hostname | OS / Arch | INSTALL | BUILD | CHECK | BUILD BIN | ||||||||||||||||
ORFhunteR 1.10.0 (landing page) Vasily V. Grinev
| kjohnson1 | macOS 13.6.1 Ventura / arm64 | OK | OK | OK | OK | ![]() | |||||||||||||||
Package 117/177 | Hostname | OS / Arch | INSTALL | BUILD | CHECK | BUILD BIN | ||||||||||||||||
ORFik 1.22.2 (landing page) Haakon Tjeldnes
| kjohnson1 | macOS 13.6.1 Ventura / arm64 | OK | OK | OK | OK | ![]() | |||||||||||||||
Package 118/177 | Hostname | OS / Arch | INSTALL | BUILD | CHECK | BUILD BIN | ||||||||||||||||
PAST 1.18.0 (landing page) Thrash Adam
| kjohnson1 | macOS 13.6.1 Ventura / arm64 | OK | OK | WARNINGS | OK | ![]() | |||||||||||||||
Package 119/177 | Hostname | OS / Arch | INSTALL | BUILD | CHECK | BUILD BIN | ||||||||||||||||
periodicDNA 1.12.0 (landing page) Jacques Serizay
| kjohnson1 | macOS 13.6.1 Ventura / arm64 | OK | OK | WARNINGS | OK | ![]() | |||||||||||||||
Package 120/177 | Hostname | OS / Arch | INSTALL | BUILD | CHECK | BUILD BIN | ||||||||||||||||
plyranges 1.22.0 (landing page) Stuart Lee
| kjohnson1 | macOS 13.6.1 Ventura / arm64 | OK | OK | ERROR | OK | ||||||||||||||||
Package 121/177 | Hostname | OS / Arch | INSTALL | BUILD | CHECK | BUILD BIN | ||||||||||||||||
pram 1.18.0 (landing page) Peng Liu
| kjohnson1 | macOS 13.6.1 Ventura / arm64 | OK | OK | OK | OK | ![]() | |||||||||||||||
Package 122/177 | Hostname | OS / Arch | INSTALL | BUILD | CHECK | BUILD BIN | ||||||||||||||||
primirTSS 1.20.0 (landing page) Pumin Li
| kjohnson1 | macOS 13.6.1 Ventura / arm64 | OK | OK | WARNINGS | OK | ![]() | |||||||||||||||
Package 123/177 | Hostname | OS / Arch | INSTALL | BUILD | CHECK | BUILD BIN | ||||||||||||||||
proBAMr 1.36.0 (landing page) Xiaojing Wang
| kjohnson1 | macOS 13.6.1 Ventura / arm64 | OK | OK | OK | OK | ![]() | |||||||||||||||
Package 124/177 | Hostname | OS / Arch | INSTALL | BUILD | CHECK | BUILD BIN | ||||||||||||||||
profileplyr 1.18.0 (landing page) Tom Carroll
| kjohnson1 | macOS 13.6.1 Ventura / arm64 | OK | OK | OK | OK | ![]() | |||||||||||||||
Package 125/177 | Hostname | OS / Arch | INSTALL | BUILD | CHECK | BUILD BIN | ||||||||||||||||
PureCN 2.8.1 (landing page) Markus Riester
| kjohnson1 | macOS 13.6.1 Ventura / arm64 | OK | OK | OK | OK | ![]() | |||||||||||||||
Package 126/177 | Hostname | OS / Arch | INSTALL | BUILD | CHECK | BUILD BIN | ||||||||||||||||
qsea 1.28.0 (landing page) Matthias Lienhard
| kjohnson1 | macOS 13.6.1 Ventura / arm64 | OK | OK | OK | OK | ![]() | |||||||||||||||
Package 127/177 | Hostname | OS / Arch | INSTALL | BUILD | CHECK | BUILD BIN | ||||||||||||||||
QuasR 1.42.1 (landing page) Michael Stadler
| kjohnson1 | macOS 13.6.1 Ventura / arm64 | OK | OK | WARNINGS | OK | ![]() | |||||||||||||||
Package 128/177 | Hostname | OS / Arch | INSTALL | BUILD | CHECK | BUILD BIN | ||||||||||||||||
r3Cseq 1.48.0 (landing page) Supat Thongjuea
| kjohnson1 | macOS 13.6.1 Ventura / arm64 | OK | OK | OK | OK | ![]() | |||||||||||||||
Package 129/177 | Hostname | OS / Arch | INSTALL | BUILD | CHECK | BUILD BIN | ||||||||||||||||
raer 1.0.2 (landing page) Kent Riemondy
| kjohnson1 | macOS 13.6.1 Ventura / arm64 | OK | OK | WARNINGS | OK | ![]() | |||||||||||||||
Package 130/177 | Hostname | OS / Arch | INSTALL | BUILD | CHECK | BUILD BIN | ||||||||||||||||
RCAS 1.28.3 (landing page) Bora Uyar
| kjohnson1 | macOS 13.6.1 Ventura / arm64 | OK | OK | OK | OK | ![]() | |||||||||||||||
Package 131/177 | Hostname | OS / Arch | INSTALL | BUILD | CHECK | BUILD BIN | ||||||||||||||||
recount 1.28.0 (landing page) Leonardo Collado-Torres
| kjohnson1 | macOS 13.6.1 Ventura / arm64 | OK | ERROR | skipped | skipped | ||||||||||||||||
Package 132/177 | Hostname | OS / Arch | INSTALL | BUILD | CHECK | BUILD BIN | ||||||||||||||||
recount3 1.12.0 (landing page) Leonardo Collado-Torres
| kjohnson1 | macOS 13.6.1 Ventura / arm64 | OK | OK | OK | OK | ![]() | |||||||||||||||
Package 133/177 | Hostname | OS / Arch | INSTALL | BUILD | CHECK | BUILD BIN | ||||||||||||||||
recoup 1.30.0 (landing page) Panagiotis Moulos
| kjohnson1 | macOS 13.6.1 Ventura / arm64 | OK | OK | OK | OK | ![]() | |||||||||||||||
Package 134/177 | Hostname | OS / Arch | INSTALL | BUILD | CHECK | BUILD BIN | ||||||||||||||||
regioneR 1.34.0 (landing page) Bernat Gel
| kjohnson1 | macOS 13.6.1 Ventura / arm64 | OK | OK | OK | OK | ![]() | |||||||||||||||
Package 135/177 | Hostname | OS / Arch | INSTALL | BUILD | CHECK | BUILD BIN | ||||||||||||||||
REMP 1.26.0 (landing page) Yinan Zheng
| kjohnson1 | macOS 13.6.1 Ventura / arm64 | OK | OK | OK | OK | ![]() | |||||||||||||||
Package 136/177 | Hostname | OS / Arch | INSTALL | BUILD | CHECK | BUILD BIN | ||||||||||||||||
Repitools 1.48.0 (landing page) Mark Robinson
| kjohnson1 | macOS 13.6.1 Ventura / arm64 | OK | OK | WARNINGS | OK | ![]() | |||||||||||||||
Package 137/177 | Hostname | OS / Arch | INSTALL | BUILD | CHECK | BUILD BIN | ||||||||||||||||
RiboProfiling 1.32.0 (landing page) A. Popa
| kjohnson1 | macOS 13.6.1 Ventura / arm64 | OK | OK | WARNINGS | OK | ![]() | |||||||||||||||
Package 138/177 | Hostname | OS / Arch | INSTALL | BUILD | CHECK | BUILD BIN | ||||||||||||||||
ribosomeProfilingQC 1.14.1 (landing page) Jianhong Ou
| kjohnson1 | macOS 13.6.1 Ventura / arm64 | OK | OK | OK | OK | ![]() | |||||||||||||||
Package 139/177 | Hostname | OS / Arch | INSTALL | BUILD | CHECK | BUILD BIN | ||||||||||||||||
rifi 1.6.0 (landing page) Jens Georg
| kjohnson1 | macOS 13.6.1 Ventura / arm64 | OK | OK | WARNINGS | OK | ![]() | |||||||||||||||
Package 140/177 | Hostname | OS / Arch | INSTALL | BUILD | CHECK | BUILD BIN | ||||||||||||||||
rifiComparative 1.2.0 (landing page) Loubna Youssar
| kjohnson1 | macOS 13.6.1 Ventura / arm64 | OK | OK | OK | OK | ![]() | |||||||||||||||
Package 141/177 | Hostname | OS / Arch | INSTALL | BUILD | CHECK | BUILD BIN | ||||||||||||||||
RIPAT 1.12.0 (landing page) Min-Jeong Baek
| kjohnson1 | macOS 13.6.1 Ventura / arm64 | OK | OK | OK | OK | ![]() | |||||||||||||||
Package 142/177 | Hostname | OS / Arch | INSTALL | BUILD | CHECK | BUILD BIN | ||||||||||||||||
RLSeq 1.8.0 (landing page) Henry Miller
| kjohnson1 | macOS 13.6.1 Ventura / arm64 | ERROR | ERROR | skipped | skipped | ||||||||||||||||
Package 143/177 | Hostname | OS / Arch | INSTALL | BUILD | CHECK | BUILD BIN | ||||||||||||||||
rmspc 1.8.0 (landing page) Meriem Bahda
| kjohnson1 | macOS 13.6.1 Ventura / arm64 | OK | OK | OK | OK | ![]() | |||||||||||||||
Package 144/177 | Hostname | OS / Arch | INSTALL | BUILD | CHECK | BUILD BIN | ||||||||||||||||
RNAmodR 1.16.0 (landing page) Felix G.M. Ernst
| kjohnson1 | macOS 13.6.1 Ventura / arm64 | OK | OK | OK | OK | ![]() | |||||||||||||||
Package 145/177 | Hostname | OS / Arch | INSTALL | BUILD | CHECK | BUILD BIN | ||||||||||||||||
roar 1.38.0 (landing page) Elena Grassi
| kjohnson1 | macOS 13.6.1 Ventura / arm64 | OK | OK | OK | OK | ![]() | |||||||||||||||
Package 146/177 | Hostname | OS / Arch | INSTALL | BUILD | CHECK | BUILD BIN | ||||||||||||||||
scanMiRApp 1.8.0 (landing page) Pierre-Luc Germain
| kjohnson1 | macOS 13.6.1 Ventura / arm64 | OK | OK | WARNINGS | OK | ![]() | |||||||||||||||
Package 147/177 | Hostname | OS / Arch | INSTALL | BUILD | CHECK | BUILD BIN | ||||||||||||||||
SCANVIS 1.16.0 (landing page) Phaedra Agius
| kjohnson1 | macOS 13.6.1 Ventura / arm64 | OK | OK | OK | OK | ![]() | |||||||||||||||
Package 148/177 | Hostname | OS / Arch | INSTALL | BUILD | CHECK | BUILD BIN | ||||||||||||||||
scDblFinder 1.16.0 (landing page) Pierre-Luc Germain
| kjohnson1 | macOS 13.6.1 Ventura / arm64 | OK | ERROR | skipped | skipped | ||||||||||||||||
Package 149/177 | Hostname | OS / Arch | INSTALL | BUILD | CHECK | BUILD BIN | ||||||||||||||||
scPipe 2.2.0 (landing page) Shian Su
| kjohnson1 | macOS 13.6.1 Ventura / arm64 | OK | OK | WARNINGS | OK | ![]() | |||||||||||||||
Package 150/177 | Hostname | OS / Arch | INSTALL | BUILD | CHECK | BUILD BIN | ||||||||||||||||
scRNAseqApp 1.2.2 (landing page) Jianhong Ou
| kjohnson1 | macOS 13.6.1 Ventura / arm64 | OK | OK | OK | OK | ![]() | |||||||||||||||
Package 151/177 | Hostname | OS / Arch | INSTALL | BUILD | CHECK | BUILD BIN | ||||||||||||||||
scruff 1.20.0 (landing page) Zhe Wang
| kjohnson1 | macOS 13.6.1 Ventura / arm64 | OK | OK | OK | OK | ![]() | |||||||||||||||
Package 152/177 | Hostname | OS / Arch | INSTALL | BUILD | CHECK | BUILD BIN | ||||||||||||||||
seqCAT 1.24.0 (landing page) Erik Fasterius
| kjohnson1 | macOS 13.6.1 Ventura / arm64 | OK | OK | OK | OK | ![]() | |||||||||||||||
Package 153/177 | Hostname | OS / Arch | INSTALL | BUILD | CHECK | BUILD BIN | ||||||||||||||||
seqsetvis 1.22.1 (landing page) Joseph R Boyd
| kjohnson1 | macOS 13.6.1 Ventura / arm64 | OK | OK | OK | OK | ![]() | |||||||||||||||
Package 154/177 | Hostname | OS / Arch | INSTALL | BUILD | CHECK | BUILD BIN | ||||||||||||||||
sevenC 1.22.0 (landing page) Jonas Ibn-Salem
| kjohnson1 | macOS 13.6.1 Ventura / arm64 | OK | OK | OK | OK | ![]() | |||||||||||||||
Package 155/177 | Hostname | OS / Arch | INSTALL | BUILD | CHECK | BUILD BIN | ||||||||||||||||
SGSeq 1.36.0 (landing page) Leonard Goldstein
| kjohnson1 | macOS 13.6.1 Ventura / arm64 | OK | OK | OK | OK | ![]() | |||||||||||||||
Package 156/177 | Hostname | OS / Arch | INSTALL | BUILD | CHECK | BUILD BIN | ||||||||||||||||
shinyepico 1.10.0 (landing page) Octavio Morante-Palacios
| kjohnson1 | macOS 13.6.1 Ventura / arm64 | OK | OK | OK | OK | ![]() | |||||||||||||||
Package 157/177 | Hostname | OS / Arch | INSTALL | BUILD | CHECK | BUILD BIN | ||||||||||||||||
signeR 2.4.0 (landing page) Renan Valieris
| kjohnson1 | macOS 13.6.1 Ventura / arm64 | OK | OK | OK | OK | ![]() | |||||||||||||||
Package 158/177 | Hostname | OS / Arch | INSTALL | BUILD | CHECK | BUILD BIN | ||||||||||||||||
SigsPack 1.16.0 (landing page) Franziska Schumann
| kjohnson1 | macOS 13.6.1 Ventura / arm64 | OK | OK | OK | OK | ![]() | |||||||||||||||
Package 159/177 | Hostname | OS / Arch | INSTALL | BUILD | CHECK | BUILD BIN | ||||||||||||||||
sitadela 1.10.0 (landing page) Panagiotis Moulos
| kjohnson1 | macOS 13.6.1 Ventura / arm64 | OK | OK | OK | OK | ![]() | |||||||||||||||
Package 160/177 | Hostname | OS / Arch | INSTALL | BUILD | CHECK | BUILD BIN | ||||||||||||||||
soGGi 1.34.0 (landing page) Tom Carroll
| kjohnson1 | macOS 13.6.1 Ventura / arm64 | OK | OK | OK | OK | ![]() | |||||||||||||||
Package 161/177 | Hostname | OS / Arch | INSTALL | BUILD | CHECK | BUILD BIN | ||||||||||||||||
SOMNiBUS 1.10.0 (landing page) Kathleen Klein
| kjohnson1 | macOS 13.6.1 Ventura / arm64 | OK | OK | OK | OK | ![]() | |||||||||||||||
Package 162/177 | Hostname | OS / Arch | INSTALL | BUILD | CHECK | BUILD BIN | ||||||||||||||||
SpliceWiz 1.4.1 (landing page) Alex Chit Hei Wong
| kjohnson1 | macOS 13.6.1 Ventura / arm64 | OK | OK | OK | OK | ![]() | |||||||||||||||
Package 163/177 | Hostname | OS / Arch | INSTALL | BUILD | CHECK | BUILD BIN | ||||||||||||||||
srnadiff 1.22.2 (landing page) Zytnicki Matthias
| kjohnson1 | macOS 13.6.1 Ventura / arm64 | OK | OK | WARNINGS | OK | ![]() | |||||||||||||||
Package 164/177 | Hostname | OS / Arch | INSTALL | BUILD | CHECK | BUILD BIN | ||||||||||||||||
StructuralVariantAnnotation 1.18.0 (landing page) Daniel Cameron
| kjohnson1 | macOS 13.6.1 Ventura / arm64 | OK | OK | OK | NA | ||||||||||||||||
Package 165/177 | Hostname | OS / Arch | INSTALL | BUILD | CHECK | BUILD BIN | ||||||||||||||||
svaNUMT 1.8.0 (landing page) Ruining Dong
| kjohnson1 | macOS 13.6.1 Ventura / arm64 | OK | OK | OK | NA | ||||||||||||||||
Package 166/177 | Hostname | OS / Arch | INSTALL | BUILD | CHECK | BUILD BIN | ||||||||||||||||
svaRetro 1.8.0 (landing page) Ruining Dong
| kjohnson1 | macOS 13.6.1 Ventura / arm64 | OK | OK | OK | NA | ||||||||||||||||
Package 167/177 | Hostname | OS / Arch | INSTALL | BUILD | CHECK | BUILD BIN | ||||||||||||||||
syntenet 1.4.2 (landing page) Fabrício Almeida-Silva
| kjohnson1 | macOS 13.6.1 Ventura / arm64 | OK | OK | OK | NA | ||||||||||||||||
Package 168/177 | Hostname | OS / Arch | INSTALL | BUILD | CHECK | BUILD BIN | ||||||||||||||||
TFBSTools 1.40.0 (landing page) Ge Tan
| kjohnson1 | macOS 13.6.1 Ventura / arm64 | OK | OK | OK | NA | ||||||||||||||||
Package 169/177 | Hostname | OS / Arch | INSTALL | BUILD | CHECK | BUILD BIN | ||||||||||||||||
trackViewer 1.38.2 (landing page) Jianhong Ou
| kjohnson1 | macOS 13.6.1 Ventura / arm64 | OK | OK | OK | NA | ||||||||||||||||
Package 170/177 | Hostname | OS / Arch | INSTALL | BUILD | CHECK | BUILD BIN | ||||||||||||||||
transcriptR 1.30.0 (landing page) Armen R. Karapetyan
| kjohnson1 | macOS 13.6.1 Ventura / arm64 | OK | OK | OK | NA | ||||||||||||||||
Package 171/177 | Hostname | OS / Arch | INSTALL | BUILD | CHECK | BUILD BIN | ||||||||||||||||
TRESS 1.8.0 (landing page) Zhenxing Guo
| kjohnson1 | macOS 13.6.1 Ventura / arm64 | OK | OK | OK | NA | ||||||||||||||||
Package 172/177 | Hostname | OS / Arch | INSTALL | BUILD | CHECK | BUILD BIN | ||||||||||||||||
tRNAscanImport 1.22.0 (landing page) Felix G.M. Ernst
| kjohnson1 | macOS 13.6.1 Ventura / arm64 | OK | OK | OK | NA | ||||||||||||||||
Package 173/177 | Hostname | OS / Arch | INSTALL | BUILD | CHECK | BUILD BIN | ||||||||||||||||
txcutr 1.8.0 (landing page) Mervin Fansler
| kjohnson1 | macOS 13.6.1 Ventura / arm64 | OK | OK | OK | NA | ||||||||||||||||
Package 174/177 | Hostname | OS / Arch | INSTALL | BUILD | CHECK | BUILD BIN | ||||||||||||||||
VariantAnnotation 1.48.1 (landing page) Bioconductor Package Maintainer
| kjohnson1 | macOS 13.6.1 Ventura / arm64 | OK | OK | WARNINGS | NA | ||||||||||||||||
Package 175/177 | Hostname | OS / Arch | INSTALL | BUILD | CHECK | BUILD BIN | ||||||||||||||||
VariantTools 1.44.0 (landing page) Michael Lawrence
| kjohnson1 | macOS 13.6.1 Ventura / arm64 | OK | OK | WARNINGS | NA | ||||||||||||||||
Package 176/177 | Hostname | OS / Arch | INSTALL | BUILD | CHECK | BUILD BIN | ||||||||||||||||
wavClusteR 2.36.0 (landing page) Federico Comoglio
| kjohnson1 | macOS 13.6.1 Ventura / arm64 | OK | OK | OK | NA | ||||||||||||||||
Package 177/177 | Hostname | OS / Arch | INSTALL | BUILD | CHECK | BUILD BIN | ||||||||||||||||
wiggleplotr 1.26.0 (landing page) Kaur Alasoo
| kjohnson1 | macOS 13.6.1 Ventura / arm64 | OK | OK | OK | NA | ||||||||||||||||