| Back to Mac ARM64 build report for BioC 3.18 |
|
This page was generated on 2024-04-18 11:32:10 -0400 (Thu, 18 Apr 2024).
| Hostname | OS | Arch (*) | R version | Installed pkgs |
|---|---|---|---|---|
| kjohnson1 | macOS 13.6.1 Ventura | arm64 | 4.3.3 (2024-02-29) -- "Angel Food Cake" | 4388 |
| Click on any hostname to see more info about the system (e.g. compilers) (*) as reported by 'uname -p', except on Windows and Mac OS X | ||||
| Package 699/2266 | Hostname | OS / Arch | INSTALL | BUILD | CHECK | BUILD BIN | ||||||||
| fcScan 1.16.0 (landing page) Pierre Khoueiry
| kjohnson1 | macOS 13.6.1 Ventura / arm64 | OK | OK | OK | OK | ||||||||
|
To the developers/maintainers of the fcScan package: - Use the following Renviron settings to reproduce errors and warnings. - If 'R CMD check' started to fail recently on the Linux builder(s) over a missing dependency, add the missing dependency to 'Suggests:' in your DESCRIPTION file. See Renviron.bioc for more information. |
| Package: fcScan |
| Version: 1.16.0 |
| Command: /Library/Frameworks/R.framework/Resources/bin/R CMD check --install=check:fcScan.install-out.txt --library=/Library/Frameworks/R.framework/Resources/library --no-vignettes --timings fcScan_1.16.0.tar.gz |
| StartedAt: 2024-04-17 13:39:11 -0400 (Wed, 17 Apr 2024) |
| EndedAt: 2024-04-17 13:44:52 -0400 (Wed, 17 Apr 2024) |
| EllapsedTime: 341.4 seconds |
| RetCode: 0 |
| Status: OK |
| CheckDir: fcScan.Rcheck |
| Warnings: 0 |
##############################################################################
##############################################################################
###
### Running command:
###
### /Library/Frameworks/R.framework/Resources/bin/R CMD check --install=check:fcScan.install-out.txt --library=/Library/Frameworks/R.framework/Resources/library --no-vignettes --timings fcScan_1.16.0.tar.gz
###
##############################################################################
##############################################################################
* using log directory ‘/Users/biocbuild/bbs-3.18-bioc-mac-arm64/meat/fcScan.Rcheck’
* using R version 4.3.3 (2024-02-29)
* using platform: aarch64-apple-darwin20 (64-bit)
* R was compiled by
Apple clang version 14.0.0 (clang-1400.0.29.202)
GNU Fortran (GCC) 12.2.0
* running under: macOS Ventura 13.6.1
* using session charset: UTF-8
* using option ‘--no-vignettes’
* checking for file ‘fcScan/DESCRIPTION’ ... OK
* checking extension type ... Package
* this is package ‘fcScan’ version ‘1.16.0’
* package encoding: UTF-8
* checking package namespace information ... OK
* checking package dependencies ... OK
* checking if this is a source package ... OK
* checking if there is a namespace ... OK
* checking for hidden files and directories ... OK
* checking for portable file names ... OK
* checking for sufficient/correct file permissions ... OK
* checking whether package ‘fcScan’ can be installed ... OK
* checking installed package size ... OK
* checking package directory ... OK
* checking ‘build’ directory ... OK
* checking DESCRIPTION meta-information ... OK
* checking top-level files ... OK
* checking for left-over files ... OK
* checking index information ... OK
* checking package subdirectories ... OK
* checking R files for non-ASCII characters ... OK
* checking R files for syntax errors ... OK
* checking whether the package can be loaded ... OK
* checking whether the package can be loaded with stated dependencies ... OK
* checking whether the package can be unloaded cleanly ... OK
* checking whether the namespace can be loaded with stated dependencies ... OK
* checking whether the namespace can be unloaded cleanly ... OK
* checking dependencies in R code ... OK
* checking S3 generic/method consistency ... OK
* checking replacement functions ... OK
* checking foreign function calls ... OK
* checking R code for possible problems ... OK
* checking Rd files ... OK
* checking Rd metadata ... OK
* checking Rd cross-references ... OK
* checking for missing documentation entries ... OK
* checking for code/documentation mismatches ... OK
* checking Rd \usage sections ... OK
* checking Rd contents ... OK
* checking for unstated dependencies in examples ... OK
* checking files in ‘vignettes’ ... OK
* checking examples ... OK
* checking for unstated dependencies in ‘tests’ ... OK
* checking tests ...
Running ‘runTests.R’
OK
* checking for unstated dependencies in vignettes ... OK
* checking package vignettes in ‘inst/doc’ ... OK
* checking running R code from vignettes ... SKIPPED
* checking re-building of vignette outputs ... SKIPPED
* checking PDF version of manual ... OK
* DONE
Status: OK
fcScan.Rcheck/00install.out
############################################################################## ############################################################################## ### ### Running command: ### ### /Library/Frameworks/R.framework/Resources/bin/R CMD INSTALL fcScan ### ############################################################################## ############################################################################## * installing to library ‘/Library/Frameworks/R.framework/Versions/4.3-arm64/Resources/library’ * installing *source* package ‘fcScan’ ... ** using staged installation ** R ** inst ** byte-compile and prepare package for lazy loading ** help *** installing help indices ** building package indices ** installing vignettes ** testing if installed package can be loaded from temporary location ** testing if installed package can be loaded from final location ** testing if installed package keeps a record of temporary installation path * DONE (fcScan)
fcScan.Rcheck/tests/runTests.Rout
R version 4.3.3 (2024-02-29) -- "Angel Food Cake"
Copyright (C) 2024 The R Foundation for Statistical Computing
Platform: aarch64-apple-darwin20 (64-bit)
R is free software and comes with ABSOLUTELY NO WARRANTY.
You are welcome to redistribute it under certain conditions.
Type 'license()' or 'licence()' for distribution details.
R is a collaborative project with many contributors.
Type 'contributors()' for more information and
'citation()' on how to cite R or R packages in publications.
Type 'demo()' for some demos, 'help()' for on-line help, or
'help.start()' for an HTML browser interface to help.
Type 'q()' to quit R.
> BiocGenerics:::testPackage("fcScan")
Loading required package: GenomicRanges
Loading required package: stats4
Loading required package: BiocGenerics
Attaching package: 'BiocGenerics'
The following objects are masked from 'package:stats':
IQR, mad, sd, var, xtabs
The following objects are masked from 'package:base':
Filter, Find, Map, Position, Reduce, anyDuplicated, aperm, append,
as.data.frame, basename, cbind, colnames, dirname, do.call,
duplicated, eval, evalq, get, grep, grepl, intersect, is.unsorted,
lapply, mapply, match, mget, order, paste, pmax, pmax.int, pmin,
pmin.int, rank, rbind, rownames, sapply, setdiff, sort, table,
tapply, union, unique, unsplit, which.max, which.min
Loading required package: S4Vectors
Attaching package: 'S4Vectors'
The following object is masked from 'package:utils':
findMatches
The following objects are masked from 'package:base':
I, expand.grid, unname
Loading required package: IRanges
Loading required package: GenomeInfoDb
17 entries loaded
Running getCluster using 1 threads
Time difference of 0.2413909 secs
Sites in condition do not match sites in data
3 entries loaded
Running getCluster using 1 threads
Time difference of 0.08492684 secs
17 entries loaded
Running getCluster using 1 threads
Time difference of 0.08091211 secs
17 entries loaded
Running getCluster using 1 threads
Time difference of 0.08422399 secs
17 entries loaded
Running getCluster using 1 threads
No cluster found
17 entries loaded
Running getCluster using 1 threads
Time difference of 0.09196496 secs
17 entries loaded
Running getCluster using 1 threads
Time difference of 0.2529569 secs
17 entries loaded
Running getCluster using 1 threads
Time difference of 0.08806109 secs
17 entries loaded
Running getCluster using 1 threads
Time difference of 0.07105422 secs
17 entries loaded
Running getCluster using 1 threads
Time difference of 0.07674384 secs
17 entries loaded
Running getCluster using 1 threads
Time difference of 0.073277 secs
6 entries loaded
Running getCluster using 1 threads
Time difference of 0.07897496 secs
6 entries loaded
Running getCluster using 1 threads
Time difference of 0.07615089 secs
6 entries loaded
Running getCluster using 1 threads
Time difference of 0.069489 secs
6 entries loaded
Running getCluster using 1 threads
Time difference of 0.06842208 secs
10 entries loaded
Running getCluster using 1 threads
Time difference of 0.0761621 secs
10 entries loaded
Running getCluster using 1 threads
No cluster found
10 entries loaded
Running getCluster using 1 threads
Time difference of 0.07694292 secs
16 entries loaded
Running getCluster using 1 threads
Time difference of 0.07030916 secs
6 entries loaded
Running getCluster using 1 threads
Time difference of 0.07210207 secs
6 entries loaded
Running getCluster using 1 threads
Time difference of 0.07244706 secs
6 entries loaded
Running getCluster using 1 threads
Time difference of 0.079216 secs
6 entries loaded
Running getCluster using 1 threads
Time difference of 0.081352 secs
6 entries loaded
Running getCluster using 1 threads
Time difference of 1.273433 secs
17 entries loaded
Running getCluster using 1 threads
Time difference of 0.07341003 secs
17 entries loaded
Running getCluster using 1 threads
Time difference of 0.08512998 secs
17 entries loaded
Running getCluster using 1 threads
Time difference of 0.07850289 secs
17 entries loaded
Running getCluster using 1 threads
Time difference of 0.07675004 secs
17 entries loaded
Running getCluster using 1 threads
Time difference of 0.07137299 secs
17 entries loaded
Running getCluster using 1 threads
Time difference of 0.06883287 secs
17 entries loaded
Running getCluster using 1 threads
Time difference of 0.06944299 secs
17 entries loaded
Running getCluster using 1 threads
Time difference of 0.09550905 secs
17 entries loaded
Running getCluster using 1 threads
Time difference of 0.09107804 secs
17 entries loaded
Running getCluster using 1 threads
Time difference of 0.09962296 secs
17 entries loaded
Running getCluster using 1 threads
Time difference of 0.1107941 secs
17 entries loaded
Running getCluster using 1 threads
Time difference of 0.08530903 secs
17 entries loaded
Running getCluster using 1 threads
Time difference of 0.1143739 secs
17 entries loaded
Running getCluster using 1 threads
Time difference of 0.1018801 secs
17 entries loaded
Running getCluster using 1 threads
Time difference of 0.09012604 secs
17 entries loaded
Running getCluster using 1 threads
Time difference of 0.07707906 secs
17 entries loaded
Running getCluster using 1 threads
Time difference of 0.08332396 secs
17 entries loaded
Running getCluster using 1 threads
Time difference of 0.09326005 secs
17 entries loaded
Running getCluster using 1 threads
Time difference of 0.07468319 secs
17 entries loaded
Running getCluster using 1 threads
Time difference of 0.09974885 secs
RUNIT TEST PROTOCOL -- Wed Apr 17 13:44:44 2024
***********************************************
Number of test functions: 1
Number of errors: 0
Number of failures: 0
1 Test Suite :
fcScan RUnit Tests - 1 test function, 0 errors, 0 failures
Number of test functions: 1
Number of errors: 0
Number of failures: 0
>
> proc.time()
user system elapsed
21.710 1.184 23.053
fcScan.Rcheck/fcScan-Ex.timings
| name | user | system | elapsed | |
| getCluster | 0.330 | 0.016 | 0.361 | |