| Back to Mac ARM64 build report for BioC 3.18 |
|
This page was generated on 2024-04-18 11:32:09 -0400 (Thu, 18 Apr 2024).
| Hostname | OS | Arch (*) | R version | Installed pkgs |
|---|---|---|---|---|
| kjohnson1 | macOS 13.6.1 Ventura | arm64 | 4.3.3 (2024-02-29) -- "Angel Food Cake" | 4388 |
| Click on any hostname to see more info about the system (e.g. compilers) (*) as reported by 'uname -p', except on Windows and Mac OS X | ||||
| Package 519/2266 | Hostname | OS / Arch | INSTALL | BUILD | CHECK | BUILD BIN | ||||||||
Felipe Albrecht
| kjohnson1 | macOS 13.6.1 Ventura / arm64 | ERROR | ERROR | skipped | skipped | ||||||||
|
To the developers/maintainers of the DeepBlueR package: - Use the following Renviron settings to reproduce errors and warnings. - If 'R CMD check' started to fail recently on the Linux builder(s) over a missing dependency, add the missing dependency to 'Suggests:' in your DESCRIPTION file. See Renviron.bioc for more information. |
| Package: DeepBlueR |
| Version: 1.28.0 |
| Command: /Library/Frameworks/R.framework/Resources/bin/R CMD build --keep-empty-dirs --no-resave-data DeepBlueR |
| StartedAt: 2024-04-16 16:44:44 -0400 (Tue, 16 Apr 2024) |
| EndedAt: 2024-04-16 16:44:58 -0400 (Tue, 16 Apr 2024) |
| EllapsedTime: 14.8 seconds |
| RetCode: 1 |
| Status: ERROR |
| PackageFile: None |
| PackageFileSize: NA |
##############################################################################
##############################################################################
###
### Running command:
###
### /Library/Frameworks/R.framework/Resources/bin/R CMD build --keep-empty-dirs --no-resave-data DeepBlueR
###
##############################################################################
##############################################################################
* checking for file ‘DeepBlueR/DESCRIPTION’ ... OK
* preparing ‘DeepBlueR’:
* checking DESCRIPTION meta-information ... OK
* installing the package to build vignettes
-----------------------------------
* installing *source* package ‘DeepBlueR’ ...
** using staged installation
** R
** demo
** inst
** byte-compile and prepare package for lazy loading
status
"502"
Error in xml.rpc(deepblue_options("url"), "list_column_types", user_key) :
Problems
Error: unable to load R code in package ‘DeepBlueR’
Execution halted
ERROR: lazy loading failed for package ‘DeepBlueR’
* removing ‘/private/tmp/RtmppeWHha/Rinst17acfb7a86f0/DeepBlueR’
-----------------------------------
ERROR: package installation failed