Back to Mac ARM64 build report for BioC 3.18 |
|
This page was generated on 2024-04-18 11:32:08 -0400 (Thu, 18 Apr 2024).
Hostname | OS | Arch (*) | R version | Installed pkgs |
---|---|---|---|---|
kjohnson1 | macOS 13.6.1 Ventura | arm64 | 4.3.3 (2024-02-29) -- "Angel Food Cake" | 4388 |
Click on any hostname to see more info about the system (e.g. compilers) (*) as reported by 'uname -p', except on Windows and Mac OS X |
Package 430/2266 | Hostname | OS / Arch | INSTALL | BUILD | CHECK | BUILD BIN | ||||||||
conumee 1.36.0 (landing page) Volker Hovestadt
| kjohnson1 | macOS 13.6.1 Ventura / arm64 | OK | OK | OK | OK | ||||||||
To the developers/maintainers of the conumee package: - Use the following Renviron settings to reproduce errors and warnings. - If 'R CMD check' started to fail recently on the Linux builder(s) over a missing dependency, add the missing dependency to 'Suggests:' in your DESCRIPTION file. See Renviron.bioc for more information. |
Package: conumee |
Version: 1.36.0 |
Command: /Library/Frameworks/R.framework/Resources/bin/R CMD check --install=check:conumee.install-out.txt --library=/Library/Frameworks/R.framework/Resources/library --no-vignettes --timings conumee_1.36.0.tar.gz |
StartedAt: 2024-04-17 10:08:36 -0400 (Wed, 17 Apr 2024) |
EndedAt: 2024-04-17 10:38:19 -0400 (Wed, 17 Apr 2024) |
EllapsedTime: 1782.8 seconds |
RetCode: 0 |
Status: OK |
CheckDir: conumee.Rcheck |
Warnings: 0 |
############################################################################## ############################################################################## ### ### Running command: ### ### /Library/Frameworks/R.framework/Resources/bin/R CMD check --install=check:conumee.install-out.txt --library=/Library/Frameworks/R.framework/Resources/library --no-vignettes --timings conumee_1.36.0.tar.gz ### ############################################################################## ############################################################################## * using log directory ‘/Users/biocbuild/bbs-3.18-bioc-mac-arm64/meat/conumee.Rcheck’ * using R version 4.3.3 (2024-02-29) * using platform: aarch64-apple-darwin20 (64-bit) * R was compiled by Apple clang version 14.0.0 (clang-1400.0.29.202) GNU Fortran (GCC) 12.2.0 * running under: macOS Ventura 13.6.1 * using session charset: UTF-8 * using option ‘--no-vignettes’ * checking for file ‘conumee/DESCRIPTION’ ... OK * this is package ‘conumee’ version ‘1.36.0’ * checking package namespace information ... OK * checking package dependencies ... OK * checking if this is a source package ... OK * checking if there is a namespace ... OK * checking for hidden files and directories ... NOTE Found the following hidden files and directories: .BBSoptions These were most likely included in error. See section ‘Package structure’ in the ‘Writing R Extensions’ manual. * checking for portable file names ... OK * checking for sufficient/correct file permissions ... OK * checking whether package ‘conumee’ can be installed ... OK * checking installed package size ... OK * checking package directory ... OK * checking ‘build’ directory ... OK * checking DESCRIPTION meta-information ... OK * checking top-level files ... OK * checking for left-over files ... OK * checking index information ... OK * checking package subdirectories ... OK * checking R files for non-ASCII characters ... OK * checking R files for syntax errors ... OK * checking whether the package can be loaded ... OK * checking whether the package can be loaded with stated dependencies ... OK * checking whether the package can be unloaded cleanly ... OK * checking whether the namespace can be loaded with stated dependencies ... OK * checking whether the namespace can be unloaded cleanly ... OK * checking dependencies in R code ... OK * checking S3 generic/method consistency ... OK * checking replacement functions ... OK * checking foreign function calls ... OK * checking R code for possible problems ... NOTE CNV.load,GenomicRatioSet: no visible global function definition for ‘assays’ CNV.load,matrix: no visible binding for global variable ‘anno’ Undefined global functions or variables: anno assays * checking Rd files ... OK * checking Rd metadata ... OK * checking Rd cross-references ... OK * checking for missing documentation entries ... OK * checking for code/documentation mismatches ... OK * checking Rd \usage sections ... OK * checking Rd contents ... OK * checking for unstated dependencies in examples ... OK * checking contents of ‘data’ directory ... OK * checking data for non-ASCII characters ... OK * checking data for ASCII and uncompressed saves ... OK * checking R/sysdata.rda ... OK * checking files in ‘vignettes’ ... OK * checking examples ... OK Examples with CPU (user + system) or elapsed time > 5s user system elapsed CNV.genomeplot 72.278 3.463 76.341 CNV.detailplot 68.495 3.620 72.293 CNV.analysis-class 66.752 3.618 71.194 CNV.detailplot_wrap 66.120 3.930 70.210 CNV.write 65.379 3.993 69.588 CNV.segment 57.992 2.849 61.006 CNV.fit 36.218 2.063 38.402 CNV.bin 33.032 2.905 36.029 CNV.detail 32.017 3.217 35.325 CNV.create_anno 28.539 2.846 31.415 CNV.anno-class 26.653 2.886 29.802 read.450k.url 8.867 0.384 14.364 CNV.load 6.648 0.229 6.881 * checking for unstated dependencies in vignettes ... OK * checking package vignettes in ‘inst/doc’ ... OK * checking running R code from vignettes ... SKIPPED * checking re-building of vignette outputs ... SKIPPED * checking PDF version of manual ... OK * DONE Status: 2 NOTEs See ‘/Users/biocbuild/bbs-3.18-bioc-mac-arm64/meat/conumee.Rcheck/00check.log’ for details.
conumee.Rcheck/00install.out
############################################################################## ############################################################################## ### ### Running command: ### ### /Library/Frameworks/R.framework/Resources/bin/R CMD INSTALL conumee ### ############################################################################## ############################################################################## * installing to library ‘/Library/Frameworks/R.framework/Versions/4.3-arm64/Resources/library’ * installing *source* package ‘conumee’ ... ** using staged installation ** R ** data ** inst ** byte-compile and prepare package for lazy loading ** help *** installing help indices ** building package indices ** installing vignettes ** testing if installed package can be loaded from temporary location ** testing if installed package can be loaded from final location ** testing if installed package keeps a record of temporary installation path * DONE (conumee)
conumee.Rcheck/conumee-Ex.timings
name | user | system | elapsed | |
CNV.analysis-class | 66.752 | 3.618 | 71.194 | |
CNV.anno-class | 26.653 | 2.886 | 29.802 | |
CNV.bin | 33.032 | 2.905 | 36.029 | |
CNV.create_anno | 28.539 | 2.846 | 31.415 | |
CNV.data-class | 2.705 | 0.108 | 2.813 | |
CNV.detail | 32.017 | 3.217 | 35.325 | |
CNV.detailplot | 68.495 | 3.620 | 72.293 | |
CNV.detailplot_wrap | 66.12 | 3.93 | 70.21 | |
CNV.fit | 36.218 | 2.063 | 38.402 | |
CNV.genomeplot | 72.278 | 3.463 | 76.341 | |
CNV.load | 6.648 | 0.229 | 6.881 | |
CNV.segment | 57.992 | 2.849 | 61.006 | |
CNV.write | 65.379 | 3.993 | 69.588 | |
read.450k.url | 8.867 | 0.384 | 14.364 | |