This page was generated on 2020-10-15 20:46:02 -0400 (Thu, 15 Oct 2020).
malbec2 |
Linux (Ubuntu 18.04.4 LTS) / x86_64 | | | | |
|
ABAData 1.18.0 | Steffi Grote | OK | OK | OK | ![UNNEEDED, same version exists in internal repository UNNEEDED, same version exists in internal repository](120px-Blue_Light_Icon.svg.png) |
adductData 1.4.0 | Josie Hayes | OK | OK | OK | ![UNNEEDED, same version exists in internal repository UNNEEDED, same version exists in internal repository](120px-Blue_Light_Icon.svg.png) |
affycompData 1.26.0 | Harris Jaffee | OK | OK | OK | ![UNNEEDED, same version exists in internal repository UNNEEDED, same version exists in internal repository](120px-Blue_Light_Icon.svg.png) |
affydata 1.36.0 | Harris Jaffee | OK | OK | WARNINGS | ![UNNEEDED, same version exists in internal repository UNNEEDED, same version exists in internal repository](120px-Blue_Light_Icon.svg.png) |
Affyhgu133A2Expr 1.24.0 | Zhicheng Ji | OK | OK | OK | ![UNNEEDED, same version exists in internal repository UNNEEDED, same version exists in internal repository](120px-Blue_Light_Icon.svg.png) |
Affyhgu133aExpr 1.26.0 | Zhicheng Ji | OK | OK | OK | ![UNNEEDED, same version exists in internal repository UNNEEDED, same version exists in internal repository](120px-Blue_Light_Icon.svg.png) |
Affyhgu133Plus2Expr 1.22.0 | Zhicheng Ji | OK | OK | OK | ![UNNEEDED, same version exists in internal repository UNNEEDED, same version exists in internal repository](120px-Blue_Light_Icon.svg.png) |
AffymetrixDataTestFiles 0.26.0 | Henrik Bengtsson | OK | OK | OK | ![UNNEEDED, same version exists in internal repository UNNEEDED, same version exists in internal repository](120px-Blue_Light_Icon.svg.png) |
Affymoe4302Expr 1.26.0 | Zhicheng Ji | OK | OK | OK | ![UNNEEDED, same version exists in internal repository UNNEEDED, same version exists in internal repository](120px-Blue_Light_Icon.svg.png) |
airway 1.8.0 | Michael Love | OK | OK | WARNINGS | ![UNNEEDED, same version exists in internal repository UNNEEDED, same version exists in internal repository](120px-Blue_Light_Icon.svg.png) |
ALL 1.30.0 | Robert Gentleman | OK | OK | OK | ![UNNEEDED, same version exists in internal repository UNNEEDED, same version exists in internal repository](120px-Blue_Light_Icon.svg.png) |
ALLMLL 1.28.0 | B. M. Bolstad | OK | OK | OK | ![UNNEEDED, same version exists in internal repository UNNEEDED, same version exists in internal repository](120px-Blue_Light_Icon.svg.png) |
alpineData 1.14.0 | Michael Love | OK | OK | OK | ![UNNEEDED, same version exists in internal repository UNNEEDED, same version exists in internal repository](120px-Blue_Light_Icon.svg.png) |
AmpAffyExample 1.28.0 | Rafael A. Irizarry | OK | OK | WARNINGS | ![UNNEEDED, same version exists in internal repository UNNEEDED, same version exists in internal repository](120px-Blue_Light_Icon.svg.png) |
AneuFinderData 1.16.0 | Aaron Taudt | OK | OK | WARNINGS | ![UNNEEDED, same version exists in internal repository UNNEEDED, same version exists in internal repository](120px-Blue_Light_Icon.svg.png) |
antiProfilesData 1.24.0 | Hector Corrada Bravo | OK | OK | OK | ![UNNEEDED, same version exists in internal repository UNNEEDED, same version exists in internal repository](120px-Blue_Light_Icon.svg.png) |
aracne.networks 1.14.0 | Federico M. Giorgi , Mariano Alvarez | OK | OK | WARNINGS | ![UNNEEDED, same version exists in internal repository UNNEEDED, same version exists in internal repository](120px-Blue_Light_Icon.svg.png) |
ARRmData 1.24.0 | Jean-Philippe Fortin | OK | OK | OK | ![UNNEEDED, same version exists in internal repository UNNEEDED, same version exists in internal repository](120px-Blue_Light_Icon.svg.png) |
AshkenazimSonChr21 1.18.0 | Who to complain to | OK | OK | OK | ![UNNEEDED, same version exists in internal repository UNNEEDED, same version exists in internal repository](120px-Blue_Light_Icon.svg.png) |
ASICSdata 1.8.0 | Gaƫlle Lefort | OK | OK | OK | ![UNNEEDED, same version exists in internal repository UNNEEDED, same version exists in internal repository](120px-Blue_Light_Icon.svg.png) |
AssessORFData 1.6.0 | Deepank Korandla | OK | OK | OK | ![UNNEEDED, same version exists in internal repository UNNEEDED, same version exists in internal repository](120px-Blue_Light_Icon.svg.png) |
bcellViper 1.24.0 | Mariano Javier Alvarez | OK | OK | OK | ![UNNEEDED, same version exists in internal repository UNNEEDED, same version exists in internal repository](120px-Blue_Light_Icon.svg.png) |
beadarrayExampleData 1.26.0 | Mark Dunning | OK | OK | OK | ![UNNEEDED, same version exists in internal repository UNNEEDED, same version exists in internal repository](120px-Blue_Light_Icon.svg.png) |
BeadArrayUseCases 1.26.0 | Mike Smith | OK | OK | OK | ![UNNEEDED, same version exists in internal repository UNNEEDED, same version exists in internal repository](120px-Blue_Light_Icon.svg.png) |
benchmarkfdrData2019 1.2.0 | Stephanie Hicks | OK | OK | OK | ![UNNEEDED, same version exists in internal repository UNNEEDED, same version exists in internal repository](120px-Blue_Light_Icon.svg.png) |
beta7 1.26.0 | Jean Yang | OK | OK | WARNINGS | ![UNNEEDED, same version exists in internal repository UNNEEDED, same version exists in internal repository](120px-Blue_Light_Icon.svg.png) |
biotmleData 1.12.0 | Nima Hejazi | OK | OK | OK | ![UNNEEDED, same version exists in internal repository UNNEEDED, same version exists in internal repository](120px-Blue_Light_Icon.svg.png) |
biscuiteerData 1.2.0 | "Jacob Morrison" | OK | OK | OK | ![UNNEEDED, same version exists in internal repository UNNEEDED, same version exists in internal repository](120px-Blue_Light_Icon.svg.png) |
bladderbatch 1.26.0 | Jeffrey T. Leek | OK | OK | WARNINGS | ![UNNEEDED, same version exists in internal repository UNNEEDED, same version exists in internal repository](120px-Blue_Light_Icon.svg.png) |
blimaTestingData 1.8.0 | Vojtech Kulvait | OK | OK | OK | ![UNNEEDED, same version exists in internal repository UNNEEDED, same version exists in internal repository](120px-Blue_Light_Icon.svg.png) |
BloodCancerMultiOmics2017 1.8.0 | Malgorzata Oles | OK | OK | OK | ![UNNEEDED, same version exists in internal repository UNNEEDED, same version exists in internal repository](120px-Blue_Light_Icon.svg.png) |
bodymapRat 1.4.0 | Stephanie Hicks | OK | OK | OK | ![UNNEEDED, same version exists in internal repository UNNEEDED, same version exists in internal repository](120px-Blue_Light_Icon.svg.png) |
brainImageRdata 1.6.0 | Sara Linker | OK | OK | OK | ![UNNEEDED, same version exists in internal repository UNNEEDED, same version exists in internal repository](120px-Blue_Light_Icon.svg.png) |
breakpointRdata 1.6.0 | David Porubsky | OK | OK | OK | ![UNNEEDED, same version exists in internal repository UNNEEDED, same version exists in internal repository](120px-Blue_Light_Icon.svg.png) |
breastCancerMAINZ 1.26.0 | Markus Schroeder , Benjamin Haibe-Kains | OK | OK | WARNINGS | ![UNNEEDED, same version exists in internal repository UNNEEDED, same version exists in internal repository](120px-Blue_Light_Icon.svg.png) |
breastCancerNKI 1.26.0 | Markus Schroeder , Benjamin Haibe-Kains | OK | OK | WARNINGS | ![UNNEEDED, same version exists in internal repository UNNEEDED, same version exists in internal repository](120px-Blue_Light_Icon.svg.png) |
breastCancerTRANSBIG 1.26.0 | Markus Schroeder , Benjamin Haibe-Kains | OK | OK | WARNINGS | ![UNNEEDED, same version exists in internal repository UNNEEDED, same version exists in internal repository](120px-Blue_Light_Icon.svg.png) |
breastCancerUNT 1.26.0 | Markus Schroeder , Benjamin Haibe-Kains | OK | OK | WARNINGS | ![UNNEEDED, same version exists in internal repository UNNEEDED, same version exists in internal repository](120px-Blue_Light_Icon.svg.png) |
breastCancerUPP 1.26.0 | Markus Schroeder , Benjamin Haibe-Kains | OK | OK | WARNINGS | ![UNNEEDED, same version exists in internal repository UNNEEDED, same version exists in internal repository](120px-Blue_Light_Icon.svg.png) |
breastCancerVDX 1.26.0 | Markus Schroeder , Benjamin Haibe-Kains | OK | OK | WARNINGS | ![UNNEEDED, same version exists in internal repository UNNEEDED, same version exists in internal repository](120px-Blue_Light_Icon.svg.png) |
brgedata 1.10.0 | Carlos Ruiz-Arenas | OK | OK | WARNINGS | ![UNNEEDED, same version exists in internal repository UNNEEDED, same version exists in internal repository](120px-Blue_Light_Icon.svg.png) |
bronchialIL13 1.26.0 | Vince Carey | OK | OK | OK | ![UNNEEDED, same version exists in internal repository UNNEEDED, same version exists in internal repository](120px-Blue_Light_Icon.svg.png) |
bsseqData 0.26.0 | Kasper Daniel Hansen | OK | OK | OK | ![UNNEEDED, same version exists in internal repository UNNEEDED, same version exists in internal repository](120px-Blue_Light_Icon.svg.png) |
cancerdata 1.26.0 | Daniel Kosztyla | OK | OK | OK | ![UNNEEDED, same version exists in internal repository UNNEEDED, same version exists in internal repository](120px-Blue_Light_Icon.svg.png) |
CardinalWorkflows 1.20.0 | Kylie A. Bemis | OK | OK | OK | ![UNNEEDED, same version exists in internal repository UNNEEDED, same version exists in internal repository](120px-Blue_Light_Icon.svg.png) |
ccdata 1.14.0 | Alex Pickering | OK | OK | WARNINGS | ![UNNEEDED, same version exists in internal repository UNNEEDED, same version exists in internal repository](120px-Blue_Light_Icon.svg.png) |
CCl4 1.26.0 | Audrey Kauffmann | OK | OK | WARNINGS | ![UNNEEDED, same version exists in internal repository UNNEEDED, same version exists in internal repository](120px-Blue_Light_Icon.svg.png) |
ccTutorial 1.26.0 | Joern Toedling | OK | OK | OK | ![UNNEEDED, same version exists in internal repository UNNEEDED, same version exists in internal repository](120px-Blue_Light_Icon.svg.png) |
celarefData 1.6.0 | Sarah Williams | OK | OK | OK | ![UNNEEDED, same version exists in internal repository UNNEEDED, same version exists in internal repository](120px-Blue_Light_Icon.svg.png) |
CellMapperData 1.14.0 | Brad Nelms | OK | OK | OK | ![UNNEEDED, same version exists in internal repository UNNEEDED, same version exists in internal repository](120px-Blue_Light_Icon.svg.png) |
ceu1kg 0.26.0 | VJ Carey | OK | OK | OK | ![UNNEEDED, same version exists in internal repository UNNEEDED, same version exists in internal repository](120px-Blue_Light_Icon.svg.png) |
ceu1kgv 0.30.0 | VJ Carey | OK | OK | OK | ![UNNEEDED, same version exists in internal repository UNNEEDED, same version exists in internal repository](120px-Blue_Light_Icon.svg.png) |
ceuhm3 0.26.0 | VJ Carey | OK | OK | OK | ![UNNEEDED, same version exists in internal repository UNNEEDED, same version exists in internal repository](120px-Blue_Light_Icon.svg.png) |
cgdv17 0.26.0 | VJ Carey | OK | OK | OK | ![UNNEEDED, same version exists in internal repository UNNEEDED, same version exists in internal repository](120px-Blue_Light_Icon.svg.png) |
ChAMPdata 2.20.0 | Yuan Tian | OK | OK | OK | ![UNNEEDED, same version exists in internal repository UNNEEDED, same version exists in internal repository](120px-Blue_Light_Icon.svg.png) |
ChIC.data 1.8.0 | Carmen Maria Livi | OK | OK | OK | ![UNNEEDED, same version exists in internal repository UNNEEDED, same version exists in internal repository](120px-Blue_Light_Icon.svg.png) |
ChimpHumanBrainData 1.26.0 | Sean Davis | OK | OK | OK | ![UNNEEDED, same version exists in internal repository UNNEEDED, same version exists in internal repository](120px-Blue_Light_Icon.svg.png) |
chipenrich.data 2.12.0 | Raymond G. Cavalcante | OK | OK | OK | ![UNNEEDED, same version exists in internal repository UNNEEDED, same version exists in internal repository](120px-Blue_Light_Icon.svg.png) |
ChIPexoQualExample 1.12.0 | Rene Welch | OK | OK | OK | ![UNNEEDED, same version exists in internal repository UNNEEDED, same version exists in internal repository](120px-Blue_Light_Icon.svg.png) |
chipseqDBData 1.4.0 | Aaron Lun | OK | OK | OK | ![UNNEEDED, same version exists in internal repository UNNEEDED, same version exists in internal repository](120px-Blue_Light_Icon.svg.png) |
ChIPXpressData 1.26.0 | George Wu | OK | OK | WARNINGS | ![UNNEEDED, same version exists in internal repository UNNEEDED, same version exists in internal repository](120px-Blue_Light_Icon.svg.png) |
chromstaRData 1.14.0 | Aaron Taudt | OK | OK | OK | ![UNNEEDED, same version exists in internal repository UNNEEDED, same version exists in internal repository](120px-Blue_Light_Icon.svg.png) |
CLL 1.28.0 | Robert Gentleman | OK | OK | OK | ![UNNEEDED, same version exists in internal repository UNNEEDED, same version exists in internal repository](120px-Blue_Light_Icon.svg.png) |
CLLmethylation 1.8.0 | Malgorzata Oles , Andreas Mock | OK | OK | OK | ![UNNEEDED, same version exists in internal repository UNNEEDED, same version exists in internal repository](120px-Blue_Light_Icon.svg.png) |
CluMSIDdata 1.4.0 | Tobias Depke | OK | OK | OK | ![UNNEEDED, same version exists in internal repository UNNEEDED, same version exists in internal repository](120px-Blue_Light_Icon.svg.png) |
cMap2data 1.24.0 | J. Saez-Rodriguez | OK | OK | OK | ![UNNEEDED, same version exists in internal repository UNNEEDED, same version exists in internal repository](120px-Blue_Light_Icon.svg.png) |
cnvGSAdata 1.24.0 | Joseph Lugo | OK | OK | WARNINGS | ![UNNEEDED, same version exists in internal repository UNNEEDED, same version exists in internal repository](120px-Blue_Light_Icon.svg.png) |
COHCAPanno 1.24.0 | Charles Warden | OK | OK | OK | ![UNNEEDED, same version exists in internal repository UNNEEDED, same version exists in internal repository](120px-Blue_Light_Icon.svg.png) |
colonCA 1.30.0 | W Sylvia Merk | OK | OK | WARNINGS | ![UNNEEDED, same version exists in internal repository UNNEEDED, same version exists in internal repository](120px-Blue_Light_Icon.svg.png) |
CONFESSdata 1.16.0 | Diana LOW | OK | OK | OK | ![UNNEEDED, same version exists in internal repository UNNEEDED, same version exists in internal repository](120px-Blue_Light_Icon.svg.png) |
ConnectivityMap 1.24.0 | Paul Shannon | OK | OK | OK | ![UNNEEDED, same version exists in internal repository UNNEEDED, same version exists in internal repository](120px-Blue_Light_Icon.svg.png) |
COPDSexualDimorphism.data 1.24.0 | J Fah Sathirapongsasuti | OK | OK | WARNINGS | ![UNNEEDED, same version exists in internal repository UNNEEDED, same version exists in internal repository](120px-Blue_Light_Icon.svg.png) |
CopyhelpeR 1.20.0 | Oscar Krijgsman | OK | OK | OK | ![UNNEEDED, same version exists in internal repository UNNEEDED, same version exists in internal repository](120px-Blue_Light_Icon.svg.png) |
CopyNeutralIMA 1.6.0 | Xavier Pastor Hostench | OK | OK | OK | ![UNNEEDED, same version exists in internal repository UNNEEDED, same version exists in internal repository](120px-Blue_Light_Icon.svg.png) |
COSMIC.67 1.24.0 | Julian Gehring | OK | OK | OK | ![UNNEEDED, same version exists in internal repository UNNEEDED, same version exists in internal repository](120px-Blue_Light_Icon.svg.png) |
CRCL18 1.8.0 | Claudio Isella | OK | OK | OK | ![UNNEEDED, same version exists in internal repository UNNEEDED, same version exists in internal repository](120px-Blue_Light_Icon.svg.png) |
curatedAdipoArray 1.0.0 | Mahmoud Ahmed | OK | OK | OK | ![UNNEEDED, same version exists in internal repository UNNEEDED, same version exists in internal repository](120px-Blue_Light_Icon.svg.png) |
curatedAdipoChIP 1.4.0 | Mahmoud Ahmed | OK | OK | OK | ![UNNEEDED, same version exists in internal repository UNNEEDED, same version exists in internal repository](120px-Blue_Light_Icon.svg.png) |
curatedAdipoRNA 1.4.0 | Mahmoud Ahmed | OK | OK | OK | ![UNNEEDED, same version exists in internal repository UNNEEDED, same version exists in internal repository](120px-Blue_Light_Icon.svg.png) |
curatedBladderData 1.24.0 | Markus Riester | OK | OK | OK | ![UNNEEDED, same version exists in internal repository UNNEEDED, same version exists in internal repository](120px-Blue_Light_Icon.svg.png) |
curatedBreastData 2.16.0 | Katie Planey | OK | OK | OK | ![UNNEEDED, same version exists in internal repository UNNEEDED, same version exists in internal repository](120px-Blue_Light_Icon.svg.png) |
curatedCRCData 2.20.0 | Princy Parsana | OK | OK | OK | ![UNNEEDED, same version exists in internal repository UNNEEDED, same version exists in internal repository](120px-Blue_Light_Icon.svg.png) |
curatedMetagenomicData 1.18.2 | Lucas Schiffer | OK | OK | OK | ![UNNEEDED, same version exists in internal repository UNNEEDED, same version exists in internal repository](120px-Blue_Light_Icon.svg.png) |
curatedOvarianData 1.26.0 | Levi Waldron | OK | OK | OK | ![UNNEEDED, same version exists in internal repository UNNEEDED, same version exists in internal repository](120px-Blue_Light_Icon.svg.png) |
curatedTCGAData 1.10.1 | Marcel Ramos | OK | OK | OK | ![UNNEEDED, same version exists in internal repository UNNEEDED, same version exists in internal repository](120px-Blue_Light_Icon.svg.png) |
DAPARdata 1.18.0 | Samuel Wieczorek | OK | OK | WARNINGS | ![UNNEEDED, same version exists in internal repository UNNEEDED, same version exists in internal repository](120px-Blue_Light_Icon.svg.png) |
davidTiling 1.28.0 | Wolfgang Huber | OK | OK | WARNINGS | ![UNNEEDED, same version exists in internal repository UNNEEDED, same version exists in internal repository](120px-Blue_Light_Icon.svg.png) |
depmap 1.2.0 | Laurent Gatto | OK | TIMEOUT | skipped | |
derfinderData 2.6.0 | Leonardo Collado-Torres | OK | OK | OK | ![UNNEEDED, same version exists in internal repository UNNEEDED, same version exists in internal repository](120px-Blue_Light_Icon.svg.png) |
DeSousa2013 1.24.0 | Xin Wang | OK | OK | OK | ![UNNEEDED, same version exists in internal repository UNNEEDED, same version exists in internal repository](120px-Blue_Light_Icon.svg.png) |
diffloopdata 1.16.0 | Caleb Lareau | OK | OK | OK | ![UNNEEDED, same version exists in internal repository UNNEEDED, same version exists in internal repository](120px-Blue_Light_Icon.svg.png) |
diggitdata 1.20.0 | Mariano Javier Alvarez | OK | OK | OK | ![UNNEEDED, same version exists in internal repository UNNEEDED, same version exists in internal repository](120px-Blue_Light_Icon.svg.png) |
DLBCL 1.28.0 | Marcus Dittrich | OK | OK | WARNINGS | ![UNNEEDED, same version exists in internal repository UNNEEDED, same version exists in internal repository](120px-Blue_Light_Icon.svg.png) |
DmelSGI 1.20.0 | Bernd Fischer | OK | OK | OK | ![UNNEEDED, same version exists in internal repository UNNEEDED, same version exists in internal repository](120px-Blue_Light_Icon.svg.png) |
DMRcatedata 2.6.0 | Tim Peters | OK | OK | OK | ![UNNEEDED, same version exists in internal repository UNNEEDED, same version exists in internal repository](120px-Blue_Light_Icon.svg.png) |
DonaPLLP2013 1.26.0 | Joseph D. Barry | OK | OK | OK | ![UNNEEDED, same version exists in internal repository UNNEEDED, same version exists in internal repository](120px-Blue_Light_Icon.svg.png) |
dorothea 1.0.1 | Christian H. Holland | OK | OK | OK | ![UNNEEDED, same version exists in internal repository UNNEEDED, same version exists in internal repository](120px-Blue_Light_Icon.svg.png) |
DREAM4 1.24.0 | Paul Shannon | OK | OK | WARNINGS | ![UNNEEDED, same version exists in internal repository UNNEEDED, same version exists in internal repository](120px-Blue_Light_Icon.svg.png) |
dressCheck 0.26.0 | Vincent Carey | OK | OK | OK | ![UNNEEDED, same version exists in internal repository UNNEEDED, same version exists in internal repository](120px-Blue_Light_Icon.svg.png) |
DrugVsDiseasedata 1.24.0 | J. Saez-Rodriguez | OK | OK | OK | ![UNNEEDED, same version exists in internal repository UNNEEDED, same version exists in internal repository](120px-Blue_Light_Icon.svg.png) |
dsQTL 0.26.0 | VJ Carey | OK | OK | OK | ![UNNEEDED, same version exists in internal repository UNNEEDED, same version exists in internal repository](120px-Blue_Light_Icon.svg.png) |
DuoClustering2018 1.6.0 | Angelo DuĆ² | OK | OK | OK | ![UNNEEDED, same version exists in internal repository UNNEEDED, same version exists in internal repository](120px-Blue_Light_Icon.svg.png) |
DvDdata 1.24.0 | J. Saez-Rodriguez | OK | OK | OK | ![UNNEEDED, same version exists in internal repository UNNEEDED, same version exists in internal repository](120px-Blue_Light_Icon.svg.png) |
dyebiasexamples 1.28.0 | Philip Lijnzaad | OK | OK | WARNINGS | ![UNNEEDED, same version exists in internal repository UNNEEDED, same version exists in internal repository](120px-Blue_Light_Icon.svg.png) |
EatonEtAlChIPseq 0.26.0 | Patrick Aboyoun | OK | OK | WARNINGS | ![UNNEEDED, same version exists in internal repository UNNEEDED, same version exists in internal repository](120px-Blue_Light_Icon.svg.png) |
ecoliLeucine 1.28.0 | Laurent Gautier | OK | OK | WARNINGS | ![UNNEEDED, same version exists in internal repository UNNEEDED, same version exists in internal repository](120px-Blue_Light_Icon.svg.png) |
EGSEAdata 1.16.0 | Monther Alhamdoosh | OK | OK | OK | ![UNNEEDED, same version exists in internal repository UNNEEDED, same version exists in internal repository](120px-Blue_Light_Icon.svg.png) |
ELMER.data 2.12.0 | Tiago Chedraoui Silva | OK | OK | OK | ![UNNEEDED, same version exists in internal repository UNNEEDED, same version exists in internal repository](120px-Blue_Light_Icon.svg.png) |
estrogen 1.34.0 | Wolfgang Huber | OK | OK | OK | ![UNNEEDED, same version exists in internal repository UNNEEDED, same version exists in internal repository](120px-Blue_Light_Icon.svg.png) |
etec16s 1.16.0 | Joseph N. Paulson | OK | OK | OK | ![UNNEEDED, same version exists in internal repository UNNEEDED, same version exists in internal repository](120px-Blue_Light_Icon.svg.png) |
faahKO 1.28.0 | Steffen Neumann | OK | OK | OK | ![UNNEEDED, same version exists in internal repository UNNEEDED, same version exists in internal repository](120px-Blue_Light_Icon.svg.png) |
fabiaData 1.26.0 | Sepp Hochreiter | OK | OK | OK | ![UNNEEDED, same version exists in internal repository UNNEEDED, same version exists in internal repository](120px-Blue_Light_Icon.svg.png) |
facsDorit 1.30.0 | Florian Hahne | OK | OK | OK | ![UNNEEDED, same version exists in internal repository UNNEEDED, same version exists in internal repository](120px-Blue_Light_Icon.svg.png) |
FANTOM3and4CAGE 1.24.0 | Vanja Haberle | OK | OK | OK | ![UNNEEDED, same version exists in internal repository UNNEEDED, same version exists in internal repository](120px-Blue_Light_Icon.svg.png) |
ffpeExampleData 1.26.0 | Levi Waldron | OK | OK | OK | ![UNNEEDED, same version exists in internal repository UNNEEDED, same version exists in internal repository](120px-Blue_Light_Icon.svg.png) |
fibroEset 1.30.0 | Sylvia Merk | OK | OK | WARNINGS | ![UNNEEDED, same version exists in internal repository UNNEEDED, same version exists in internal repository](120px-Blue_Light_Icon.svg.png) |
FIs 1.16.0 | Herbert Braselmann , Martin Selmansberger | OK | OK | OK | ![UNNEEDED, same version exists in internal repository UNNEEDED, same version exists in internal repository](120px-Blue_Light_Icon.svg.png) |
fission 1.8.0 | Michael Love | OK | OK | OK | ![UNNEEDED, same version exists in internal repository UNNEEDED, same version exists in internal repository](120px-Blue_Light_Icon.svg.png) |
Fletcher2013a 1.24.0 | Mauro Castro | OK | OK | OK | ![UNNEEDED, same version exists in internal repository UNNEEDED, same version exists in internal repository](120px-Blue_Light_Icon.svg.png) |
Fletcher2013b 1.24.0 | Mauro Castro | OK | OK | OK | ![UNNEEDED, same version exists in internal repository UNNEEDED, same version exists in internal repository](120px-Blue_Light_Icon.svg.png) |
flowFitExampleData 1.24.0 | Davide Rambaldi | OK | OK | OK | ![UNNEEDED, same version exists in internal repository UNNEEDED, same version exists in internal repository](120px-Blue_Light_Icon.svg.png) |
flowPloidyData 1.14.0 | Tyler Smith | OK | OK | OK | ![UNNEEDED, same version exists in internal repository UNNEEDED, same version exists in internal repository](120px-Blue_Light_Icon.svg.png) |
FlowSorted.Blood.450k 1.26.0 | Andrew E Jaffe | OK | OK | OK | ![UNNEEDED, same version exists in internal repository UNNEEDED, same version exists in internal repository](120px-Blue_Light_Icon.svg.png) |
FlowSorted.Blood.EPIC 1.6.1 | Lucas A. Salas | OK | TIMEOUT | skipped | |
FlowSorted.CordBlood.450k 1.16.0 | Shan V. Andrews | OK | OK | OK | ![UNNEEDED, same version exists in internal repository UNNEEDED, same version exists in internal repository](120px-Blue_Light_Icon.svg.png) |
FlowSorted.CordBloodCombined.450k 1.4.1 | Lucas A. Salas | OK | ERROR | skipped | |
FlowSorted.CordBloodNorway.450k 1.14.0 | kristina gervin | OK | OK | OK | ![UNNEEDED, same version exists in internal repository UNNEEDED, same version exists in internal repository](120px-Blue_Light_Icon.svg.png) |
FlowSorted.DLPFC.450k 1.24.0 | Andrew E Jaffe | OK | OK | OK | ![UNNEEDED, same version exists in internal repository UNNEEDED, same version exists in internal repository](120px-Blue_Light_Icon.svg.png) |
flowWorkspaceData 3.0.0 | Mike Jiang | OK | OK | OK | ![UNNEEDED, same version exists in internal repository UNNEEDED, same version exists in internal repository](120px-Blue_Light_Icon.svg.png) |
frmaExampleData 1.24.0 | Matthew N. McCall | OK | OK | WARNINGS | ![UNNEEDED, same version exists in internal repository UNNEEDED, same version exists in internal repository](120px-Blue_Light_Icon.svg.png) |
FunciSNP.data 1.24.0 | Simon G. Coetzee | OK | OK | ERROR | |
furrowSeg 1.16.0 | Joseph Barry | OK | OK | WARNINGS | ![UNNEEDED, same version exists in internal repository UNNEEDED, same version exists in internal repository](120px-Blue_Light_Icon.svg.png) |
gageData 2.26.0 | Weijun Luo | OK | OK | OK | ![UNNEEDED, same version exists in internal repository UNNEEDED, same version exists in internal repository](120px-Blue_Light_Icon.svg.png) |
gaschYHS 1.26.0 | Vince Carey | OK | OK | OK | ![UNNEEDED, same version exists in internal repository UNNEEDED, same version exists in internal repository](120px-Blue_Light_Icon.svg.png) |
gatingMLData 2.28.0 | J. Spidlen | OK | OK | OK | ![UNNEEDED, same version exists in internal repository UNNEEDED, same version exists in internal repository](120px-Blue_Light_Icon.svg.png) |
gcspikelite 1.26.0 | Mark Robinson | OK | OK | WARNINGS | ![UNNEEDED, same version exists in internal repository UNNEEDED, same version exists in internal repository](120px-Blue_Light_Icon.svg.png) |
geneLenDataBase 1.24.0 | Matthew Young , Nadia Davidson | OK | OK | WARNINGS | ![UNNEEDED, same version exists in internal repository UNNEEDED, same version exists in internal repository](120px-Blue_Light_Icon.svg.png) |
genomationData 1.20.0 | Vedran Franke | OK | OK | OK | ![UNNEEDED, same version exists in internal repository UNNEEDED, same version exists in internal repository](120px-Blue_Light_Icon.svg.png) |
GeuvadisTranscriptExpr 1.16.0 | Malgorzata Nowicka | OK | OK | OK | ![UNNEEDED, same version exists in internal repository UNNEEDED, same version exists in internal repository](120px-Blue_Light_Icon.svg.png) |
geuvPack 1.20.0 | VJ Carey | OK | OK | OK | ![UNNEEDED, same version exists in internal repository UNNEEDED, same version exists in internal repository](120px-Blue_Light_Icon.svg.png) |
geuvStore2 1.18.0 | VJ Carey | OK | OK | WARNINGS | ![UNNEEDED, same version exists in internal repository UNNEEDED, same version exists in internal repository](120px-Blue_Light_Icon.svg.png) |
GGdata 1.26.0 | VJ Carey | OK | OK | OK | ![UNNEEDED, same version exists in internal repository UNNEEDED, same version exists in internal repository](120px-Blue_Light_Icon.svg.png) |
GIGSEAdata 1.6.0 | Shijia Zhu | OK | OK | OK | ![UNNEEDED, same version exists in internal repository UNNEEDED, same version exists in internal repository](120px-Blue_Light_Icon.svg.png) |
golubEsets 1.30.0 | Vince Carey | OK | OK | OK | ![UNNEEDED, same version exists in internal repository UNNEEDED, same version exists in internal repository](120px-Blue_Light_Icon.svg.png) |
gpaExample 1.0.0 | Dongjun Chung | OK | OK | OK | ![UNNEEDED, same version exists in internal repository UNNEEDED, same version exists in internal repository](120px-Blue_Light_Icon.svg.png) |
grndata 1.20.0 | Pau Bellot | OK | OK | OK | ![UNNEEDED, same version exists in internal repository UNNEEDED, same version exists in internal repository](120px-Blue_Light_Icon.svg.png) |
GSBenchMark 1.8.0 | Bahman Afsari | OK | OK | OK | ![UNNEEDED, same version exists in internal repository UNNEEDED, same version exists in internal repository](120px-Blue_Light_Icon.svg.png) |
GSE62944 1.16.0 | Bioconductor Package Maintainer | OK | OK | OK | ![UNNEEDED, same version exists in internal repository UNNEEDED, same version exists in internal repository](120px-Blue_Light_Icon.svg.png) |
gskb 1.20.0 | Valerie Bares | OK | OK | OK | ![UNNEEDED, same version exists in internal repository UNNEEDED, same version exists in internal repository](120px-Blue_Light_Icon.svg.png) |
GSVAdata 1.24.0 | Robert Castelo | OK | OK | OK | ![UNNEEDED, same version exists in internal repository UNNEEDED, same version exists in internal repository](120px-Blue_Light_Icon.svg.png) |
GWASdata 1.26.0 | Stephanie Gogarten , Adrienne Stilp | OK | OK | OK | ![UNNEEDED, same version exists in internal repository UNNEEDED, same version exists in internal repository](120px-Blue_Light_Icon.svg.png) |
h5vcData 2.8.0 | Paul Theodor Pyl | OK | OK | OK | ![UNNEEDED, same version exists in internal repository UNNEEDED, same version exists in internal repository](120px-Blue_Light_Icon.svg.png) |
hapmap100khind 1.30.0 | Benilton Carvalho | OK | OK | OK | ![UNNEEDED, same version exists in internal repository UNNEEDED, same version exists in internal repository](120px-Blue_Light_Icon.svg.png) |
hapmap100kxba 1.30.0 | Benilton Carvalho | OK | OK | OK | ![UNNEEDED, same version exists in internal repository UNNEEDED, same version exists in internal repository](120px-Blue_Light_Icon.svg.png) |
hapmap500knsp 1.30.0 | Benilton Carvalho | OK | OK | OK | ![UNNEEDED, same version exists in internal repository UNNEEDED, same version exists in internal repository](120px-Blue_Light_Icon.svg.png) |
hapmap500ksty 1.30.0 | Benilton Carvalho | OK | OK | OK | ![UNNEEDED, same version exists in internal repository UNNEEDED, same version exists in internal repository](120px-Blue_Light_Icon.svg.png) |
hapmapsnp5 1.30.0 | Benilton Carvalho | OK | OK | OK | ![UNNEEDED, same version exists in internal repository UNNEEDED, same version exists in internal repository](120px-Blue_Light_Icon.svg.png) |
hapmapsnp6 1.30.0 | Benilton Carvalho | OK | OK | OK | ![UNNEEDED, same version exists in internal repository UNNEEDED, same version exists in internal repository](120px-Blue_Light_Icon.svg.png) |
harbChIP 1.26.0 | VJ Carey | OK | OK | OK | ![UNNEEDED, same version exists in internal repository UNNEEDED, same version exists in internal repository](120px-Blue_Light_Icon.svg.png) |
HarmanData 1.16.0 | Jason Ross | OK | OK | OK | ![UNNEEDED, same version exists in internal repository UNNEEDED, same version exists in internal repository](120px-Blue_Light_Icon.svg.png) |
HarmonizedTCGAData 1.10.0 | Tianle Ma | OK | OK | OK | ![UNNEEDED, same version exists in internal repository UNNEEDED, same version exists in internal repository](120px-Blue_Light_Icon.svg.png) |
HCAData 1.4.0 | Federico Marini | OK | OK | OK | ![UNNEEDED, same version exists in internal repository UNNEEDED, same version exists in internal repository](120px-Blue_Light_Icon.svg.png) |
HD2013SGI 1.28.0 | Bernd Fischer | OK | OK | OK | ![UNNEEDED, same version exists in internal repository UNNEEDED, same version exists in internal repository](120px-Blue_Light_Icon.svg.png) |
HDCytoData 1.8.0 | Lukas M. Weber | OK | OK | OK | ![UNNEEDED, same version exists in internal repository UNNEEDED, same version exists in internal repository](120px-Blue_Light_Icon.svg.png) |
healthyFlowData 1.26.0 | Ariful Azad | OK | OK | OK | ![UNNEEDED, same version exists in internal repository UNNEEDED, same version exists in internal repository](120px-Blue_Light_Icon.svg.png) |
HEEBOdata 1.26.0 | Agnes Paquet | OK | OK | WARNINGS | ![UNNEEDED, same version exists in internal repository UNNEEDED, same version exists in internal repository](120px-Blue_Light_Icon.svg.png) |
HelloRangesData 1.14.0 | Michael Lawrence | OK | OK | OK | ![UNNEEDED, same version exists in internal repository UNNEEDED, same version exists in internal repository](120px-Blue_Light_Icon.svg.png) |
hgu133abarcodevecs 1.26.0 | Matthew N. McCall | OK | OK | OK | ![UNNEEDED, same version exists in internal repository UNNEEDED, same version exists in internal repository](120px-Blue_Light_Icon.svg.png) |
hgu133plus2barcodevecs 1.26.0 | Matthew N. McCall | OK | OK | OK | ![UNNEEDED, same version exists in internal repository UNNEEDED, same version exists in internal repository](120px-Blue_Light_Icon.svg.png) |
hgu133plus2CellScore 1.8.0 | Nancy Mah | OK | OK | OK | ![UNNEEDED, same version exists in internal repository UNNEEDED, same version exists in internal repository](120px-Blue_Light_Icon.svg.png) |
hgu2beta7 1.28.0 | Bioconductor Package Maintainer | OK | OK | WARNINGS | ![UNNEEDED, same version exists in internal repository UNNEEDED, same version exists in internal repository](120px-Blue_Light_Icon.svg.png) |
HiCDataHumanIMR90 1.8.0 | Nicolas Servant | OK | OK | OK | ![UNNEEDED, same version exists in internal repository UNNEEDED, same version exists in internal repository](120px-Blue_Light_Icon.svg.png) |
HiCDataLymphoblast 1.24.0 | Borbala Mifsud | OK | OK | OK | ![UNNEEDED, same version exists in internal repository UNNEEDED, same version exists in internal repository](120px-Blue_Light_Icon.svg.png) |
HighlyReplicatedRNASeq 1.0.0 | Constantin Ahlmann-Eltze | OK | OK | OK | ![UNNEEDED, same version exists in internal repository UNNEEDED, same version exists in internal repository](120px-Blue_Light_Icon.svg.png) |
Hiiragi2013 1.24.0 | Andrzej Oles | OK | OK | OK | ![UNNEEDED, same version exists in internal repository UNNEEDED, same version exists in internal repository](120px-Blue_Light_Icon.svg.png) |
HIVcDNAvantWout03 1.28.0 | Chris Fraley | OK | OK | WARNINGS | ![UNNEEDED, same version exists in internal repository UNNEEDED, same version exists in internal repository](120px-Blue_Light_Icon.svg.png) |
HMP16SData 1.8.2 | Lucas Schiffer | OK | OK | OK | ![UNNEEDED, same version exists in internal repository UNNEEDED, same version exists in internal repository](120px-Blue_Light_Icon.svg.png) |
HMP2Data 1.2.0 | John Stansfield , Ekaterina Smirnova | OK | ERROR | skipped | |
hmyriB36 1.24.0 | Vincent Carey | OK | OK | OK | ![UNNEEDED, same version exists in internal repository UNNEEDED, same version exists in internal repository](120px-Blue_Light_Icon.svg.png) |
HSMMSingleCell 1.8.0 | Cole Trapnell | OK | OK | WARNINGS | ![UNNEEDED, same version exists in internal repository UNNEEDED, same version exists in internal repository](120px-Blue_Light_Icon.svg.png) |
HumanAffyData 1.14.0 | Brad Nelms | OK | OK | OK | ![UNNEEDED, same version exists in internal repository UNNEEDED, same version exists in internal repository](120px-Blue_Light_Icon.svg.png) |
humanStemCell 0.28.0 | R. Gentleman | OK | OK | WARNINGS | ![UNNEEDED, same version exists in internal repository UNNEEDED, same version exists in internal repository](120px-Blue_Light_Icon.svg.png) |
IHWpaper 1.16.1 | Nikos Ignatiadis | OK | OK | OK | ![UNNEEDED, same version exists in internal repository UNNEEDED, same version exists in internal repository](120px-Blue_Light_Icon.svg.png) |
Illumina450ProbeVariants.db 1.24.0 | Tiffany Morris | OK | OK | OK | ![UNNEEDED, same version exists in internal repository UNNEEDED, same version exists in internal repository](120px-Blue_Light_Icon.svg.png) |
IlluminaDataTestFiles 1.26.0 | Kasper Daniel Hansen | OK | OK | OK | ![UNNEEDED, same version exists in internal repository UNNEEDED, same version exists in internal repository](120px-Blue_Light_Icon.svg.png) |
ITALICSData 2.26.0 | Guillem Rigaill | OK | OK | WARNINGS | ![UNNEEDED, same version exists in internal repository UNNEEDED, same version exists in internal repository](120px-Blue_Light_Icon.svg.png) |
Iyer517 1.30.0 | Vince Carey | OK | OK | OK | ![UNNEEDED, same version exists in internal repository UNNEEDED, same version exists in internal repository](120px-Blue_Light_Icon.svg.png) |
JASPAR2014 1.24.0 | Ge Tan | OK | OK | OK | ![UNNEEDED, same version exists in internal repository UNNEEDED, same version exists in internal repository](120px-Blue_Light_Icon.svg.png) |
JASPAR2016 1.16.0 | Ge Tan | OK | OK | OK | ![UNNEEDED, same version exists in internal repository UNNEEDED, same version exists in internal repository](120px-Blue_Light_Icon.svg.png) |
JctSeqData 1.18.0 | Stephen Hartley | OK | OK | OK | ![UNNEEDED, same version exists in internal repository UNNEEDED, same version exists in internal repository](120px-Blue_Light_Icon.svg.png) |
KEGGandMetacoreDzPathwaysGEO 1.8.0 | Gaurav Bhatti | OK | OK | OK | ![UNNEEDED, same version exists in internal repository UNNEEDED, same version exists in internal repository](120px-Blue_Light_Icon.svg.png) |
KEGGdzPathwaysGEO 1.26.0 | Gaurav Bhatti | OK | OK | OK | ![UNNEEDED, same version exists in internal repository UNNEEDED, same version exists in internal repository](120px-Blue_Light_Icon.svg.png) |
kidpack 1.30.0 | Wolfgang Huber | OK | OK | WARNINGS | ![UNNEEDED, same version exists in internal repository UNNEEDED, same version exists in internal repository](120px-Blue_Light_Icon.svg.png) |
KOdata 1.14.0 | Shana White | OK | OK | OK | ![UNNEEDED, same version exists in internal repository UNNEEDED, same version exists in internal repository](120px-Blue_Light_Icon.svg.png) |
leeBamViews 1.24.0 | VJ Carey | OK | OK | OK | ![UNNEEDED, same version exists in internal repository UNNEEDED, same version exists in internal repository](120px-Blue_Light_Icon.svg.png) |
leukemiasEset 1.24.0 | Sara Aibar | OK | OK | OK | ![UNNEEDED, same version exists in internal repository UNNEEDED, same version exists in internal repository](120px-Blue_Light_Icon.svg.png) |
LiebermanAidenHiC2009 0.26.0 | Felix Klein | OK | OK | WARNINGS | ![UNNEEDED, same version exists in internal repository UNNEEDED, same version exists in internal repository](120px-Blue_Light_Icon.svg.png) |
ListerEtAlBSseq 1.20.0 | Kamal Kishore | OK | OK | WARNINGS | ![UNNEEDED, same version exists in internal repository UNNEEDED, same version exists in internal repository](120px-Blue_Light_Icon.svg.png) |
lumiBarnes 1.28.0 | Pan Du | OK | OK | WARNINGS | ![UNNEEDED, same version exists in internal repository UNNEEDED, same version exists in internal repository](120px-Blue_Light_Icon.svg.png) |
LungCancerACvsSCCGEO 1.24.0 | Adi Laurentiu Tarca | OK | OK | OK | ![UNNEEDED, same version exists in internal repository UNNEEDED, same version exists in internal repository](120px-Blue_Light_Icon.svg.png) |
LungCancerLines 0.26.0 | Cory Barr | OK | OK | OK | ![UNNEEDED, same version exists in internal repository UNNEEDED, same version exists in internal repository](120px-Blue_Light_Icon.svg.png) |
lungExpression 0.26.0 | Robert Scharpf | OK | OK | OK | ![UNNEEDED, same version exists in internal repository UNNEEDED, same version exists in internal repository](120px-Blue_Light_Icon.svg.png) |
lydata 1.14.0 | Alex Pickering | OK | OK | OK | ![UNNEEDED, same version exists in internal repository UNNEEDED, same version exists in internal repository](120px-Blue_Light_Icon.svg.png) |
M3DExampleData 1.14.0 | Tallulah Andrews | OK | OK | WARNINGS | ![UNNEEDED, same version exists in internal repository UNNEEDED, same version exists in internal repository](120px-Blue_Light_Icon.svg.png) |
macrophage 1.4.0 | Michael Love | OK | OK | OK | ![UNNEEDED, same version exists in internal repository UNNEEDED, same version exists in internal repository](120px-Blue_Light_Icon.svg.png) |
mammaPrintData 1.24.0 | Luigi Marchionni | OK | OK | OK | ![UNNEEDED, same version exists in internal repository UNNEEDED, same version exists in internal repository](120px-Blue_Light_Icon.svg.png) |
mAPKLData 1.20.0 | Argiris Sakellariou | OK | OK | WARNINGS | ![UNNEEDED, same version exists in internal repository UNNEEDED, same version exists in internal repository](120px-Blue_Light_Icon.svg.png) |
maqcExpression4plex 1.32.0 | Benilton Carvalho | OK | OK | OK | ![UNNEEDED, same version exists in internal repository UNNEEDED, same version exists in internal repository](120px-Blue_Light_Icon.svg.png) |
MAQCsubset 1.26.0 | VJ Carey | OK | OK | OK | ![UNNEEDED, same version exists in internal repository UNNEEDED, same version exists in internal repository](120px-Blue_Light_Icon.svg.png) |
MAQCsubsetAFX 1.26.0 | Laurent Gatto | OK | OK | OK | ![UNNEEDED, same version exists in internal repository UNNEEDED, same version exists in internal repository](120px-Blue_Light_Icon.svg.png) |
MAQCsubsetILM 1.26.0 | Laurent Gatto | OK | OK | OK | ![UNNEEDED, same version exists in internal repository UNNEEDED, same version exists in internal repository](120px-Blue_Light_Icon.svg.png) |
mCSEAdata 1.8.0 | Jordi Martorell MarugƔn | OK | OK | OK | ![UNNEEDED, same version exists in internal repository UNNEEDED, same version exists in internal repository](120px-Blue_Light_Icon.svg.png) |
mcsurvdata 1.6.0 | Adria Caballe Mestres | OK | OK | OK | ![UNNEEDED, same version exists in internal repository UNNEEDED, same version exists in internal repository](120px-Blue_Light_Icon.svg.png) |
MEDIPSData 1.24.0 | Lukas Chavez | OK | OK | WARNINGS | ![UNNEEDED, same version exists in internal repository UNNEEDED, same version exists in internal repository](120px-Blue_Light_Icon.svg.png) |
MEEBOdata 1.26.0 | Agnes Paquet | OK | OK | WARNINGS | ![UNNEEDED, same version exists in internal repository UNNEEDED, same version exists in internal repository](120px-Blue_Light_Icon.svg.png) |
MetaGxBreast 1.8.0 | Michael Zon | OK | OK | OK | ![UNNEEDED, same version exists in internal repository UNNEEDED, same version exists in internal repository](120px-Blue_Light_Icon.svg.png) |
MetaGxOvarian 1.8.0 | Michael Zon | OK | OK | WARNINGS | ![UNNEEDED, same version exists in internal repository UNNEEDED, same version exists in internal repository](120px-Blue_Light_Icon.svg.png) |
MetaGxPancreas 1.8.0 | Michael Zon | OK | OK | OK | ![UNNEEDED, same version exists in internal repository UNNEEDED, same version exists in internal repository](120px-Blue_Light_Icon.svg.png) |
metaMSdata 1.24.0 | Yann Guitton | OK | OK | OK | ![UNNEEDED, same version exists in internal repository UNNEEDED, same version exists in internal repository](120px-Blue_Light_Icon.svg.png) |
MethylAidData 1.20.0 | M. van Iterson | OK | OK | OK | ![UNNEEDED, same version exists in internal repository UNNEEDED, same version exists in internal repository](120px-Blue_Light_Icon.svg.png) |
methyvimData 1.10.0 | Nima Hejazi | OK | OK | OK | ![UNNEEDED, same version exists in internal repository UNNEEDED, same version exists in internal repository](120px-Blue_Light_Icon.svg.png) |
microRNAome 1.10.0 | Matthew N. McCall | OK | OK | OK | ![UNNEEDED, same version exists in internal repository UNNEEDED, same version exists in internal repository](120px-Blue_Light_Icon.svg.png) |
MIGSAdata 1.12.0 | Juan C. Rodriguez | OK | OK | OK | ![UNNEEDED, same version exists in internal repository UNNEEDED, same version exists in internal repository](120px-Blue_Light_Icon.svg.png) |
minfiData 0.34.0 | Kasper Daniel Hansen | OK | OK | OK | ![UNNEEDED, same version exists in internal repository UNNEEDED, same version exists in internal repository](120px-Blue_Light_Icon.svg.png) |
minfiDataEPIC 1.14.0 | Kasper Daniel Hansen | OK | OK | OK | ![UNNEEDED, same version exists in internal repository UNNEEDED, same version exists in internal repository](120px-Blue_Light_Icon.svg.png) |
minionSummaryData 1.18.0 | Mike Smith | OK | OK | OK | ![UNNEEDED, same version exists in internal repository UNNEEDED, same version exists in internal repository](120px-Blue_Light_Icon.svg.png) |
miRcompData 1.18.0 | Matthew N. McCall | OK | OK | OK | ![UNNEEDED, same version exists in internal repository UNNEEDED, same version exists in internal repository](120px-Blue_Light_Icon.svg.png) |
miRNATarget 1.26.0 | Y-h. Taguchi | OK | OK | OK | ![UNNEEDED, same version exists in internal repository UNNEEDED, same version exists in internal repository](120px-Blue_Light_Icon.svg.png) |
mitoODEdata 1.24.1 | Gregoire Pau | OK | OK | OK | ![UNNEEDED, same version exists in internal repository UNNEEDED, same version exists in internal repository](120px-Blue_Light_Icon.svg.png) |
MMAPPR2data 1.2.0 | Jonathon Hill | OK | OK | OK | ![UNNEEDED, same version exists in internal repository UNNEEDED, same version exists in internal repository](120px-Blue_Light_Icon.svg.png) |
MMDiffBamSubset 1.24.0 | Gabriele Schweikert | OK | OK | OK | ![UNNEEDED, same version exists in internal repository UNNEEDED, same version exists in internal repository](120px-Blue_Light_Icon.svg.png) |
MOFAdata 1.4.0 | Britta Velten | OK | OK | OK | ![UNNEEDED, same version exists in internal repository UNNEEDED, same version exists in internal repository](120px-Blue_Light_Icon.svg.png) |
mosaicsExample 1.26.0 | Dongjun Chung | OK | OK | OK | ![UNNEEDED, same version exists in internal repository UNNEEDED, same version exists in internal repository](120px-Blue_Light_Icon.svg.png) |
mouse4302barcodevecs 1.26.0 | Matthew N. McCall | OK | OK | OK | ![UNNEEDED, same version exists in internal repository UNNEEDED, same version exists in internal repository](120px-Blue_Light_Icon.svg.png) |
MouseGastrulationData 1.2.0 | Jonathan Griffiths | OK | OK | OK | ![UNNEEDED, same version exists in internal repository UNNEEDED, same version exists in internal repository](120px-Blue_Light_Icon.svg.png) |
msd16s 1.8.0 | Joseph N. Paulson | OK | OK | OK | ![UNNEEDED, same version exists in internal repository UNNEEDED, same version exists in internal repository](120px-Blue_Light_Icon.svg.png) |
msdata 0.28.0 | Steffen Neumann , Laurent Gatto | OK | OK | OK | ![UNNEEDED, same version exists in internal repository UNNEEDED, same version exists in internal repository](120px-Blue_Light_Icon.svg.png) |
MSMB 1.6.0 | Wolfgang Huber | OK | OK | WARNINGS | ![UNNEEDED, same version exists in internal repository UNNEEDED, same version exists in internal repository](120px-Blue_Light_Icon.svg.png) |
msPurityData 1.16.0 | Thomas N. Lawson | OK | OK | OK | ![UNNEEDED, same version exists in internal repository UNNEEDED, same version exists in internal repository](120px-Blue_Light_Icon.svg.png) |
msqc1 1.16.0 | Christian Panse | OK | OK | OK | ![UNNEEDED, same version exists in internal repository UNNEEDED, same version exists in internal repository](120px-Blue_Light_Icon.svg.png) |
MSstatsBioData 1.10.0 | Meena Choi | OK | OK | WARNINGS | ![UNNEEDED, same version exists in internal repository UNNEEDED, same version exists in internal repository](120px-Blue_Light_Icon.svg.png) |
mtbls2 1.18.0 | Steffen Neumann | OK | OK | OK | ![UNNEEDED, same version exists in internal repository UNNEEDED, same version exists in internal repository](120px-Blue_Light_Icon.svg.png) |
MTseekerData 1.6.0 | Tim Triche, Jr. | OK | OK | WARNINGS | ![UNNEEDED, same version exists in internal repository UNNEEDED, same version exists in internal repository](120px-Blue_Light_Icon.svg.png) |
MUGAExampleData 1.8.0 | Daniel Gatti | OK | OK | OK | ![UNNEEDED, same version exists in internal repository UNNEEDED, same version exists in internal repository](120px-Blue_Light_Icon.svg.png) |
Mulder2012 0.28.0 | Xin Wang | ERROR | ERROR | skipped | |
muscData 1.2.0 | Helena L. Crowell | OK | OK | WARNINGS | ![UNNEEDED, same version exists in internal repository UNNEEDED, same version exists in internal repository](120px-Blue_Light_Icon.svg.png) |
mvoutData 1.24.0 | VJ Carey | OK | OK | OK | ![UNNEEDED, same version exists in internal repository UNNEEDED, same version exists in internal repository](120px-Blue_Light_Icon.svg.png) |
nanotubes 1.4.0 | Malte Thodberg | OK | OK | OK | ![UNNEEDED, same version exists in internal repository UNNEEDED, same version exists in internal repository](120px-Blue_Light_Icon.svg.png) |
NCIgraphData 1.24.0 | Laurent Jacob | OK | OK | WARNINGS | ![UNNEEDED, same version exists in internal repository UNNEEDED, same version exists in internal repository](120px-Blue_Light_Icon.svg.png) |
NestLink 1.4.0 | Lennart Opitz | OK | OK | OK | ![UNNEEDED, same version exists in internal repository UNNEEDED, same version exists in internal repository](120px-Blue_Light_Icon.svg.png) |
Neve2006 0.26.0 | VJ Carey | OK | OK | OK | ![UNNEEDED, same version exists in internal repository UNNEEDED, same version exists in internal repository](120px-Blue_Light_Icon.svg.png) |
NGScopyData 1.8.0 | Xiaobei Zhao | OK | OK | OK | ![UNNEEDED, same version exists in internal repository UNNEEDED, same version exists in internal repository](120px-Blue_Light_Icon.svg.png) |
oct4 1.4.0 | Michael Love | OK | OK | OK | ![UNNEEDED, same version exists in internal repository UNNEEDED, same version exists in internal repository](120px-Blue_Light_Icon.svg.png) |
OMICsPCAdata 1.6.0 | Subhadeep Das | OK | OK | OK | ![UNNEEDED, same version exists in internal repository UNNEEDED, same version exists in internal repository](120px-Blue_Light_Icon.svg.png) |
OnassisJavaLibs 1.10.0 | Eugenia Galeota | OK | OK | OK | ![UNNEEDED, same version exists in internal repository UNNEEDED, same version exists in internal repository](120px-Blue_Light_Icon.svg.png) |
optimalFlowData 1.0.0 | Hristo Inouzhe | OK | OK | OK | ![UNNEEDED, same version exists in internal repository UNNEEDED, same version exists in internal repository](120px-Blue_Light_Icon.svg.png) |
parathyroidSE 1.26.0 | Michael Love | OK | OK | OK | ![UNNEEDED, same version exists in internal repository UNNEEDED, same version exists in internal repository](120px-Blue_Light_Icon.svg.png) |
pasilla 1.16.0 | Alejandro Reyes | OK | OK | OK | ![UNNEEDED, same version exists in internal repository UNNEEDED, same version exists in internal repository](120px-Blue_Light_Icon.svg.png) |
pasillaBamSubset 0.26.0 | HervĆ© PagĆØs | OK | OK | OK | ![UNNEEDED, same version exists in internal repository UNNEEDED, same version exists in internal repository](120px-Blue_Light_Icon.svg.png) |
PasillaTranscriptExpr 1.16.0 | Malgorzata Nowicka | OK | OK | OK | ![UNNEEDED, same version exists in internal repository UNNEEDED, same version exists in internal repository](120px-Blue_Light_Icon.svg.png) |
PathNetData 1.24.0 | Ludwig Geistlinger | OK | OK | OK | ![UNNEEDED, same version exists in internal repository UNNEEDED, same version exists in internal repository](120px-Blue_Light_Icon.svg.png) |
pathprintGEOData 1.18.0 | Sokratis Kariotis | OK | OK | WARNINGS | ![UNNEEDED, same version exists in internal repository UNNEEDED, same version exists in internal repository](120px-Blue_Light_Icon.svg.png) |
pcaGoPromoter.Hs.hg19 1.24.0 | Morten Hansen | OK | OK | OK | ![UNNEEDED, same version exists in internal repository UNNEEDED, same version exists in internal repository](120px-Blue_Light_Icon.svg.png) |
pcaGoPromoter.Mm.mm9 1.24.0 | Morten Hansen | OK | OK | OK | ![UNNEEDED, same version exists in internal repository UNNEEDED, same version exists in internal repository](120px-Blue_Light_Icon.svg.png) |
pcaGoPromoter.Rn.rn4 1.24.0 | Morten Hansen, | OK | OK | OK | ![UNNEEDED, same version exists in internal repository UNNEEDED, same version exists in internal repository](120px-Blue_Light_Icon.svg.png) |
PCHiCdata 1.16.0 | Paula Freire-Pritchett | OK | OK | OK | ![UNNEEDED, same version exists in internal repository UNNEEDED, same version exists in internal repository](120px-Blue_Light_Icon.svg.png) |
pcxnData 2.10.0 | Sokratis Kariotis | OK | OK | WARNINGS | ![UNNEEDED, same version exists in internal repository UNNEEDED, same version exists in internal repository](120px-Blue_Light_Icon.svg.png) |
pd.atdschip.tiling 0.26.0 | Kristof De Beuf | OK | OK | WARNINGS | ![UNNEEDED, same version exists in internal repository UNNEEDED, same version exists in internal repository](120px-Blue_Light_Icon.svg.png) |
pepDat 1.8.0 | Renan Sauteraud | OK | OK | OK | ![UNNEEDED, same version exists in internal repository UNNEEDED, same version exists in internal repository](120px-Blue_Light_Icon.svg.png) |
PepsNMRData 1.6.0 | Manon Martin | OK | OK | OK | ![UNNEEDED, same version exists in internal repository UNNEEDED, same version exists in internal repository](120px-Blue_Light_Icon.svg.png) |
PhyloProfileData 1.2.0 | Vinh Tran | OK | OK | OK | ![UNNEEDED, same version exists in internal repository UNNEEDED, same version exists in internal repository](120px-Blue_Light_Icon.svg.png) |
plasFIA 1.16.0 | Alexis Delabriere | OK | OK | OK | ![UNNEEDED, same version exists in internal repository UNNEEDED, same version exists in internal repository](120px-Blue_Light_Icon.svg.png) |
ppiData 0.26.0 | Bioconductor Package Maintainer | OK | OK | WARNINGS | ![UNNEEDED, same version exists in internal repository UNNEEDED, same version exists in internal repository](120px-Blue_Light_Icon.svg.png) |
prebsdata 1.24.0 | Karolis Uziela | OK | OK | OK | ![UNNEEDED, same version exists in internal repository UNNEEDED, same version exists in internal repository](120px-Blue_Light_Icon.svg.png) |
PREDAsampledata 0.28.0 | Francesco Ferrari | OK | OK | OK | ![UNNEEDED, same version exists in internal repository UNNEEDED, same version exists in internal repository](120px-Blue_Light_Icon.svg.png) |
ProData 1.26.0 | Xiaochun Li | OK | OK | OK | ![UNNEEDED, same version exists in internal repository UNNEEDED, same version exists in internal repository](120px-Blue_Light_Icon.svg.png) |
pRolocdata 1.26.0 | Laurent Gatto | OK | OK | OK | ![UNNEEDED, same version exists in internal repository UNNEEDED, same version exists in internal repository](120px-Blue_Light_Icon.svg.png) |
prostateCancerCamcap 1.16.0 | Mark Dunning | OK | OK | OK | ![UNNEEDED, same version exists in internal repository UNNEEDED, same version exists in internal repository](120px-Blue_Light_Icon.svg.png) |
prostateCancerGrasso 1.16.0 | Mark Dunning | OK | OK | OK | ![UNNEEDED, same version exists in internal repository UNNEEDED, same version exists in internal repository](120px-Blue_Light_Icon.svg.png) |
prostateCancerStockholm 1.16.0 | Mark Dunning | OK | OK | OK | ![UNNEEDED, same version exists in internal repository UNNEEDED, same version exists in internal repository](120px-Blue_Light_Icon.svg.png) |
prostateCancerTaylor 1.16.0 | Mark Dunning | OK | OK | OK | ![UNNEEDED, same version exists in internal repository UNNEEDED, same version exists in internal repository](120px-Blue_Light_Icon.svg.png) |
prostateCancerVarambally 1.16.0 | Mark Dunning | OK | OK | OK | ![UNNEEDED, same version exists in internal repository UNNEEDED, same version exists in internal repository](120px-Blue_Light_Icon.svg.png) |
PtH2O2lipids 1.14.0 | James Collins | OK | OK | WARNINGS | ![UNNEEDED, same version exists in internal repository UNNEEDED, same version exists in internal repository](120px-Blue_Light_Icon.svg.png) |
pumadata 2.24.0 | Xuejun liu | OK | OK | OK | ![UNNEEDED, same version exists in internal repository UNNEEDED, same version exists in internal repository](120px-Blue_Light_Icon.svg.png) |
PWMEnrich.Dmelanogaster.background 4.22.0 | Robert Stojnic | OK | OK | WARNINGS | ![UNNEEDED, same version exists in internal repository UNNEEDED, same version exists in internal repository](120px-Blue_Light_Icon.svg.png) |
PWMEnrich.Hsapiens.background 4.22.0 | Robert Stojnic | OK | OK | WARNINGS | ![UNNEEDED, same version exists in internal repository UNNEEDED, same version exists in internal repository](120px-Blue_Light_Icon.svg.png) |
PWMEnrich.Mmusculus.background 4.22.0 | Robert Stojnic | OK | OK | OK | ![UNNEEDED, same version exists in internal repository UNNEEDED, same version exists in internal repository](120px-Blue_Light_Icon.svg.png) |
pwrEWAS.data 1.2.0 | Stefan Graw | OK | OK | OK | ![UNNEEDED, same version exists in internal repository UNNEEDED, same version exists in internal repository](120px-Blue_Light_Icon.svg.png) |
QDNAseq.hg19 1.18.0 | Daoud Sie | OK | OK | OK | ![UNNEEDED, same version exists in internal repository UNNEEDED, same version exists in internal repository](120px-Blue_Light_Icon.svg.png) |
QDNAseq.mm10 1.18.0 | Daoud Sie | OK | OK | OK | ![UNNEEDED, same version exists in internal repository UNNEEDED, same version exists in internal repository](120px-Blue_Light_Icon.svg.png) |
qPLEXdata 1.6.0 | Kamal Kishore Developer | OK | OK | WARNINGS | ![UNNEEDED, same version exists in internal repository UNNEEDED, same version exists in internal repository](120px-Blue_Light_Icon.svg.png) |
QUBICdata 1.16.0 | Yu Zhang | OK | OK | OK | ![UNNEEDED, same version exists in internal repository UNNEEDED, same version exists in internal repository](120px-Blue_Light_Icon.svg.png) |
rcellminerData 2.10.2 | Augustin Luna , Vinodh Rajapakse | OK | OK | WARNINGS | ![UNNEEDED, same version exists in internal repository UNNEEDED, same version exists in internal repository](120px-Blue_Light_Icon.svg.png) |
RcisTarget.hg19.motifDBs.cisbpOnly.500bp 1.8.0 | Sara Aibar | OK | OK | OK | ![UNNEEDED, same version exists in internal repository UNNEEDED, same version exists in internal repository](120px-Blue_Light_Icon.svg.png) |
ReactomeGSA.data 1.2.0 | Johannes Griss | OK | OK | OK | ![UNNEEDED, same version exists in internal repository UNNEEDED, same version exists in internal repository](120px-Blue_Light_Icon.svg.png) |
RegParallel 1.6.0 | Kevin Blighe | OK | OK | OK | ![UNNEEDED, same version exists in internal repository UNNEEDED, same version exists in internal repository](120px-Blue_Light_Icon.svg.png) |
restfulSEData 1.10.0 | Bioconductor Package Maintainer | OK | OK | OK | ![UNNEEDED, same version exists in internal repository UNNEEDED, same version exists in internal repository](120px-Blue_Light_Icon.svg.png) |
RforProteomics 1.26.0 | Laurent Gatto | OK | ERROR | skipped | |
RGMQLlib 1.8.0 | Simone Pallotta | OK | OK | OK | ![UNNEEDED, same version exists in internal repository UNNEEDED, same version exists in internal repository](120px-Blue_Light_Icon.svg.png) |
rheumaticConditionWOLLBOLD 1.26.0 | Alejandro Quiroz-Zarate | OK | OK | OK | ![UNNEEDED, same version exists in internal repository UNNEEDED, same version exists in internal repository](120px-Blue_Light_Icon.svg.png) |
RIPSeekerData 1.24.0 | Alejandro Reyes | OK | OK | WARNINGS | ![UNNEEDED, same version exists in internal repository UNNEEDED, same version exists in internal repository](120px-Blue_Light_Icon.svg.png) |
RITANdata 1.12.0 | Michael Zimmermann | OK | OK | OK | ![UNNEEDED, same version exists in internal repository UNNEEDED, same version exists in internal repository](120px-Blue_Light_Icon.svg.png) |
RMassBankData 1.26.0 | Michael Stravs, Emma Schymanski | OK | OK | OK | ![UNNEEDED, same version exists in internal repository UNNEEDED, same version exists in internal repository](120px-Blue_Light_Icon.svg.png) |
RNAinteractMAPK 1.26.0 | Bernd Fischer | OK | ERROR | skipped | |
RNAmodR.Data 1.2.0 | Felix G.M. Ernst | OK | OK | OK | ![UNNEEDED, same version exists in internal repository UNNEEDED, same version exists in internal repository](120px-Blue_Light_Icon.svg.png) |
RNAseqData.HNRNPC.bam.chr14 0.26.0 | HervĆ© PagĆØs | OK | OK | OK | ![UNNEEDED, same version exists in internal repository UNNEEDED, same version exists in internal repository](120px-Blue_Light_Icon.svg.png) |
RNASeqRData 1.6.0 | Kuan-Hao Chao | OK | OK | OK | ![UNNEEDED, same version exists in internal repository UNNEEDED, same version exists in internal repository](120px-Blue_Light_Icon.svg.png) |
RnaSeqSampleSizeData 1.20.0 | Shilin Zhao | OK | OK | OK | ![UNNEEDED, same version exists in internal repository UNNEEDED, same version exists in internal repository](120px-Blue_Light_Icon.svg.png) |
RnBeads.hg19 1.20.0 | RnBeadsAnnotationCreator | OK | OK | WARNINGS | ![UNNEEDED, same version exists in internal repository UNNEEDED, same version exists in internal repository](120px-Blue_Light_Icon.svg.png) |
RnBeads.hg38 1.20.0 | RnBeadsAnnotationCreator | OK | OK | OK | ![UNNEEDED, same version exists in internal repository UNNEEDED, same version exists in internal repository](120px-Blue_Light_Icon.svg.png) |
RnBeads.mm10 1.20.0 | RnBeadsAnnotationCreator | OK | OK | OK | ![UNNEEDED, same version exists in internal repository UNNEEDED, same version exists in internal repository](120px-Blue_Light_Icon.svg.png) |
RnBeads.mm9 1.20.0 | RnBeadsAnnotationCreator | OK | OK | WARNINGS | ![UNNEEDED, same version exists in internal repository UNNEEDED, same version exists in internal repository](120px-Blue_Light_Icon.svg.png) |
RnBeads.rn5 1.20.0 | RnBeadsAnnotationCreator | OK | OK | OK | ![UNNEEDED, same version exists in internal repository UNNEEDED, same version exists in internal repository](120px-Blue_Light_Icon.svg.png) |
RRBSdata 1.8.0 | Katja Hebestreit | OK | OK | OK | ![UNNEEDED, same version exists in internal repository UNNEEDED, same version exists in internal repository](120px-Blue_Light_Icon.svg.png) |
rRDPData 1.8.0 | Michael Hahsler | OK | OK | OK | ![UNNEEDED, same version exists in internal repository UNNEEDED, same version exists in internal repository](120px-Blue_Light_Icon.svg.png) |
RTCGA.clinical 20151101.18.0 | Marcin Kosinski | OK | OK | OK | ![UNNEEDED, same version exists in internal repository UNNEEDED, same version exists in internal repository](120px-Blue_Light_Icon.svg.png) |
RTCGA.CNV 1.16.0 | Marcin Kosinski | OK | OK | OK | ![UNNEEDED, same version exists in internal repository UNNEEDED, same version exists in internal repository](120px-Blue_Light_Icon.svg.png) |
RTCGA.methylation 1.16.0 | Marcin Kosinski | OK | OK | OK | ![UNNEEDED, same version exists in internal repository UNNEEDED, same version exists in internal repository](120px-Blue_Light_Icon.svg.png) |
RTCGA.miRNASeq 1.16.0 | Marcin Kosinski | OK | OK | OK | ![UNNEEDED, same version exists in internal repository UNNEEDED, same version exists in internal repository](120px-Blue_Light_Icon.svg.png) |
RTCGA.mRNA 1.16.0 | Marcin Kosinski | OK | OK | OK | ![UNNEEDED, same version exists in internal repository UNNEEDED, same version exists in internal repository](120px-Blue_Light_Icon.svg.png) |
RTCGA.mutations 20151101.18.0 | Marcin Kosinski | OK | OK | OK | ![UNNEEDED, same version exists in internal repository UNNEEDED, same version exists in internal repository](120px-Blue_Light_Icon.svg.png) |
RTCGA.PANCAN12 1.16.0 | Marcin Kosinski | OK | OK | OK | ![UNNEEDED, same version exists in internal repository UNNEEDED, same version exists in internal repository](120px-Blue_Light_Icon.svg.png) |
RTCGA.rnaseq 20151101.18.0 | Marcin Kosinski | OK | OK | OK | ![UNNEEDED, same version exists in internal repository UNNEEDED, same version exists in internal repository](120px-Blue_Light_Icon.svg.png) |
RTCGA.RPPA 1.16.0 | Marcin Kosinski | OK | OK | OK | ![UNNEEDED, same version exists in internal repository UNNEEDED, same version exists in internal repository](120px-Blue_Light_Icon.svg.png) |
RUVnormalizeData 1.8.0 | Laurent Jacob | OK | OK | OK | ![UNNEEDED, same version exists in internal repository UNNEEDED, same version exists in internal repository](120px-Blue_Light_Icon.svg.png) |
sampleClassifierData 1.12.0 | Khadija El Amrani | OK | OK | OK | ![UNNEEDED, same version exists in internal repository UNNEEDED, same version exists in internal repository](120px-Blue_Light_Icon.svg.png) |
SBGNview.data 1.2.0 | Xiaoxi Dong | OK | OK | OK | ![UNNEEDED, same version exists in internal repository UNNEEDED, same version exists in internal repository](120px-Blue_Light_Icon.svg.png) |
SCLCBam 1.20.0 | Oscar Krijgsman | OK | OK | OK | ![UNNEEDED, same version exists in internal repository UNNEEDED, same version exists in internal repository](120px-Blue_Light_Icon.svg.png) |
scRNAseq 2.2.0 | Aaron Lun | OK | OK | OK | ![UNNEEDED, same version exists in internal repository UNNEEDED, same version exists in internal repository](120px-Blue_Light_Icon.svg.png) |
scTHI.data 1.0.0 | Michele Ceccarelli | OK | OK | OK | ![UNNEEDED, same version exists in internal repository UNNEEDED, same version exists in internal repository](120px-Blue_Light_Icon.svg.png) |
seq2pathway.data 1.20.0 | Xinan Holly Yang | OK | OK | WARNINGS | ![UNNEEDED, same version exists in internal repository UNNEEDED, same version exists in internal repository](120px-Blue_Light_Icon.svg.png) |
seqc 1.22.0 | Yang Liao and Wei Shi | OK | OK | OK | ![UNNEEDED, same version exists in internal repository UNNEEDED, same version exists in internal repository](120px-Blue_Light_Icon.svg.png) |
seqCNA.annot 1.24.0 | David Mosen-Ansorena | OK | OK | OK | ![UNNEEDED, same version exists in internal repository UNNEEDED, same version exists in internal repository](120px-Blue_Light_Icon.svg.png) |
serumStimulation 1.24.0 | Morten Hansen, | OK | OK | OK | ![UNNEEDED, same version exists in internal repository UNNEEDED, same version exists in internal repository](120px-Blue_Light_Icon.svg.png) |
sesameData 1.6.0 | Wanding Zhou | OK | OK | OK | ![UNNEEDED, same version exists in internal repository UNNEEDED, same version exists in internal repository](120px-Blue_Light_Icon.svg.png) |
seventyGeneData 1.24.0 | Luigi Marchionni | OK | OK | OK | ![UNNEEDED, same version exists in internal repository UNNEEDED, same version exists in internal repository](120px-Blue_Light_Icon.svg.png) |
shinyMethylData 1.8.0 | Jean-Philippe Fortin | OK | OK | OK | ![UNNEEDED, same version exists in internal repository UNNEEDED, same version exists in internal repository](120px-Blue_Light_Icon.svg.png) |
signatureSearchData 1.2.2 | Yuzhu Duan | OK | OK | OK | ![UNNEEDED, same version exists in internal repository UNNEEDED, same version exists in internal repository](120px-Blue_Light_Icon.svg.png) |
simpIntLists 1.24.0 | Kircicegi Korkmaz | OK | OK | WARNINGS | ![UNNEEDED, same version exists in internal repository UNNEEDED, same version exists in internal repository](120px-Blue_Light_Icon.svg.png) |
Single.mTEC.Transcriptomes 1.16.0 | Alejandro Reyes | OK | OK | OK | ![UNNEEDED, same version exists in internal repository UNNEEDED, same version exists in internal repository](120px-Blue_Light_Icon.svg.png) |
SingleCellMultiModal 1.0.0 | Marcel Ramos | OK | OK | OK | ![UNNEEDED, same version exists in internal repository UNNEEDED, same version exists in internal repository](120px-Blue_Light_Icon.svg.png) |
SNAData 1.34.0 | Denise Scholtens | OK | OK | OK | ![UNNEEDED, same version exists in internal repository UNNEEDED, same version exists in internal repository](120px-Blue_Light_Icon.svg.png) |
SNAGEEdata 1.24.0 | David Venet | OK | OK | OK | ![UNNEEDED, same version exists in internal repository UNNEEDED, same version exists in internal repository](120px-Blue_Light_Icon.svg.png) |
SNPhoodData 1.18.0 | Christian Arnold | OK | OK | OK | ![UNNEEDED, same version exists in internal repository UNNEEDED, same version exists in internal repository](120px-Blue_Light_Icon.svg.png) |
SomatiCAData 1.26.0 | Mengjie Chen | OK | OK | WARNINGS | ![UNNEEDED, same version exists in internal repository UNNEEDED, same version exists in internal repository](120px-Blue_Light_Icon.svg.png) |
SomaticCancerAlterations 1.24.0 | Julian Gehring | OK | OK | WARNINGS | ![UNNEEDED, same version exists in internal repository UNNEEDED, same version exists in internal repository](120px-Blue_Light_Icon.svg.png) |
spatialLIBD 1.0.0 | Leonardo Collado-Torres | OK | OK | ERROR | |
SpikeIn 1.30.0 | Rafael A. Irizarry | OK | OK | WARNINGS | ![UNNEEDED, same version exists in internal repository UNNEEDED, same version exists in internal repository](120px-Blue_Light_Icon.svg.png) |
SpikeInSubset 1.28.0 | Rafael A. Irizarry | OK | OK | WARNINGS | ![UNNEEDED, same version exists in internal repository UNNEEDED, same version exists in internal repository](120px-Blue_Light_Icon.svg.png) |
spqnData 1.0.0 | Yi Wang | OK | OK | OK | ![UNNEEDED, same version exists in internal repository UNNEEDED, same version exists in internal repository](120px-Blue_Light_Icon.svg.png) |
stemHypoxia 1.24.0 | Cristobal Fresno | OK | OK | OK | ![UNNEEDED, same version exists in internal repository UNNEEDED, same version exists in internal repository](120px-Blue_Light_Icon.svg.png) |
stjudem 1.28.0 | Joern Toedling | OK | OK | OK | ![UNNEEDED, same version exists in internal repository UNNEEDED, same version exists in internal repository](120px-Blue_Light_Icon.svg.png) |
SVM2CRMdata 1.20.0 | Guidantonio Malagoli Tagliazucchi | OK | OK | WARNINGS | ![UNNEEDED, same version exists in internal repository UNNEEDED, same version exists in internal repository](120px-Blue_Light_Icon.svg.png) |
synapterdata 1.26.0 | Laurent Gatto | OK | OK | OK | ![UNNEEDED, same version exists in internal repository UNNEEDED, same version exists in internal repository](120px-Blue_Light_Icon.svg.png) |
systemPipeRdata 1.16.2 | Thomas Girke | OK | OK | OK | ![UNNEEDED, same version exists in internal repository UNNEEDED, same version exists in internal repository](120px-Blue_Light_Icon.svg.png) |
TabulaMurisData 1.6.0 | Charlotte Soneson | OK | OK | OK | ![UNNEEDED, same version exists in internal repository UNNEEDED, same version exists in internal repository](120px-Blue_Light_Icon.svg.png) |
TargetScoreData 1.24.0 | Yue Li | OK | OK | OK | ![UNNEEDED, same version exists in internal repository UNNEEDED, same version exists in internal repository](120px-Blue_Light_Icon.svg.png) |
TargetSearchData 1.26.0 | Alvaro Cuadros-Inostroza | OK | OK | OK | ![UNNEEDED, same version exists in internal repository UNNEEDED, same version exists in internal repository](120px-Blue_Light_Icon.svg.png) |
tartare 1.2.0 | Christian Panse | OK | OK | OK | ![UNNEEDED, same version exists in internal repository UNNEEDED, same version exists in internal repository](120px-Blue_Light_Icon.svg.png) |
TBX20BamSubset 1.24.0 | D. Bindreither | OK | OK | OK | ![UNNEEDED, same version exists in internal repository UNNEEDED, same version exists in internal repository](120px-Blue_Light_Icon.svg.png) |
TCGAbiolinksGUI.data 1.8.0 | Tiago Chedraoui Silva | OK | OK | OK | ![UNNEEDED, same version exists in internal repository UNNEEDED, same version exists in internal repository](120px-Blue_Light_Icon.svg.png) |
TCGAcrcmiRNA 1.8.0 | Claudio Isella | OK | OK | OK | ![UNNEEDED, same version exists in internal repository UNNEEDED, same version exists in internal repository](120px-Blue_Light_Icon.svg.png) |
TCGAcrcmRNA 1.8.0 | Claudio Isella | OK | OK | OK | ![UNNEEDED, same version exists in internal repository UNNEEDED, same version exists in internal repository](120px-Blue_Light_Icon.svg.png) |
TCGAMethylation450k 1.24.0 | Sean Davis | OK | OK | OK | ![UNNEEDED, same version exists in internal repository UNNEEDED, same version exists in internal repository](120px-Blue_Light_Icon.svg.png) |
tcgaWGBSData.hg19 1.6.0 | Divy Kangeyan | OK | OK | OK | ![UNNEEDED, same version exists in internal repository UNNEEDED, same version exists in internal repository](120px-Blue_Light_Icon.svg.png) |
TCGAWorkflowData 1.12.0 | Tiago Chedraoui Silva | OK | OK | WARNINGS | ![UNNEEDED, same version exists in internal repository UNNEEDED, same version exists in internal repository](120px-Blue_Light_Icon.svg.png) |
TENxBrainData 1.8.0 | Bioconductor Package Maintainer | OK | OK | OK | ![UNNEEDED, same version exists in internal repository UNNEEDED, same version exists in internal repository](120px-Blue_Light_Icon.svg.png) |
TENxBUSData 1.2.1 | Lambda Moses | OK | OK | OK | ![UNNEEDED, same version exists in internal repository UNNEEDED, same version exists in internal repository](120px-Blue_Light_Icon.svg.png) |
TENxPBMCData 1.6.0 | Stephanie Hicks | OK | OK | OK | ![UNNEEDED, same version exists in internal repository UNNEEDED, same version exists in internal repository](120px-Blue_Light_Icon.svg.png) |
TimerQuant 1.18.0 | Joseph Barry | OK | OK | OK | ![UNNEEDED, same version exists in internal repository UNNEEDED, same version exists in internal repository](120px-Blue_Light_Icon.svg.png) |
tinesath1cdf 1.26.0 | Tine Casneuf | OK | OK | WARNINGS | ![UNNEEDED, same version exists in internal repository UNNEEDED, same version exists in internal repository](120px-Blue_Light_Icon.svg.png) |
tinesath1probe 1.26.0 | Tine Casneuf | OK | OK | WARNINGS | ![UNNEEDED, same version exists in internal repository UNNEEDED, same version exists in internal repository](120px-Blue_Light_Icon.svg.png) |
tissueTreg 1.8.0 | Charles Imbusch | OK | OK | OK | ![UNNEEDED, same version exists in internal repository UNNEEDED, same version exists in internal repository](120px-Blue_Light_Icon.svg.png) |
tofsimsData 1.16.0 | Lorenz Gerber | OK | OK | WARNINGS | ![UNNEEDED, same version exists in internal repository UNNEEDED, same version exists in internal repository](120px-Blue_Light_Icon.svg.png) |
topdownrdata 1.10.0 | Sebastian Gibb | OK | OK | OK | ![UNNEEDED, same version exists in internal repository UNNEEDED, same version exists in internal repository](120px-Blue_Light_Icon.svg.png) |
tweeDEseqCountData 1.26.0 | Juan R Gonzalez | OK | OK | OK | ![UNNEEDED, same version exists in internal repository UNNEEDED, same version exists in internal repository](120px-Blue_Light_Icon.svg.png) |
tximportData 1.16.0 | Michael Love | OK | OK | OK | ![UNNEEDED, same version exists in internal repository UNNEEDED, same version exists in internal repository](120px-Blue_Light_Icon.svg.png) |
VariantToolsData 1.12.0 | Michael Lawrence | OK | OK | WARNINGS | ![UNNEEDED, same version exists in internal repository UNNEEDED, same version exists in internal repository](120px-Blue_Light_Icon.svg.png) |
vulcandata 1.10.0 | Federico M. Giorgi | OK | OK | OK | ![UNNEEDED, same version exists in internal repository UNNEEDED, same version exists in internal repository](120px-Blue_Light_Icon.svg.png) |
waveTilingData 1.24.0 | Kristof De Beuf | OK | OK | WARNINGS | ![UNNEEDED, same version exists in internal repository UNNEEDED, same version exists in internal repository](120px-Blue_Light_Icon.svg.png) |
WES.1KG.WUGSC 1.20.0 | Yuchao Jiang | OK | OK | OK | ![UNNEEDED, same version exists in internal repository UNNEEDED, same version exists in internal repository](120px-Blue_Light_Icon.svg.png) |
WGSmapp 1.0.0 | Rujin Wang | OK | OK | OK | ![UNNEEDED, same version exists in internal repository UNNEEDED, same version exists in internal repository](120px-Blue_Light_Icon.svg.png) |
XhybCasneuf 1.26.0 | Tineke Casneuf | OK | OK | WARNINGS | ![UNNEEDED, same version exists in internal repository UNNEEDED, same version exists in internal repository](120px-Blue_Light_Icon.svg.png) |
yeastCC 1.28.0 | Sandrine Dudoit | OK | OK | WARNINGS | ![UNNEEDED, same version exists in internal repository UNNEEDED, same version exists in internal repository](120px-Blue_Light_Icon.svg.png) |
yeastExpData 0.34.0 | R. Gentleman | OK | OK | WARNINGS | ![UNNEEDED, same version exists in internal repository UNNEEDED, same version exists in internal repository](120px-Blue_Light_Icon.svg.png) |
yeastGSData 0.26.0 | R. Gentleman | OK | OK | WARNINGS | ![UNNEEDED, same version exists in internal repository UNNEEDED, same version exists in internal repository](120px-Blue_Light_Icon.svg.png) |
yeastNagalakshmi 1.24.0 | Bioconductor Package Maintainer | OK | OK | OK | ![UNNEEDED, same version exists in internal repository UNNEEDED, same version exists in internal repository](120px-Blue_Light_Icon.svg.png) |
yeastRNASeq 0.26.0 | J. Bullard | OK | OK | WARNINGS | ![UNNEEDED, same version exists in internal repository UNNEEDED, same version exists in internal repository](120px-Blue_Light_Icon.svg.png) |
yri1kgv 0.30.0 | VJ Carey | OK | OK | OK | ![UNNEEDED, same version exists in internal repository UNNEEDED, same version exists in internal repository](120px-Blue_Light_Icon.svg.png) |
yriMulti 0.18.0 | VJ Carey | OK | OK | WARNINGS | ![UNNEEDED, same version exists in internal repository UNNEEDED, same version exists in internal repository](120px-Blue_Light_Icon.svg.png) |
zebrafishRNASeq 1.8.0 | Davide Risso | OK | OK | OK | ![UNNEEDED, same version exists in internal repository UNNEEDED, same version exists in internal repository](120px-Blue_Light_Icon.svg.png) |