Back to Build/check report for BioC 3.11 experimental data |
This page was generated on 2020-10-15 20:45:46 -0400 (Thu, 15 Oct 2020).
TO THE DEVELOPERS/MAINTAINERS OF THE dorothea PACKAGE: Please make sure to use the following settings in order to reproduce any error or warning you see on this page. |
Package 97/391 | Hostname | OS / Arch | INSTALL | BUILD | CHECK | ||||||
dorothea 1.0.1 Christian H. Holland
| malbec2 | Linux (Ubuntu 18.04.4 LTS) / x86_64 | OK | [ OK ] | OK | ![]() |
Package: dorothea |
Version: 1.0.1 |
Command: /home/biocbuild/bbs-3.11-bioc/R/bin/R CMD build --keep-empty-dirs --no-resave-data dorothea |
StartedAt: 2020-10-15 10:18:21 -0400 (Thu, 15 Oct 2020) |
EndedAt: 2020-10-15 10:21:29 -0400 (Thu, 15 Oct 2020) |
EllapsedTime: 187.7 seconds |
RetCode: 0 |
Status: OK |
PackageFile: dorothea_1.0.1.tar.gz |
PackageFileSize: 31.31 MiB |
############################################################################## ############################################################################## ### ### Running command: ### ### /home/biocbuild/bbs-3.11-bioc/R/bin/R CMD build --keep-empty-dirs --no-resave-data dorothea ### ############################################################################## ############################################################################## * checking for file ‘dorothea/DESCRIPTION’ ... OK * preparing ‘dorothea’: * checking DESCRIPTION meta-information ... OK * installing the package to build vignettes * creating vignettes ... OK * checking for LF line-endings in source and make files and shell scripts * checking for empty or unneeded directories * building ‘dorothea_1.0.1.tar.gz’